BEGIN:VCALENDAR
VERSION:2.0
PRODID:-//Gun Owners Radio - ECPv6.15.18//NONSGML v1.0//EN
CALSCALE:GREGORIAN
METHOD:PUBLISH
X-WR-CALNAME:Gun Owners Radio
X-ORIGINAL-URL:https://gunownersradio.com
X-WR-CALDESC:Events for Gun Owners Radio
REFRESH-INTERVAL;VALUE=DURATION:PT1H
X-Robots-Tag:noindex
X-PUBLISHED-TTL:PT1H
BEGIN:VTIMEZONE
TZID:America/Los_Angeles
BEGIN:DAYLIGHT
TZOFFSETFROM:-0800
TZOFFSETTO:-0700
TZNAME:PDT
DTSTART:20240310T100000
END:DAYLIGHT
BEGIN:STANDARD
TZOFFSETFROM:-0700
TZOFFSETTO:-0800
TZNAME:PST
DTSTART:20241103T090000
END:STANDARD
BEGIN:DAYLIGHT
TZOFFSETFROM:-0800
TZOFFSETTO:-0700
TZNAME:PDT
DTSTART:20250309T100000
END:DAYLIGHT
BEGIN:STANDARD
TZOFFSETFROM:-0700
TZOFFSETTO:-0800
TZNAME:PST
DTSTART:20251102T090000
END:STANDARD
BEGIN:DAYLIGHT
TZOFFSETFROM:-0800
TZOFFSETTO:-0700
TZNAME:PDT
DTSTART:20260308T100000
END:DAYLIGHT
BEGIN:STANDARD
TZOFFSETFROM:-0700
TZOFFSETTO:-0800
TZNAME:PST
DTSTART:20261101T090000
END:STANDARD
END:VTIMEZONE
BEGIN:VEVENT
DTSTART;VALUE=DATE:20250726
DTEND;VALUE=DATE:20250727
DTSTAMP:20260425T174929
CREATED:20250514T213320Z
LAST-MODIFIED:20250514T213439Z
UID:10000370-1753488000-1753574399@gunownersradio.com
SUMMARY:
DESCRIPTION:INTRO TO MODERN OFF-GRID COMMUNICATIONS CLASS +\nStay connected & informed without cell service or wifi\nSaturday\, July 26\, 2025 | 9:30am -3:30pm\nEl Cajon\, California\n  \n  \nCommunicate Without Cell\, Wi-Fi\, or Satellite\nMost people think communication requires cell towers\, Wi-Fi\, or satellites. But when those systems fail—or you choose not to rely on them—you need a better way. \nIntro to Modern Off-Grid Communications teaches you how to send and receive information anytime\, anywhere\, using tools and techniques trusted by professionals\, preppers\, and freedom-minded civilians. \nWhether you’re preparing for emergencies or just want true comms independence\, this class gives you the practical knowledge to stay in the loop—without the grid. \nGET THE SKILLS. GET THE PRACTICE. GET THE GEAR. \nThe newest upgraded curriculum includes additional Meshtastic training! Learn how to send text messages without cell service or wifi! You can also take home your own Meshtastic communicator – simply add it to your registration below. \nINCLUDED GEAR:\nPROGRAMMED Baofeng UV-5R radio – (programmed with local repeaters and FRS channels\, ready to use!) \nOPTIONAL GEAR:\nLilygo T-Echo Off-Grid Communicator (Meshtastic Device) – add the device to your cart below when you register. \nPREREQUISITES: NONE\, just an interest in the topic and a willingness to learn.  You do not need to be HAM licensed. \n  \nSPACES LIMITED! SIGN UP TODAY!\nCan’t make the class?  Add your name to the wait list to get notified when the next course will be offered. \nJOIN THE WAITLIST \nInterested in Private Lessons?\nInquire for details. Email rich@gunownersradio.com. \n  \n  \n\n\n\n\n\n\nYour Instructor\nJohn Baldwin brings over two decades of military and government experience to the classroom\, with expertise in naval security operations and communications. \nAs a former Anti-Terrorism Force Protection Officer and a U.S. Coast Guard Licensed Captain\, John has firsthand experience with critical communications in challenging environments. His background in intelligence and project management provides a unique perspective on maintaining effective communications during emergencies and grid-down scenarios. \nHe has a Masters in Public Administration from Cal Poly and is a Licensed General HAM Operator\, and a board member of San Diego County Gun Owners. \n\n\n\n\n\n\n\n\n\nWhat you’ll learn:\nOverview of modern applications\nLearn the capabilities of modern\, off-the-shelf equipment\nLearn how to access information publicly available over the radio waves\nLearn how to setup your own off-grid google map and share your location with friends and family\nNEW: Learn how to send text messages without cell towers or wifi service \nPLUS: Lab & Practical focus on building a viable Communications Plan
URL:https://gunownersradio.com/event/46977/
LOCATION:El Cajon\, California
END:VEVENT
BEGIN:VEVENT
DTSTART;TZID=America/Los_Angeles:20250726T093000
DTEND;TZID=America/Los_Angeles:20250726T153000
DTSTAMP:20260425T174929
CREATED:20250615T233337Z
LAST-MODIFIED:20250821T235221Z
UID:10000378-1753522200-1753543800@gunownersradio.com
SUMMARY:Intro to Modern Off-Grid Communications
DESCRIPTION:What if the grid goes down?\nPeople get a CCW and learn first aid so they can be their own first responder in an emergency situation.\nWhat if that emergency situation shuts down commercial communication channels like the internet or phone service?\nIf you want to learn how to maintain communications with your friends and family and still access information publicly available over the radio waves\, then this class is for you!\nGET THE SKILLS. GET THE PRACTICE. GET THE GEAR.\nThe newest upgraded curriculum includes additional Meshtastic training! Learn how to send text messages without cell service or wifi! You can also take home your own Meshtastic communicator – simply add it to your registration below.\nINCLUDED GEAR:\nPROGRAMMED Baofeng UV-5R radio – (programmed with local repeaters and FRS channels\, ready to use!)\nOPTIONAL GEAR:\nLilygo T-Echo Off-Grid Communicator (Meshtastic Device) – add the device to your cart below when you register.\nPREREQUISITES: NONE\, just an interest in the topic and a willingness to learn.  You do not need to be HAM licensed. \nSPACES LIMITED! \nSIGN UP TODAY!
URL:https://gunownersradio.com/event/intro-to-modern-off-grid-communications-2/
LOCATION:C.A.R.G.O.\, 423 Broadway El Cajon\, CA\, El Cajon\, CA\, 92021\, United States
ATTACH;FMTTYPE=image/jpeg:https://gunownersradio.com/wp-content/uploads/2025/04/Offgrid-Comms-400-x-300-px.jpg
END:VEVENT
END:VCALENDAR