BEGIN:VCALENDAR
VERSION:2.0
PRODID:-//Gun Owners Radio - ECPv6.15.18//NONSGML v1.0//EN
CALSCALE:GREGORIAN
METHOD:PUBLISH
X-ORIGINAL-URL:https://gunownersradio.com
X-WR-CALDESC:Events for Gun Owners Radio
REFRESH-INTERVAL;VALUE=DURATION:PT1H
X-Robots-Tag:noindex
X-PUBLISHED-TTL:PT1H
BEGIN:VTIMEZONE
TZID:America/Los_Angeles
BEGIN:DAYLIGHT
TZOFFSETFROM:-0800
TZOFFSETTO:-0700
TZNAME:PDT
DTSTART:20240310T100000
END:DAYLIGHT
BEGIN:STANDARD
TZOFFSETFROM:-0700
TZOFFSETTO:-0800
TZNAME:PST
DTSTART:20241103T090000
END:STANDARD
BEGIN:DAYLIGHT
TZOFFSETFROM:-0800
TZOFFSETTO:-0700
TZNAME:PDT
DTSTART:20250309T100000
END:DAYLIGHT
BEGIN:STANDARD
TZOFFSETFROM:-0700
TZOFFSETTO:-0800
TZNAME:PST
DTSTART:20251102T090000
END:STANDARD
BEGIN:DAYLIGHT
TZOFFSETFROM:-0800
TZOFFSETTO:-0700
TZNAME:PDT
DTSTART:20260308T100000
END:DAYLIGHT
BEGIN:STANDARD
TZOFFSETFROM:-0700
TZOFFSETTO:-0800
TZNAME:PST
DTSTART:20261101T090000
END:STANDARD
END:VTIMEZONE
BEGIN:VEVENT
DTSTART;TZID=America/Los_Angeles:20250903T080000
DTEND;TZID=America/Los_Angeles:20250907T170000
DTSTAMP:20260425T134813
CREATED:20250618T235923Z
LAST-MODIFIED:20250906T220822Z
UID:10000380-1756886400-1757264400@gunownersradio.com
SUMMARY:MAStering Self Defense Week
DESCRIPTION:Massad Ayoob is a renowned firearms instructor\, expert witness\, and author who has written extensively about self-defense\, law enforcement\, and responsible gun ownership since the 1970s. \nAnd he’s returning to San Diego! \nWe’re excited to offer this amazing opportunity to train with a peerless thought leader\, instructor and advocate for the Second Amendment. \nJoin the welcome dinner\, the livefire MAG20 class\, or the MAG20 Classroom training: Armed Citizen’s Rules of Engagement! \nPrices:\nMAG40 (Sep 4-7): $1120\nMAG20 Livefire (Sep 4\, 5): $620\nMAG20 Classroom (Sep 6\,7): $500 \nProcessing fees not included \nREGISTER HERE
URL:https://gunownersradio.com/event/mastering-self-defense-week/
LOCATION:Lemon Grove Rod & Gun Club
ATTACH;FMTTYPE=image/png:https://gunownersradio.com/wp-content/uploads/2025/06/MAG-Ticket-logo.png
END:VEVENT
BEGIN:VEVENT
DTSTART;TZID=America/Los_Angeles:20250906T090000
DTEND;TZID=America/Los_Angeles:20250906T123000
DTSTAMP:20260425T134813
CREATED:20250821T235602Z
LAST-MODIFIED:20250906T220809Z
UID:10000383-1757149200-1757161800@gunownersradio.com
SUMMARY:Off Grid Comms Field Training
DESCRIPTION:📡 Field Training Alert: Rooster Recon – Live Exercise in Balboa Park 🚨\nCalling all graduates of Intro to Off Grid Communications — it’s time to take your training to the next level.\nJoin us Saturday\, September 6th\, 2025 from 09:00AM–12:30PM PST in Balboa Park\, San Diego for a high-impact Field Communications Training Exercise designed to sharpen your real-world radio and recon skills.\nThis is not a classroom. This is the field.\nYou’ll be applying the tools and techniques you learned in class — and going further — with hands-on modules in:\n•    🛰️ Aerial drone reconnaissance\n•    🧭 Intelligence gathering & situational reporting\n•    📋 Communications planning under simulated conditions\n•    📻 Mesh & HAM Radio drills with live check-ins\nWhether you’re looking to tighten your comms\, gain real-world confidence\, or work shoulder-to-shoulder with your fellow Rooster Net operatives — this is where it happens.\nSpots are limited. Bring your gear. Be mission ready. \n🦅 Rooster Recon is a go. Are you in?
URL:https://gunownersradio.com/event/off-grid-comms-field-training/
LOCATION:Balboa Park\, San Diego\, California
ATTACH;FMTTYPE=image/png:https://gunownersradio.com/wp-content/uploads/2025/07/2B874375-8742-4C54-887C-54F81DBFD388.png
END:VEVENT
BEGIN:VEVENT
DTSTART;TZID=America/Los_Angeles:20250906T090000
DTEND;TZID=America/Los_Angeles:20250906T170000
DTSTAMP:20260425T134813
CREATED:20250829T041003Z
LAST-MODIFIED:20250829T041003Z
UID:10000385-1757149200-1757178000@gunownersradio.com
SUMMARY:September Gun Show
DESCRIPTION:The Gun Show is one of the biggest events of the year and we need YOUR help to ensure its success. There are many opportunities to support the Gun Show. Please sign up and we look forward to seeing you there. All volunteers will get free admission.
URL:https://gunownersradio.com/event/september-gun-show/
LOCATION:California Center for the Arts\, Escondido\, 340 N Escondido Blvd\, Escondido\, CA\, 92025\, United States
CATEGORIES:San Diego County Gun Owners,SDCGO Events
ATTACH;FMTTYPE=image/jpeg:https://gunownersradio.com/wp-content/uploads/2025/03/920-scaled-ChtksC.tmp_.jpg
ORGANIZER;CN="San Diego County Gun Owners":MAILTO:desiree@notmesd.org
END:VEVENT
END:VCALENDAR