BEGIN:VCALENDAR
VERSION:2.0
PRODID:-//Gun Owners Radio - ECPv6.15.18//NONSGML v1.0//EN
CALSCALE:GREGORIAN
METHOD:PUBLISH
X-WR-CALNAME:Gun Owners Radio
X-ORIGINAL-URL:https://gunownersradio.com
X-WR-CALDESC:Events for Gun Owners Radio
REFRESH-INTERVAL;VALUE=DURATION:PT1H
X-Robots-Tag:noindex
X-PUBLISHED-TTL:PT1H
BEGIN:VTIMEZONE
TZID:UTC
BEGIN:STANDARD
TZOFFSETFROM:+0000
TZOFFSETTO:+0000
TZNAME:UTC
DTSTART:20220101T000000
END:STANDARD
END:VTIMEZONE
BEGIN:VEVENT
DTSTART;TZID=UTC:20230517T190000
DTEND;TZID=UTC:20230517T200000
DTSTAMP:20260424T202550
CREATED:20230222T135042Z
LAST-MODIFIED:20230222T135042Z
UID:10000132-1684350000-1684353600@gunownersradio.com
SUMMARY:Virtual CCW Seminar – Riverside County
DESCRIPTION:
URL:https://gunownersradio.com/event/virtual-ccw-seminar-riverside-county-4/
CATEGORIES:CCW Seminars,Inland Empire Gun Owners,Riverside
END:VEVENT
BEGIN:VEVENT
DTSTART;TZID=UTC:20230510T190000
DTEND;TZID=UTC:20230510T200000
DTSTAMP:20260424T202550
CREATED:20230222T135042Z
LAST-MODIFIED:20230222T135042Z
UID:10000131-1683745200-1683748800@gunownersradio.com
SUMMARY:Virtual CCW Seminar – San Bernardino County
DESCRIPTION:
URL:https://gunownersradio.com/event/virtual-ccw-seminar-san-bernardino-county-4/
CATEGORIES:CCW Seminars,Inland Empire Gun Owners,San Bernardino
END:VEVENT
BEGIN:VEVENT
DTSTART;TZID=UTC:20230419T190000
DTEND;TZID=UTC:20230419T200000
DTSTAMP:20260424T202550
CREATED:20230213T201839Z
LAST-MODIFIED:20230213T201839Z
UID:10000085-1681930800-1681934400@gunownersradio.com
SUMMARY:Virtual CCW Seminar – Riverside County
DESCRIPTION:
URL:https://gunownersradio.com/event/virtual-ccw-seminar-riverside-county-3/
CATEGORIES:CCW Seminars,Riverside
END:VEVENT
BEGIN:VEVENT
DTSTART;TZID=UTC:20230412T190000
DTEND;TZID=UTC:20230412T200000
DTSTAMP:20260424T202550
CREATED:20230213T201839Z
LAST-MODIFIED:20230213T201839Z
UID:10000084-1681326000-1681329600@gunownersradio.com
SUMMARY:Virtual CCW Seminar – San Bernardino County
DESCRIPTION:
URL:https://gunownersradio.com/event/virtual-ccw-seminar-san-bernardino-county-3/
CATEGORIES:CCW Seminars,San Bernardino
END:VEVENT
BEGIN:VEVENT
DTSTART;TZID=UTC:20230315T190000
DTEND;TZID=UTC:20230315T200000
DTSTAMP:20260424T202550
CREATED:20230213T201838Z
LAST-MODIFIED:20230213T201838Z
UID:10000081-1678906800-1678910400@gunownersradio.com
SUMMARY:Virtual CCW Seminar – Riverside County
DESCRIPTION:
URL:https://gunownersradio.com/event/virtual-ccw-seminar-riverside-county-2/
CATEGORIES:CCW Seminars,Riverside
END:VEVENT
BEGIN:VEVENT
DTSTART;TZID=UTC:20230308T190000
DTEND;TZID=UTC:20230308T200000
DTSTAMP:20260424T202550
CREATED:20230213T201837Z
LAST-MODIFIED:20230213T201837Z
UID:10000079-1678302000-1678305600@gunownersradio.com
SUMMARY:Virtual CCW Seminar – San Bernardino County
DESCRIPTION:
URL:https://gunownersradio.com/event/virtual-ccw-seminar-san-bernardino-county-2/
CATEGORIES:CCW Seminars,San Bernardino
END:VEVENT
BEGIN:VEVENT
DTSTART;TZID=UTC:20230215T190000
DTEND;TZID=UTC:20230215T200000
DTSTAMP:20260424T202550
CREATED:20230213T201824Z
LAST-MODIFIED:20230213T201824Z
UID:10000075-1676487600-1676491200@gunownersradio.com
SUMMARY:Virtual CCW Seminar – Riverside County
DESCRIPTION:
URL:https://gunownersradio.com/event/virtual-ccw-seminar-riverside-county/
CATEGORIES:CCW Seminars,Riverside
ATTACH;FMTTYPE=image/png:https://gunownersradio.com/wp-content/uploads/2023/02/February-2023-Riverside-CCW-Seminar-LHlcUj.tmp_.png
END:VEVENT
BEGIN:VEVENT
DTSTART;TZID=UTC:20230208T190000
DTEND;TZID=UTC:20230208T200000
DTSTAMP:20260424T202550
CREATED:20230213T201816Z
LAST-MODIFIED:20230213T201816Z
UID:10000074-1675882800-1675886400@gunownersradio.com
SUMMARY:Virtual CCW Seminar – San Bernardino County
DESCRIPTION:
URL:https://gunownersradio.com/event/virtual-ccw-seminar-san-bernardino-county/
CATEGORIES:CCW Seminars,San Bernardino
ATTACH;FMTTYPE=image/png:https://gunownersradio.com/wp-content/uploads/2023/02/February-2023-San-Bernardino-CCW-Seminar-Ye4sxi.tmp_.png
END:VEVENT
END:VCALENDAR