BEGIN:VCALENDAR
VERSION:2.0
PRODID:-//Gun Owners Radio - ECPv6.15.18//NONSGML v1.0//EN
CALSCALE:GREGORIAN
METHOD:PUBLISH
X-WR-CALNAME:Gun Owners Radio
X-ORIGINAL-URL:https://gunownersradio.com
X-WR-CALDESC:Events for Gun Owners Radio
REFRESH-INTERVAL;VALUE=DURATION:PT1H
X-Robots-Tag:noindex
X-PUBLISHED-TTL:PT1H
BEGIN:VTIMEZONE
TZID:America/Los_Angeles
BEGIN:DAYLIGHT
TZOFFSETFROM:-0800
TZOFFSETTO:-0700
TZNAME:PDT
DTSTART:20250309T100000
END:DAYLIGHT
BEGIN:STANDARD
TZOFFSETFROM:-0700
TZOFFSETTO:-0800
TZNAME:PST
DTSTART:20251102T090000
END:STANDARD
BEGIN:DAYLIGHT
TZOFFSETFROM:-0800
TZOFFSETTO:-0700
TZNAME:PDT
DTSTART:20260308T100000
END:DAYLIGHT
BEGIN:STANDARD
TZOFFSETFROM:-0700
TZOFFSETTO:-0800
TZNAME:PST
DTSTART:20261101T090000
END:STANDARD
BEGIN:DAYLIGHT
TZOFFSETFROM:-0800
TZOFFSETTO:-0700
TZNAME:PDT
DTSTART:20270314T100000
END:DAYLIGHT
BEGIN:STANDARD
TZOFFSETFROM:-0700
TZOFFSETTO:-0800
TZNAME:PST
DTSTART:20271107T090000
END:STANDARD
END:VTIMEZONE
BEGIN:VEVENT
DTSTART;TZID=America/Los_Angeles:20260401T080000
DTEND;TZID=America/Los_Angeles:20260430T170000
DTSTAMP:20260425T092222
CREATED:20260311T013649Z
LAST-MODIFIED:20260311T013649Z
UID:10000700-1775030400-1777568400@gunownersradio.com
SUMMARY:Sexual Assault Awareness Month
DESCRIPTION:Sexual Assault Awareness Month\, observed each April\, is a campaign dedicated to raising awareness about sexual violence\, its causes\, and risk factors. It aims to educate communities\, promote prevention strategies\, and empower individuals to take action in creating safer environments. \n\nIn San Diego\, an average of three women are raped each day.\nOne in three women will experience sexual assault in her lifetime.\n91% of rape and sexual assault victims are women.\nIn 80% of rape cases\, the victim knows the perpetrator.\nRape is the most underreported crime—63% of sexual assaults go unreported to law enforcement.\n\nNotMeSD is contributing to Sexual Assault Awareness Month this April by offering a series of training classes designed to equip individuals with the knowledge and skills to enhance personal safety and reduce the risk of victimization. These classes include: \n\nPepper Spray & Situational Awareness Month\nNotMeSD Shooting Social\nWomen’s Firearms Safety & Responsible Ownership\n\nLearn more and register for the events
URL:https://gunownersradio.com/event/sexual-assault-awareness-month/
CATEGORIES:Featured
ATTACH;FMTTYPE=image/webp:https://gunownersradio.com/wp-content/uploads/2026/03/NotMeSD.png.webp
ORGANIZER;CN="NotMeSD":MAILTO:desiree@notmesd.org
END:VEVENT
BEGIN:VEVENT
DTSTART;TZID=America/Los_Angeles:20260509T170000
DTEND;TZID=America/Los_Angeles:20260509T220000
DTSTAMP:20260425T092222
CREATED:20260324T003003Z
LAST-MODIFIED:20260407T194455Z
UID:10000719-1778346000-1778364000@gunownersradio.com
SUMMARY:Gun Prom
DESCRIPTION:Step into a Roaring ’20s night filled with abundance. \nSavor a cocktail hour with curated hors d’oeuvres\, followed by a sumptuous three-course dual-entrée dinner\, live music\, and vibrant silent and live auctions. \nEat\, drink\, and celebrate—this will be a night of glamour and purpose. \nPlease RSVP to join the soirée—your host will provide the payment options to complete your reservation.
URL:https://gunownersradio.com/event/gun-prom-2/
LOCATION:California Center for the Arts\, Escondido\, 340 N Escondido Blvd\, Escondido\, CA\, 92025\, United States
CATEGORIES:Featured,San Diego County Gun Owners,SDCGO Events
ATTACH;FMTTYPE=image/jpeg:https://gunownersradio.com/wp-content/uploads/2026/03/gunprom.com_-pdf-38wHP4.jpg
END:VEVENT
BEGIN:VEVENT
DTSTART;TZID=America/Los_Angeles:20260530T093000
DTEND;TZID=America/Los_Angeles:20260530T153000
DTSTAMP:20260425T092222
CREATED:20260329T185817Z
LAST-MODIFIED:20260407T194408Z
UID:10000720-1780133400-1780155000@gunownersradio.com
SUMMARY:Stay Informed When Others Aren't: Tactical Communications & Signal Intelligence
DESCRIPTION:Stay informed when others aren’t. This hands-on training focuses on monitoring and interpreting real-world radio signals — learning to pick up transmissions happening all around you and developing situational awareness when traditional communications fail. \nWhat You’ll Learn: \n\nRadio signal monitoring using modern\, accessible tools\nTransmission identification and interpretation\nReal-time awareness during communications disruptions or network failures\nMeshtastic encrypted messaging via peer-to-peer mesh networks\n\nInstructor: John Baldwin — former Anti-Terrorism Force Protection Officer\, U.S. Coast Guard Licensed Captain\, with 20+ years of military and government experience in naval security and communications. \nPrerequisites: None. No HAM license required. \nRecommended Gear (optional): \n\nBaofeng UV-5R radio (pre-programmed units available in limited quantity)\nLilygo T-Echo Meshtastic device\n\nAttendees should bring their own lunch. Space is limited. \nRegister Now →
URL:https://gunownersradio.com/event/stay-informed-when-others-arent-tactical-communications-signal-intelligence/
LOCATION:C.A.R.G.O. – Cases and Rugged Gear Outfitters\, 423 Broadway\, El Cajon\, CA\, 92021\, US
CATEGORIES:Featured
ATTACH;FMTTYPE=image/png:https://gunownersradio.com/wp-content/uploads/2026/03/taccomsigint.png
END:VEVENT
BEGIN:VEVENT
DTSTART;TZID=America/Los_Angeles:20260711T083000
DTEND;TZID=America/Los_Angeles:20260715T193000
DTSTAMP:20260425T092222
CREATED:20251110T232025Z
LAST-MODIFIED:20260220T123958Z
UID:10000407-1783758600-1784143800@gunownersradio.com
SUMMARY:Deadly Force Instructor Course with Massad Ayoob
DESCRIPTION:Teaching how to shoot is the easy part. Much tougher is teaching people when and when not to use force\, including deadly force\, in self-defense. \nThe Deadly Force Instructor Course with Massad Ayoob gives professionals the tools\, language\, and authority to teach or testify with confidence when lives and careers are on the line. You’ll learn how to articulate the “why” behind every defensive action\, turning complex legal and tactical issues into clear\, defensible decisions. When the stakes are highest\, be the expert everyone looks to for answers. \nThis course is classroom only\, there will be no live fire. \nLEARN MORE & SIGN UP HERE
URL:https://gunownersradio.com/event/deadly-force-instructor-course-with-massad-ayoob/
LOCATION:Discount Gun Mart\, 1510 Morena Blvd\, San Diego\, CA\, 92115\, United States
CATEGORIES:County,Featured
ATTACH;FMTTYPE=image/png:https://gunownersradio.com/wp-content/uploads/2025/11/DFI-Social-Media-Image.png
END:VEVENT
END:VCALENDAR