BEGIN:VCALENDAR
VERSION:2.0
PRODID:-//Gun Owners Radio - ECPv6.15.18//NONSGML v1.0//EN
CALSCALE:GREGORIAN
METHOD:PUBLISH
X-ORIGINAL-URL:https://gunownersradio.com
X-WR-CALDESC:Events for Gun Owners Radio
REFRESH-INTERVAL;VALUE=DURATION:PT1H
X-Robots-Tag:noindex
X-PUBLISHED-TTL:PT1H
BEGIN:VTIMEZONE
TZID:UTC
BEGIN:STANDARD
TZOFFSETFROM:+0000
TZOFFSETTO:+0000
TZNAME:UTC
DTSTART:20220101T000000
END:STANDARD
END:VTIMEZONE
BEGIN:VEVENT
DTSTART;TZID=UTC:20231111T080000
DTEND;TZID=UTC:20231112T170000
DTSTAMP:20260424T182351
CREATED:20230816T005144Z
LAST-MODIFIED:20230816T005144Z
UID:10000218-1699689600-1699808400@gunownersradio.com
SUMMARY:San Bernardino Gun Show
DESCRIPTION:
URL:https://gunownersradio.com/event/san-bernardino-gun-show/
LOCATION:National Orange Show Grounds – San Bernardino\, CA\, 689 S E St\, San Bernardino\, CA\, 92408\, United States
CATEGORIES:Booths,Gun Shows,Inland Empire Gun Owners,Riverside,San Bernardino
END:VEVENT
BEGIN:VEVENT
DTSTART;TZID=UTC:20230930T080000
DTEND;TZID=UTC:20231001T170000
DTSTAMP:20260424T182351
CREATED:20230703T025744Z
LAST-MODIFIED:20230703T025744Z
UID:10000203-1696060800-1696179600@gunownersradio.com
SUMMARY:Ontario Gun Show
DESCRIPTION:
URL:https://gunownersradio.com/event/ontario-gun-show-2/
LOCATION:Ontario Convention Center\, 2000 E Convention Center Way\, Ontario\, CA\, 91764\, United States
CATEGORIES:Booths,Gun Shows,Inland Empire Gun Owners,Riverside,San Bernardino
END:VEVENT
BEGIN:VEVENT
DTSTART;TZID=UTC:20230805T080000
DTEND;TZID=UTC:20230806T170000
DTSTAMP:20260424T182351
CREATED:20230520T185042Z
LAST-MODIFIED:20230520T185042Z
UID:10000167-1691222400-1691341200@gunownersradio.com
SUMMARY:Ontario Gun Show
DESCRIPTION:
URL:https://gunownersradio.com/event/ontario-gun-show/
LOCATION:Ontario Convention Center\, 2000 E Convention Center Way\, Ontario\, CA\, 91764\, United States
CATEGORIES:Booths,Gun Shows,Inland Empire Gun Owners,Riverside,San Bernardino
END:VEVENT
BEGIN:VEVENT
DTSTART;TZID=UTC:20230604T100000
DTEND;TZID=UTC:20230604T160000
DTSTAMP:20260424T182351
CREATED:20230520T185042Z
LAST-MODIFIED:20230520T185042Z
UID:10000166-1685872800-1685894400@gunownersradio.com
SUMMARY:Tabletop Steve McQueen Car and Motorcycle Show
DESCRIPTION:
URL:https://gunownersradio.com/event/tabletop-steve-mcqueen-car-and-motorcycle-show/
LOCATION:Boys Republic\, 1907 Boys Republic Drive\, Chino Hills\, CA\, 91709\, United States
CATEGORIES:Booths,Inland Empire Gun Owners,Riverside,San Bernardino,Table Tops
END:VEVENT
BEGIN:VEVENT
DTSTART;TZID=UTC:20230517T190000
DTEND;TZID=UTC:20230517T200000
DTSTAMP:20260424T182351
CREATED:20230222T135042Z
LAST-MODIFIED:20230222T135042Z
UID:10000132-1684350000-1684353600@gunownersradio.com
SUMMARY:Virtual CCW Seminar – Riverside County
DESCRIPTION:
URL:https://gunownersradio.com/event/virtual-ccw-seminar-riverside-county-4/
CATEGORIES:CCW Seminars,Inland Empire Gun Owners,Riverside
END:VEVENT
BEGIN:VEVENT
DTSTART;TZID=UTC:20230510T190000
DTEND;TZID=UTC:20230510T200000
DTSTAMP:20260424T182351
CREATED:20230222T135042Z
LAST-MODIFIED:20230222T135042Z
UID:10000131-1683745200-1683748800@gunownersradio.com
SUMMARY:Virtual CCW Seminar – San Bernardino County
DESCRIPTION:
URL:https://gunownersradio.com/event/virtual-ccw-seminar-san-bernardino-county-4/
CATEGORIES:CCW Seminars,Inland Empire Gun Owners,San Bernardino
END:VEVENT
BEGIN:VEVENT
DTSTART;TZID=UTC:20230506T100000
DTEND;TZID=UTC:20230506T160000
DTSTAMP:20260424T182351
CREATED:20230222T135050Z
LAST-MODIFIED:20230222T135050Z
UID:10000134-1683367200-1683388800@gunownersradio.com
SUMMARY:Tabletop Iron Goddess Motorcycle Show
DESCRIPTION:
URL:https://gunownersradio.com/event/tabletop-iron-goddess-motorcycle-show/
LOCATION:66ers Baseball Stadium\, 280 South E Street\, San Bernardino\, CA\, 92401\, United States
CATEGORIES:Booths,Inland Empire Gun Owners,Riverside,San Bernardino,Table Tops
END:VEVENT
BEGIN:VEVENT
DTSTART;TZID=UTC:20230304T080000
DTEND;TZID=UTC:20230304T110000
DTSTAMP:20260424T182351
CREATED:20230222T135042Z
LAST-MODIFIED:20230222T135042Z
UID:10000133-1677916800-1677927600@gunownersradio.com
SUMMARY:New Shooter Social March 2023
DESCRIPTION:
URL:https://gunownersradio.com/event/new-shooter-social-march-2023/
LOCATION:Rainbow Shooting Club\, 3139 Rainbow Valley Blvd\, Fallbrook\, CA\, 92028\, United States
CATEGORIES:Inland Empire Gun Owners,Riverside,San Bernardino,Shooting Socials
ATTACH;FMTTYPE=image/png:https://gunownersradio.com/wp-content/uploads/2023/02/New-Shooter-IE-Shooting-Social-030423-t4ZTa3.tmp_.png
END:VEVENT
END:VCALENDAR