BEGIN:VCALENDAR
VERSION:2.0
PRODID:-//Gun Owners Radio - ECPv6.15.18//NONSGML v1.0//EN
CALSCALE:GREGORIAN
METHOD:PUBLISH
X-ORIGINAL-URL:https://gunownersradio.com
X-WR-CALDESC:Events for Gun Owners Radio
REFRESH-INTERVAL;VALUE=DURATION:PT1H
X-Robots-Tag:noindex
X-PUBLISHED-TTL:PT1H
BEGIN:VTIMEZONE
TZID:America/Los_Angeles
BEGIN:DAYLIGHT
TZOFFSETFROM:-0800
TZOFFSETTO:-0700
TZNAME:PDT
DTSTART:20220313T100000
END:DAYLIGHT
BEGIN:STANDARD
TZOFFSETFROM:-0700
TZOFFSETTO:-0800
TZNAME:PST
DTSTART:20221106T090000
END:STANDARD
BEGIN:DAYLIGHT
TZOFFSETFROM:-0800
TZOFFSETTO:-0700
TZNAME:PDT
DTSTART:20230312T100000
END:DAYLIGHT
BEGIN:STANDARD
TZOFFSETFROM:-0700
TZOFFSETTO:-0800
TZNAME:PST
DTSTART:20231105T090000
END:STANDARD
BEGIN:DAYLIGHT
TZOFFSETFROM:-0800
TZOFFSETTO:-0700
TZNAME:PDT
DTSTART:20240310T100000
END:DAYLIGHT
BEGIN:STANDARD
TZOFFSETFROM:-0700
TZOFFSETTO:-0800
TZNAME:PST
DTSTART:20241103T090000
END:STANDARD
END:VTIMEZONE
BEGIN:VEVENT
DTSTART;TZID=America/Los_Angeles:20231116T180000
DTEND;TZID=America/Los_Angeles:20231116T193000
DTSTAMP:20260425T130016
CREATED:20231101T044659Z
LAST-MODIFIED:20231101T044659Z
UID:10000254-1700157600-1700163000@gunownersradio.com
SUMMARY:November Monthly Meeting- South
DESCRIPTION:
URL:https://gunownersradio.com/event/november-monthly-meeting-south/
LOCATION:La Bella Pizza Garden\, 373 3rd Ave\, Chula Vista\, CA\, 91910\, United States
CATEGORIES:Monthly Meetings,San Diego County Gun Owners,SDCGO Events
ATTACH;FMTTYPE=image/jpeg:https://gunownersradio.com/wp-content/uploads/2023/10/Nov_South_1_v01-7dn7BL.tmp_.jpg
ORGANIZER;CN="San Diego County Gun Owners":MAILTO:desiree@notmesd.org
END:VEVENT
BEGIN:VEVENT
DTSTART;TZID=America/Los_Angeles:20231115T180000
DTEND;TZID=America/Los_Angeles:20231115T193000
DTSTAMP:20260425T130016
CREATED:20231101T044653Z
LAST-MODIFIED:20231101T044653Z
UID:10000253-1700071200-1700076600@gunownersradio.com
SUMMARY:November Monthly Meeting -Central
DESCRIPTION:
URL:https://gunownersradio.com/event/november-monthly-meeting-central/
LOCATION:Poway Weapons and Gear\, 13550 Danielson St\, Poway\, CA\, 92064\, United States
CATEGORIES:Monthly Meetings,San Diego County Gun Owners,SDCGO Events
ATTACH;FMTTYPE=image/jpeg:https://gunownersradio.com/wp-content/uploads/2023/10/Nov_Central_1_v01-vnFOWj.tmp_.jpg
ORGANIZER;CN="San Diego County Gun Owners":MAILTO:desiree@notmesd.org
END:VEVENT
BEGIN:VEVENT
DTSTART;TZID=America/Los_Angeles:20231114T180000
DTEND;TZID=America/Los_Angeles:20231114T193000
DTSTAMP:20260425T130016
CREATED:20231101T044646Z
LAST-MODIFIED:20231101T044646Z
UID:10000252-1699984800-1699990200@gunownersradio.com
SUMMARY:November Monthly Meeting – North
DESCRIPTION:
URL:https://gunownersradio.com/event/november-monthly-meeting-north/
LOCATION:North County Shooting Center\, 1440 Descanso Ave.\, San Marcos\, CA\, 92069\, United States
CATEGORIES:Monthly Meetings,San Diego County Gun Owners,SDCGO Events
ATTACH;FMTTYPE=image/jpeg:https://gunownersradio.com/wp-content/uploads/2023/10/Nov_North_1_v01-6twkmM.tmp_.jpg
ORGANIZER;CN="San Diego County Gun Owners":MAILTO:desiree@notmesd.org
END:VEVENT
BEGIN:VEVENT
DTSTART;TZID=America/Los_Angeles:20231018T180000
DTEND;TZID=America/Los_Angeles:20231018T193000
DTSTAMP:20260425T130016
CREATED:20231001T192641Z
LAST-MODIFIED:20231001T192641Z
UID:10000241-1697652000-1697657400@gunownersradio.com
SUMMARY:October Monthly Meeting – Central
DESCRIPTION:
URL:https://gunownersradio.com/event/october-monthly-meeting-central/
LOCATION:Discount Gun Mart\, 1510 Morena Blvd\, San Diego\, CA\, 92115\, United States
CATEGORIES:Monthly Meetings,San Diego County Gun Owners,SDCGO Events
ATTACH;FMTTYPE=image/jpeg:https://gunownersradio.com/wp-content/uploads/2023/10/OCt-Central-nvZMAa.tmp_.jpg
ORGANIZER;CN="San Diego County Gun Owners":MAILTO:desiree@notmesd.org
END:VEVENT
BEGIN:VEVENT
DTSTART;TZID=America/Los_Angeles:20231017T180000
DTEND;TZID=America/Los_Angeles:20231017T193000
DTSTAMP:20260425T130016
CREATED:20231001T192636Z
LAST-MODIFIED:20231001T192636Z
UID:10000240-1697565600-1697571000@gunownersradio.com
SUMMARY:October Monthly Meeting – North
DESCRIPTION:
URL:https://gunownersradio.com/event/october-monthly-meeting-north/
LOCATION:North County Shooting Center\, 1440 Descanso Ave.\, San Marcos\, CA\, 92069\, United States
CATEGORIES:Monthly Meetings,San Diego County Gun Owners,SDCGO Events
ATTACH;FMTTYPE=image/jpeg:https://gunownersradio.com/wp-content/uploads/2023/10/Oct-North-WYkeNA.tmp_.jpg
ORGANIZER;CN="San Diego County Gun Owners":MAILTO:desiree@notmesd.org
END:VEVENT
BEGIN:VEVENT
DTSTART;TZID=America/Los_Angeles:20231001T080000
DTEND;TZID=America/Los_Angeles:20231001T170000
DTSTAMP:20260425T130016
CREATED:20231001T192630Z
LAST-MODIFIED:20231001T192630Z
UID:10000239-1696147200-1696179600@gunownersradio.com
SUMMARY:October Monthly Meeting – South
DESCRIPTION:
URL:https://gunownersradio.com/event/october-monthly-meeting-south/
LOCATION:La Bella Pizza Garden\, 373 3rd Ave\, Chula Vista\, CA\, 91910\, United States
CATEGORIES:Monthly Meetings,San Diego County Gun Owners,SDCGO Events
ATTACH;FMTTYPE=image/jpeg:https://gunownersradio.com/wp-content/uploads/2023/10/Oct-South-0SpoEv.tmp_.jpg
ORGANIZER;CN="San Diego County Gun Owners":MAILTO:desiree@notmesd.org
END:VEVENT
END:VCALENDAR