BEGIN:VCALENDAR
VERSION:2.0
PRODID:-//Gun Owners Radio - ECPv6.15.18//NONSGML v1.0//EN
CALSCALE:GREGORIAN
METHOD:PUBLISH
X-ORIGINAL-URL:https://gunownersradio.com
X-WR-CALDESC:Events for Gun Owners Radio
REFRESH-INTERVAL;VALUE=DURATION:PT1H
X-Robots-Tag:noindex
X-PUBLISHED-TTL:PT1H
BEGIN:VTIMEZONE
TZID:UTC
BEGIN:STANDARD
TZOFFSETFROM:+0000
TZOFFSETTO:+0000
TZNAME:UTC
DTSTART:20220101T000000
END:STANDARD
END:VTIMEZONE
BEGIN:VEVENT
DTSTART;TZID=UTC:20230225T100000
DTEND;TZID=UTC:20230225T170000
DTSTAMP:20260424T200114
CREATED:20230213T201837Z
LAST-MODIFIED:20230213T201837Z
UID:10000078-1677319200-1677344400@gunownersradio.com
SUMMARY:Tabletop Riverside Indoor Shooting Range
DESCRIPTION:
URL:https://gunownersradio.com/event/tabletop-riverside-indoor-shooting-range/
LOCATION:Riverside Indoor Shooting Range\, 11631 Sterling Ave\, Riverside\, CA\, 92503\, United States
CATEGORIES:Booths,Riverside,San Bernardino,Table Tops
END:VEVENT
BEGIN:VEVENT
DTSTART;TZID=UTC:20230218T100000
DTEND;TZID=UTC:20230218T160000
DTSTAMP:20260424T200114
CREATED:20230213T201834Z
LAST-MODIFIED:20230213T201834Z
UID:10000076-1676714400-1676736000@gunownersradio.com
SUMMARY:Tabletop Bass and Brass
DESCRIPTION:
URL:https://gunownersradio.com/event/tabletop-bass-and-brass/
LOCATION:Brass and Bass\, 39825 Alta Murrieta Dr\, Ste b14\, Murrieta\, 92563\, United States
CATEGORIES:Booths,Riverside,San Bernardino,Table Tops
END:VEVENT
BEGIN:VEVENT
DTSTART;TZID=UTC:20230215T190000
DTEND;TZID=UTC:20230215T200000
DTSTAMP:20260424T200114
CREATED:20230213T201824Z
LAST-MODIFIED:20230213T201824Z
UID:10000075-1676487600-1676491200@gunownersradio.com
SUMMARY:Virtual CCW Seminar – Riverside County
DESCRIPTION:
URL:https://gunownersradio.com/event/virtual-ccw-seminar-riverside-county/
CATEGORIES:CCW Seminars,Riverside
ATTACH;FMTTYPE=image/png:https://gunownersradio.com/wp-content/uploads/2023/02/February-2023-Riverside-CCW-Seminar-LHlcUj.tmp_.png
END:VEVENT
BEGIN:VEVENT
DTSTART;TZID=UTC:20230204T090000
DTEND;TZID=UTC:20230204T160000
DTSTAMP:20260424T200114
CREATED:20230213T201815Z
LAST-MODIFIED:20230213T201815Z
UID:10000073-1675501200-1675526400@gunownersradio.com
SUMMARY:Tabletop Patriotic Arms
DESCRIPTION:
URL:https://gunownersradio.com/event/tabletop-patriotic-arms/
LOCATION:Patriotic Arms\, 31590 Railroad Canyon Rd\, Canyon Lake\, CA\, 92587\, United States
CATEGORIES:Booths,Riverside,San Bernardino,Table Tops
END:VEVENT
END:VCALENDAR