BEGIN:VCALENDAR
VERSION:2.0
PRODID:-//Gun Owners Radio - ECPv6.15.18//NONSGML v1.0//EN
CALSCALE:GREGORIAN
METHOD:PUBLISH
X-WR-CALNAME:Gun Owners Radio
X-ORIGINAL-URL:https://gunownersradio.com
X-WR-CALDESC:Events for Gun Owners Radio
REFRESH-INTERVAL;VALUE=DURATION:PT1H
X-Robots-Tag:noindex
X-PUBLISHED-TTL:PT1H
BEGIN:VTIMEZONE
TZID:America/Los_Angeles
BEGIN:DAYLIGHT
TZOFFSETFROM:-0800
TZOFFSETTO:-0700
TZNAME:PDT
DTSTART:20240310T100000
END:DAYLIGHT
BEGIN:STANDARD
TZOFFSETFROM:-0700
TZOFFSETTO:-0800
TZNAME:PST
DTSTART:20241103T090000
END:STANDARD
BEGIN:DAYLIGHT
TZOFFSETFROM:-0800
TZOFFSETTO:-0700
TZNAME:PDT
DTSTART:20250309T100000
END:DAYLIGHT
BEGIN:STANDARD
TZOFFSETFROM:-0700
TZOFFSETTO:-0800
TZNAME:PST
DTSTART:20251102T090000
END:STANDARD
BEGIN:DAYLIGHT
TZOFFSETFROM:-0800
TZOFFSETTO:-0700
TZNAME:PDT
DTSTART:20260308T100000
END:DAYLIGHT
BEGIN:STANDARD
TZOFFSETFROM:-0700
TZOFFSETTO:-0800
TZNAME:PST
DTSTART:20261101T090000
END:STANDARD
END:VTIMEZONE
BEGIN:VEVENT
DTSTART;TZID=America/Los_Angeles:20251213T080000
DTEND;TZID=America/Los_Angeles:20251213T100000
DTSTAMP:20260425T084445
CREATED:20250915T071054Z
LAST-MODIFIED:20250915T071054Z
UID:10000398-1765612800-1765620000@gunownersradio.com
SUMMARY:NotMeSD Shooting Social
DESCRIPTION:Be a mentor at our NotMeSD shooting social for our NotMeSD ladies! \nBring a handgun (9mm) for the mentee to use\, and walk them through shooting 50 rounds of ammo. \nWe will give a safety brief and you will be randomly assigned someone to work with. \nYou will be given 10-15 minutes to go over the basics on a cold range. (Stance\, grip\, sight picture\, loading\, magazine release\, slide lock etc) \nYou will help your shooter fire their ammunition through your gun. Your goal is to provide a safe\, fun\, and SAFE first-time shooting experience. Again\, most of these shooters have never fired a gun before. We just want to take the mystery out of shooting by giving a safe\, fun\, first-time experience.
URL:https://gunownersradio.com/event/notmesd-shooting-social-12/
LOCATION:The Gun Range San Diego\, 7853 Balboa Ave\, San Diego\, CA\, 92111\, United States
CATEGORIES:San Diego County Gun Owners,SDCGO Events,Shooting Socials
ATTACH;FMTTYPE=image/jpeg:https://gunownersradio.com/wp-content/uploads/2023/12/SS3-dDtWeE.tmp_.jpg
ORGANIZER;CN="San Diego County Gun Owners":MAILTO:desiree@notmesd.org
END:VEVENT
BEGIN:VEVENT
DTSTART;TZID=America/Los_Angeles:20251217T180000
DTEND;TZID=America/Los_Angeles:20251217T200000
DTSTAMP:20260425T084445
CREATED:20251116T222119Z
LAST-MODIFIED:20260103T170403Z
UID:10000408-1765994400-1766001600@gunownersradio.com
SUMMARY:Annual SDCGO Ugly Christmas Sweater Party
DESCRIPTION:Reserve your seats now!\n \nAnnual SDCGO Ugly Christmas Sweater Party!\n📅  Wed\, Dec 17th\, 2025  6:00 PM – 8:00 PM PST \n📍The Train Station Cafe  El Cajon\, CA\nEvent Details\n🎄 You’re Invited to the Annual SDCGO Ugly Christmas Sweater Party!🎄 \nJoin us for one of our favorite traditions of the year! The Train Station in El Cajon will be transformed into a magical Winter Wonderland\, complete with sparkling Christmas lights\, cozy vibes\, and plenty of holiday cheer. \nWarm up by the fire pit with a cup of hot chocolate\, roast marshmallows with friends\, and show off your ugliest Christmas sweater! Be sure to dress warm—we’ll be celebrating outdoors all night. \n📅 Date: Wednesday\, December 17th \n⏰ Time: 6:00 PM \n📍 Location: The Train Station – 14860 Olde Hwy 80\, El Cajon\, CA 92021 \n🍽️ Food: Mediterranean-style gyros with all the sides \nCost: $15 pre-order • $20 day-of \n🍹 Adult beverages will also be available for purchase. \nCome celebrate the season with great people\, good food\, and festive fun. We can’t wait to see you there! \nContact Information\n\nVisit our Website\nContact Event Organizer\nMore Event by SDCGO\n\nReserve your seats now!
URL:https://gunownersradio.com/event/annual-sdcgo-ugly-christmas-sweater-party/
LOCATION:The Train Statio Cafe\, Olde Hwy 80\, El Cajon\, 92128
CATEGORIES:San Diego County Gun Owners,SDCGO Events
ATTACH;FMTTYPE=image/png:https://gunownersradio.com/wp-content/uploads/2025/11/December-17th-2025-Qzwl8N.png
END:VEVENT
END:VCALENDAR