BEGIN:VCALENDAR
VERSION:2.0
PRODID:-//Gun Owners Radio - ECPv6.15.18//NONSGML v1.0//EN
CALSCALE:GREGORIAN
METHOD:PUBLISH
X-ORIGINAL-URL:https://gunownersradio.com
X-WR-CALDESC:Events for Gun Owners Radio
REFRESH-INTERVAL;VALUE=DURATION:PT1H
X-Robots-Tag:noindex
X-PUBLISHED-TTL:PT1H
BEGIN:VTIMEZONE
TZID:America/Los_Angeles
BEGIN:DAYLIGHT
TZOFFSETFROM:-0800
TZOFFSETTO:-0700
TZNAME:PDT
DTSTART:20250309T100000
END:DAYLIGHT
BEGIN:STANDARD
TZOFFSETFROM:-0700
TZOFFSETTO:-0800
TZNAME:PST
DTSTART:20251102T090000
END:STANDARD
BEGIN:DAYLIGHT
TZOFFSETFROM:-0800
TZOFFSETTO:-0700
TZNAME:PDT
DTSTART:20260308T100000
END:DAYLIGHT
BEGIN:STANDARD
TZOFFSETFROM:-0700
TZOFFSETTO:-0800
TZNAME:PST
DTSTART:20261101T090000
END:STANDARD
BEGIN:DAYLIGHT
TZOFFSETFROM:-0800
TZOFFSETTO:-0700
TZNAME:PDT
DTSTART:20270314T100000
END:DAYLIGHT
BEGIN:STANDARD
TZOFFSETFROM:-0700
TZOFFSETTO:-0800
TZNAME:PST
DTSTART:20271107T090000
END:STANDARD
END:VTIMEZONE
BEGIN:VEVENT
DTSTART;TZID=America/Los_Angeles:20260207T100000
DTEND;TZID=America/Los_Angeles:20260207T160000
DTSTAMP:20260424T151429
CREATED:20260125T113051Z
LAST-MODIFIED:20260125T113051Z
UID:10000420-1770458400-1770480000@gunownersradio.com
SUMMARY:The Gun Range San Diego Table Top
DESCRIPTION:The Tabletop program seems like an excellent way to engage with the community and raise awareness about important issues related to gun rights and safety\, as well as the work being done by SDCGO (San Diego County Gun Owners). By distributing printed materials\, signing up people for newsletters\, and recruiting new members\, you’ll be helping to spread valuable information and grow the organization’s influence.
URL:https://gunownersradio.com/event/the-gun-range-san-diego-table-top-8/
LOCATION:The Gun Range San Diego\, 7853 Balboa Ave\, San Diego\, CA\, 92111\, United States
CATEGORIES:San Diego County Gun Owners,SDCGO Events
ATTACH;FMTTYPE=image/jpeg:https://gunownersradio.com/wp-content/uploads/2025/04/920a-scaled-OH1zrW.tmp_.jpg
ORGANIZER;CN="San Diego County Gun Owners":MAILTO:desiree@notmesd.org
END:VEVENT
BEGIN:VEVENT
DTSTART;TZID=America/Los_Angeles:20260208T080000
DTEND;TZID=America/Los_Angeles:20260208T100000
DTSTAMP:20260424T151429
CREATED:20251205T041038Z
LAST-MODIFIED:20251205T041038Z
UID:10000412-1770537600-1770544800@gunownersradio.com
SUMMARY:Guns n Moses Shooting Social
DESCRIPTION:Be a mentor at our Guns N’ Moses shooting social. \nBring a handgun (9mm) for the mentee to use\, and walk them through shooting 50 rounds of ammo. \nWe will give a safety brief and you will be randomly assigned someone to work with. \nYou will be given 10-15 minutes to go over the basics on a cold range. (Stance\, grip\, sight picture\, loading\, magazine release\, slide lock etc) \nYou will help your shooter fire their ammunition through your gun. Your goal is to provide a safe\, fun\, and SAFE first-time shooting experience. Again\, most of these shooters have never fired a gun before. We just want to take the mystery out of shooting by giving a safe\, fun\, first-time experience.
URL:https://gunownersradio.com/event/guns-n-moses-shooting-social-16/
LOCATION:Poway Weapons and Gear\, 13550 Danielson St\, Poway\, CA\, 92064\, United States
CATEGORIES:San Diego County Gun Owners,SDCGO Events
ATTACH;FMTTYPE=image/jpeg:https://gunownersradio.com/wp-content/uploads/2023/12/GunsNMoses_updated.logo_-scaled-PZc8a6.tmp_.jpg
ORGANIZER;CN="San Diego County Gun Owners":MAILTO:desiree@notmesd.org
END:VEVENT
BEGIN:VEVENT
DTSTART;TZID=America/Los_Angeles:20260214T100000
DTEND;TZID=America/Los_Angeles:20260214T160000
DTSTAMP:20260424T151429
CREATED:20260127T045003Z
LAST-MODIFIED:20260127T045003Z
UID:10000422-1771063200-1771084800@gunownersradio.com
SUMMARY:Turners Table Top
DESCRIPTION:The Tabletop program is our way of engaging with the Public around San Diego County on gun-related topics and letting them know there is hope! We speak about who SDCGO is and what we do\, CCW permits\, events\, lawsuits\, and of course the elections. You’ll be handing out printed materials\, collecting sign-ups for the newsletter\, and recruiting new members.
URL:https://gunownersradio.com/event/turners-table-top-13/
LOCATION:turners\, 2085 MONTIEL ROAD\, San Marcos\, CA\, 92069
CATEGORIES:San Diego County Gun Owners,SDCGO Events
ATTACH;FMTTYPE=image/jpeg:https://gunownersradio.com/wp-content/uploads/2025/04/GR1-scaled-idgDPY.tmp_.jpg
ORGANIZER;CN="San Diego County Gun Owners":MAILTO:desiree@notmesd.org
END:VEVENT
BEGIN:VEVENT
DTSTART;TZID=America/Los_Angeles:20260222T080000
DTEND;TZID=America/Los_Angeles:20260222T120000
DTSTAMP:20260424T151429
CREATED:20260127T045003Z
LAST-MODIFIED:20260127T045003Z
UID:10000423-1771747200-1771761600@gunownersradio.com
SUMMARY:Turkey Tune-up Table Top
DESCRIPTION:The Tabletop program is our way of engaging with the Public around San Diego County on gun-related topics and letting them know there is hope! We speak about who SDCGO is and what we do\, CCW permits\, events\, lawsuits\, and of course the elections. You’ll be handing out printed materials\, collecting sign-ups for the newsletter\, and recruiting new members.
URL:https://gunownersradio.com/event/turkey-tune-up-table-top-2/
LOCATION:26439 CA-76\, Santa Ysabel CA\, 92070
CATEGORIES:San Diego County Gun Owners,SDCGO Events
ATTACH;FMTTYPE=image/jpeg:https://gunownersradio.com/wp-content/uploads/2023/12/TT3-hY8WgG.tmp_.jpg
ORGANIZER;CN="San Diego County Gun Owners":MAILTO:desiree@notmesd.org
END:VEVENT
BEGIN:VEVENT
DTSTART;TZID=America/Los_Angeles:20260228T080000
DTEND;TZID=America/Los_Angeles:20260228T100000
DTSTAMP:20260424T151429
CREATED:20251205T041038Z
LAST-MODIFIED:20251205T041038Z
UID:10000413-1772265600-1772272800@gunownersradio.com
SUMMARY:NCSC Shooting Social
DESCRIPTION:Be a mentor at our SDCGO shooting social. \nBring a handgun (9mm) for the mentee to use\, and walk them through shooting 50 rounds of ammo. \nWe will give a safety brief and you will be randomly assigned someone to work with. \nYou will be given 10-15 minutes to go over the basics on a cold range. (Stance\, grip\, sight picture\, loading\, magazine release\, slide lock etc) \nYou will help your shooter fire their ammunition through your gun. Your goal is to provide a safe\, fun\, and SAFE first-time shooting experience. Again\, most of these shooters have never fired a gun before. We just want to take the mystery out of shooting by giving a safe\, fun\, first-time experience.
URL:https://gunownersradio.com/event/ncsc-shooting-social-3/
LOCATION:North County Shooting Center\, 1440 Descanso Ave.\, San Marcos\, CA\, 92069\, United States
CATEGORIES:San Diego County Gun Owners,SDCGO Events,Shooting Socials
ATTACH;FMTTYPE=image/jpeg:https://gunownersradio.com/wp-content/uploads/2023/12/SS3-dDtWeE.tmp_.jpg
ORGANIZER;CN="San Diego County Gun Owners":MAILTO:desiree@notmesd.org
END:VEVENT
END:VCALENDAR