BEGIN:VCALENDAR
VERSION:2.0
PRODID:-//Gun Owners Radio - ECPv6.15.18//NONSGML v1.0//EN
CALSCALE:GREGORIAN
METHOD:PUBLISH
X-ORIGINAL-URL:https://gunownersradio.com
X-WR-CALDESC:Events for Gun Owners Radio
REFRESH-INTERVAL;VALUE=DURATION:PT1H
X-Robots-Tag:noindex
X-PUBLISHED-TTL:PT1H
BEGIN:VTIMEZONE
TZID:America/Los_Angeles
BEGIN:DAYLIGHT
TZOFFSETFROM:-0800
TZOFFSETTO:-0700
TZNAME:PDT
DTSTART:20250309T100000
END:DAYLIGHT
BEGIN:STANDARD
TZOFFSETFROM:-0700
TZOFFSETTO:-0800
TZNAME:PST
DTSTART:20251102T090000
END:STANDARD
BEGIN:DAYLIGHT
TZOFFSETFROM:-0800
TZOFFSETTO:-0700
TZNAME:PDT
DTSTART:20260308T100000
END:DAYLIGHT
BEGIN:STANDARD
TZOFFSETFROM:-0700
TZOFFSETTO:-0800
TZNAME:PST
DTSTART:20261101T090000
END:STANDARD
BEGIN:DAYLIGHT
TZOFFSETFROM:-0800
TZOFFSETTO:-0700
TZNAME:PDT
DTSTART:20270314T100000
END:DAYLIGHT
BEGIN:STANDARD
TZOFFSETFROM:-0700
TZOFFSETTO:-0800
TZNAME:PST
DTSTART:20271107T090000
END:STANDARD
END:VTIMEZONE
BEGIN:VEVENT
DTSTART;TZID=America/Los_Angeles:20260312T180000
DTEND;TZID=America/Los_Angeles:20260312T193000
DTSTAMP:20260424T132814
CREATED:20260206T034015Z
LAST-MODIFIED:20260206T034015Z
UID:10000425-1773338400-1773343800@gunownersradio.com
SUMMARY:Meet & Greet Pro-2A Candidates
DESCRIPTION:Join us for an important opportunity to hear directly from local pro–Second Amendment candidates who are working to protect your rights and represent our communities. Learn where they stand on the issues impacting your city\, public safety\, and the future of the Second Amendment in San Diego County.\n\n\n\n✅ Candidate Q&A – Get straightforward answers to the questions that matter\n\n\n✅ Direct Access – Meet and engage with candidates and like-minded community members\n\n\n✅ Food & Fellowship – Enjoy appetizers while connecting with fellow supporters\n\n\n\nStay informed\, get engaged\, and make your voice heard\n\n\nConfirmed Candidates Attending\n\n\n\nKristy Bruce Lane – State Senate District 40\nRob Mcnelis – Santee City Council\nDane White – Escondido Mayor\nCoal Marting – Fallbrook Fire Board\nLaura Lothian – La Mesa City Council\nGary Kendrick – El Cajon City Council District 1\nJohn Franklin – County Supervisor District 5\nMike Sanella – San Marcos Mayor
URL:https://gunownersradio.com/event/meet-greet-pro-2a-candidates/
LOCATION:Elijah’s  Restaurant\, 7061 Clairemont Mesa Blvd\, San Diego\, ca\, 92111
CATEGORIES:San Diego County Gun Owners,SDCGO Events
ATTACH;FMTTYPE=image/jpeg:https://gunownersradio.com/wp-content/uploads/2026/02/242451a2-0215-437a-b236-5dcf420f3177-z8zhFY.jpg
ORGANIZER;CN="San Diego County Gun Owners":MAILTO:desiree@notmesd.org
END:VEVENT
BEGIN:VEVENT
DTSTART;TZID=America/Los_Angeles:20260313T090000
DTEND;TZID=America/Los_Angeles:20260313T140000
DTSTAMP:20260424T132814
CREATED:20260206T034016Z
LAST-MODIFIED:20260206T034016Z
UID:10000426-1773392400-1773410400@gunownersradio.com
SUMMARY:ASA Sport Clay Shoot Table Top
DESCRIPTION:The Tabletop program is our way of engaging with the Public around San Diego County on gun-related topics and letting them know there is hope! We speak about who SDCGO is and what we do\, CCW permits\, events\, lawsuits\, and of course the elections. You’ll be handing out printed materials\, collecting sign-ups for the newsletter\, and recruiting new members.
URL:https://gunownersradio.com/event/asa-sport-clay-shoot-table-top/
LOCATION:Lemon Grove Rod & Gun Club
CATEGORIES:San Diego County Gun Owners,SDCGO Events
ATTACH;FMTTYPE=image/jpeg:https://gunownersradio.com/wp-content/uploads/2023/12/TT3-hY8WgG.tmp_.jpg
ORGANIZER;CN="San Diego County Gun Owners":MAILTO:desiree@notmesd.org
END:VEVENT
BEGIN:VEVENT
DTSTART;TZID=America/Los_Angeles:20260314T080000
DTEND;TZID=America/Los_Angeles:20260314T100000
DTSTAMP:20260424T132814
CREATED:20251220T052003Z
LAST-MODIFIED:20251220T052003Z
UID:10000414-1773475200-1773482400@gunownersradio.com
SUMMARY:SDCGO Shooting Social
DESCRIPTION:Be a mentor at our SDCGO shooting social. \nBring a handgun (9mm) for the mentee to use\, and walk them through shooting 50 rounds of ammo. \nWe will give a safety brief and you will be randomly assigned someone to work with. \nYou will be given 10-15 minutes to go over the basics on a cold range. (Stance\, grip\, sight picture\, loading\, magazine release\, slide lock etc) \nYou will help your shooter fire their ammunition through your gun. Your goal is to provide a safe\, fun\, and SAFE first-time shooting experience. Again\, most of these shooters have never fired a gun before. We just want to take the mystery out of shooting by giving a safe\, fun\, first-time experience.
URL:https://gunownersradio.com/event/sdcgo-shooting-social-6/
LOCATION:The Gun Range San Diego\, 7853 Balboa Ave\, San Diego\, CA\, 92111\, United States
CATEGORIES:San Diego County Gun Owners,SDCGO Events,Shooting Socials
ATTACH;FMTTYPE=image/jpeg:https://gunownersradio.com/wp-content/uploads/2023/12/SS4-ipZs3l.tmp_.jpg
ORGANIZER;CN="San Diego County Gun Owners":MAILTO:desiree@notmesd.org
END:VEVENT
BEGIN:VEVENT
DTSTART;TZID=America/Los_Angeles:20260315T080000
DTEND;TZID=America/Los_Angeles:20260315T100000
DTSTAMP:20260424T132814
CREATED:20251220T052003Z
LAST-MODIFIED:20251220T052003Z
UID:10000415-1773561600-1773568800@gunownersradio.com
SUMMARY:Guns n Moses Shooting Social
DESCRIPTION:Be a mentor at our Guns N’ Moses shooting social. \nBring a handgun (9mm) for the mentee to use\, and walk them through shooting 50 rounds of ammo. \nWe will give a safety brief and you will be randomly assigned someone to work with. \nYou will be given 10-15 minutes to go over the basics on a cold range. (Stance\, grip\, sight picture\, loading\, magazine release\, slide lock etc) \nYou will help your shooter fire their ammunition through your gun. Your goal is to provide a safe\, fun\, and SAFE first-time shooting experience. Again\, most of these shooters have never fired a gun before. We just want to take the mystery out of shooting by giving a safe\, fun\, first-time experience.
URL:https://gunownersradio.com/event/guns-n-moses-shooting-social-17/
LOCATION:Poway Weapons and Gear\, 13550 Danielson St\, Poway\, CA\, 92064\, United States
CATEGORIES:San Diego County Gun Owners,SDCGO Events
ATTACH;FMTTYPE=image/jpeg:https://gunownersradio.com/wp-content/uploads/2023/12/GunsNMoses_updated.logo_-scaled-PZc8a6.tmp_.jpg
ORGANIZER;CN="San Diego County Gun Owners":MAILTO:desiree@notmesd.org
END:VEVENT
BEGIN:VEVENT
DTSTART;TZID=America/Los_Angeles:20260319T173000
DTEND;TZID=America/Los_Angeles:20260319T213000
DTSTAMP:20260424T132814
CREATED:20260220T121133Z
LAST-MODIFIED:20260320T195640Z
UID:10000431-1773941400-1773955800@gunownersradio.com
SUMMARY:Split-Second Decision Drills for Personal Defense
DESCRIPTION:SPLIT-SECOND DECISION DRILLS FOR PERSONAL DEFENSE\nTrain your mind to make the right call in moments that matter\nThursday\, March 19\, 2026 – 5:30pm to 9:30pm\n \nWhat if something happens and I freeze?\nWhat if I make the wrong call and make things worse? \nIn a sudden\, high-stress situation\, clear thinking is hard—and hesitation or overreaction are common. \nMost people have never practiced making decisions under real pressure until it’s real. Split-Second Decision Drills for Personal Defense is a hands-on class that trains you to recognize situations quickly\, weigh your options\, and make sound decisions before stress takes over. \nUsing realistic scenario drills\, you’ll build confidence in your judgment so you’re better prepared to respond when moments matter most. \nThis focused training session is designed to sharpen your ability to: \n• Recognize threats faster• Process information under pressure• Make confident\, informed decisions \nThrough structured Image-Based Decision Drills\, you will develop the mental speed and clarity needed when every second matters. \n\n \nLed by Alisha Curtin \n\nCertified Image-Based Decision Drill Instructor\nCalifornia DOJ CCW Instructor\nCalifornia P.O.S.T. Instructor \nAlisha is a CA DOJ CCW Instructor\, CA P.O.S.T. Firearms Instructor\, CA BSIS Firearms Instructor\, multi-discipline USCCA and NRA Instructor\, Defensive AR-15 Instructor\, OC Spray Instructor\, and AHA BLS Instructor. She is also a competitive shooter\, law enforcement spouse\, and co-host of Gun Owners Radio. \nHer training helps everyday people move from uncertainty to confidence — prepared to recognize threats\, decide quickly\, and carry responsibly. \n  \nThis course is ideal for responsibly armed citizens\, CCW holders\, and anyone serious about strengthening their defensive decision-making skills. \nSpots are limited.Reserve your seat today. \n\nLEARN MORE & SIGN UP HERE
URL:https://gunownersradio.com/event/split-second-decision-drills-for-personal-defense-2/
LOCATION:CARGO – Cases and Rugged Gear Outfitters
CATEGORIES:County,SDCGO Events
ATTACH;FMTTYPE=image/png:https://gunownersradio.com/wp-content/uploads/2026/02/3eb7385c-64ed-4e96-b0a8-131123ba51cc.png
END:VEVENT
BEGIN:VEVENT
DTSTART;TZID=America/Los_Angeles:20260321T100000
DTEND;TZID=America/Los_Angeles:20260321T160000
DTSTAMP:20260424T132814
CREATED:20260206T034016Z
LAST-MODIFIED:20260206T034016Z
UID:10000427-1774087200-1774108800@gunownersradio.com
SUMMARY:Poway Weapons & Gear Table Top
DESCRIPTION:The Tabletop program is our way of engaging with the Public around San Diego County on gun-related topics and letting them know there is hope! We speak about who SDCGO is and what we do\, CCW permits\, events\, lawsuits\, and of course the elections. You’ll be handing out printed materials\, collecting sign-ups for the newsletter\, and recruiting new members.
URL:https://gunownersradio.com/event/poway-weapons-gear-table-top/
LOCATION:Poway Weapons and Gear\, 13550 Danielson St\, Poway\, CA\, 92064\, United States
CATEGORIES:San Diego County Gun Owners,SDCGO Events
ATTACH;FMTTYPE=image/jpeg:https://gunownersradio.com/wp-content/uploads/2025/04/GR1-scaled-idgDPY.tmp_.jpg
ORGANIZER;CN="San Diego County Gun Owners":MAILTO:desiree@notmesd.org
END:VEVENT
BEGIN:VEVENT
DTSTART;TZID=America/Los_Angeles:20260321T100000
DTEND;TZID=America/Los_Angeles:20260321T170000
DTSTAMP:20260424T132814
CREATED:20260304T192003Z
LAST-MODIFIED:20260304T192003Z
UID:10000433-1774087200-1774112400@gunownersradio.com
SUMMARY:Discount GunMart Side Walk Sale
DESCRIPTION:The Tabletop program is our way of engaging with the Public around San Diego County on gun-related topics and letting them know there is hope! We speak about who SDCGO is and what we do\, CCW permits\, events\, lawsuits\, and of course the elections. You’ll be handing out printed materials\, collecting sign-ups for the newsletter\, and recruiting new members.
URL:https://gunownersradio.com/event/discount-gunmart-side-walk-sale/
LOCATION:Discount Gun Mart\, 1510 Morena Blvd\, San Diego\, CA\, 92115\, United States
CATEGORIES:San Diego County Gun Owners,SDCGO Events
ATTACH;FMTTYPE=image/jpeg:https://gunownersradio.com/wp-content/uploads/2025/04/920a-scaled-OH1zrW.tmp_.jpg
END:VEVENT
END:VCALENDAR