BEGIN:VCALENDAR
VERSION:2.0
PRODID:-//Gun Owners Radio - ECPv6.15.18//NONSGML v1.0//EN
CALSCALE:GREGORIAN
METHOD:PUBLISH
X-WR-CALNAME:Gun Owners Radio
X-ORIGINAL-URL:https://gunownersradio.com
X-WR-CALDESC:Events for Gun Owners Radio
REFRESH-INTERVAL;VALUE=DURATION:PT1H
X-Robots-Tag:noindex
X-PUBLISHED-TTL:PT1H
BEGIN:VTIMEZONE
TZID:America/Los_Angeles
BEGIN:DAYLIGHT
TZOFFSETFROM:-0800
TZOFFSETTO:-0700
TZNAME:PDT
DTSTART:20240310T100000
END:DAYLIGHT
BEGIN:STANDARD
TZOFFSETFROM:-0700
TZOFFSETTO:-0800
TZNAME:PST
DTSTART:20241103T090000
END:STANDARD
BEGIN:DAYLIGHT
TZOFFSETFROM:-0800
TZOFFSETTO:-0700
TZNAME:PDT
DTSTART:20250309T100000
END:DAYLIGHT
BEGIN:STANDARD
TZOFFSETFROM:-0700
TZOFFSETTO:-0800
TZNAME:PST
DTSTART:20251102T090000
END:STANDARD
BEGIN:DAYLIGHT
TZOFFSETFROM:-0800
TZOFFSETTO:-0700
TZNAME:PDT
DTSTART:20260308T100000
END:DAYLIGHT
BEGIN:STANDARD
TZOFFSETFROM:-0700
TZOFFSETTO:-0800
TZNAME:PST
DTSTART:20261101T090000
END:STANDARD
END:VTIMEZONE
BEGIN:VEVENT
DTSTART;TZID=America/Los_Angeles:20250329T120000
DTEND;TZID=America/Los_Angeles:20250329T160000
DTSTAMP:20260425T103110
CREATED:20250327T034641Z
LAST-MODIFIED:20250327T034641Z
UID:10000335-1743249600-1743264000@gunownersradio.com
SUMMARY:SDCGO Winter Afternoon Shoot
DESCRIPTION:Join us for an exciting afternoon of shooting and camaraderie at Freedom Fighters in Escondido on Saturday\, March 29th\, from 12 PM – 4 PM. This event is proudly sponsored by John Franklin\, Mayor of Vista. \nBring your favorite rifles and handguns\, and don’t forget plenty of ammo to send downrange! Out of ammo? No problem! Come hang out\, reconnect with old friends\, and meet new ones. Jason Martin\, from Fallbrook Guns\, will also be onsite selling ammo! \nLooking to sharpen your skills? Lee from Bearly Training will be on-site\, sharing valuable shooting tips. We’ll wrap up the day with a friendly competition—but you’ll have to join us to find out what the prize is! \nSpecial Guests:\n🔹 John Franklin\, Mayor of Vista\n🔹 Bearly Training – Firearms Education\n🔹 Michael Schwartz\n🔹 Desi Bergman
URL:https://gunownersradio.com/event/sdcgo-winter-afternoon-shoot/
LOCATION:Freedom Fighters\, Private Range\, Escondido
CATEGORIES:Monthly Meetings,San Diego County Gun Owners,SDCGO Events
ATTACH;FMTTYPE=image/jpeg:https://gunownersradio.com/wp-content/uploads/2025/03/Winter-Shoot-RUDkCw.tmp_.jpg
ORGANIZER;CN="San Diego County Gun Owners":MAILTO:desiree@notmesd.org
END:VEVENT
END:VCALENDAR