BEGIN:VCALENDAR
VERSION:2.0
PRODID:-//Gun Owners Radio - ECPv6.15.18//NONSGML v1.0//EN
CALSCALE:GREGORIAN
METHOD:PUBLISH
X-WR-CALNAME:Gun Owners Radio
X-ORIGINAL-URL:https://gunownersradio.com
X-WR-CALDESC:Events for Gun Owners Radio
REFRESH-INTERVAL;VALUE=DURATION:PT1H
X-Robots-Tag:noindex
X-PUBLISHED-TTL:PT1H
BEGIN:VTIMEZONE
TZID:America/Los_Angeles
BEGIN:DAYLIGHT
TZOFFSETFROM:-0800
TZOFFSETTO:-0700
TZNAME:PDT
DTSTART:20240310T100000
END:DAYLIGHT
BEGIN:STANDARD
TZOFFSETFROM:-0700
TZOFFSETTO:-0800
TZNAME:PST
DTSTART:20241103T090000
END:STANDARD
BEGIN:DAYLIGHT
TZOFFSETFROM:-0800
TZOFFSETTO:-0700
TZNAME:PDT
DTSTART:20250309T100000
END:DAYLIGHT
BEGIN:STANDARD
TZOFFSETFROM:-0700
TZOFFSETTO:-0800
TZNAME:PST
DTSTART:20251102T090000
END:STANDARD
BEGIN:DAYLIGHT
TZOFFSETFROM:-0800
TZOFFSETTO:-0700
TZNAME:PDT
DTSTART:20260308T100000
END:DAYLIGHT
BEGIN:STANDARD
TZOFFSETFROM:-0700
TZOFFSETTO:-0800
TZNAME:PST
DTSTART:20261101T090000
END:STANDARD
END:VTIMEZONE
BEGIN:VEVENT
DTSTART;TZID=America/Los_Angeles:20250405T080000
DTEND;TZID=America/Los_Angeles:20250405T100000
DTSTAMP:20260425T085808
CREATED:20250327T034659Z
LAST-MODIFIED:20250327T034659Z
UID:10000336-1743840000-1743847200@gunownersradio.com
SUMMARY:Young Republican Shooting Social
DESCRIPTION:Be a mentor at our Young Republican’s shooting social. \nBring a handgun (9mm) for the mentee to use\, and walk them through shooting 50 rounds of ammo. \nWe will give a safety brief and you will be randomly assigned someone to work with. \nYou will be given 10-15 minutes to go over the basics on a cold range. (Stance\, grip\, sight picture\, loading\, magazine release\, slide lock etc) \nYou will help your shooter fire their ammunition through your gun. Your goal is to provide a safe\, fun\, and SAFE first-time shooting experience. Again\, most of these shooters have never fired a gun before. We just want to take the mystery out of shooting by giving a safe\, fun\, first-time experience.
URL:https://gunownersradio.com/event/young-republican-shooting-social-2/
LOCATION:Poway Weapons and Gear\, 13550 Danielson St\, Poway\, CA\, 92064\, United States
CATEGORIES:San Diego County Gun Owners,SDCGO Events,Shooting Socials
ATTACH;FMTTYPE=image/png:https://gunownersradio.com/wp-content/uploads/2025/03/sdcgo-sharing-DjU0Iq.tmp_.png
ORGANIZER;CN="San Diego County Gun Owners":MAILTO:desiree@notmesd.org
END:VEVENT
BEGIN:VEVENT
DTSTART;TZID=America/Los_Angeles:20250406T080000
DTEND;TZID=America/Los_Angeles:20250406T100000
DTSTAMP:20260425T085808
CREATED:20250327T040721Z
LAST-MODIFIED:20250327T040721Z
UID:10000337-1743926400-1743933600@gunownersradio.com
SUMMARY:Gun n Moses
DESCRIPTION:Be a mentor at our Guns N’ Moses shooting social. \nBring a handgun (9mm) for the mentee to use\, and walk them through shooting 50 rounds of ammo. \nWe will give a safety brief and you will be randomly assigned someone to work with. \nYou will be given 10-15 minutes to go over the basics on a cold range. (Stance\, grip\, sight picture\, loading\, magazine release\, slide lock etc) \nYou will help your shooter fire their ammunition through your gun. Your goal is to provide a safe\, fun\, and SAFE first-time shooting experience. Again\, most of these shooters have never fired a gun before. We just want to take the mystery out of shooting by giving a safe\, fun\, first-time experience.
URL:https://gunownersradio.com/event/gun-n-moses/
LOCATION:Poway Weapons and Gear\, 13550 Danielson St\, Poway\, CA\, 92064\, United States
CATEGORIES:San Diego County Gun Owners,Shooting Socials
ATTACH;FMTTYPE=image/jpeg:https://gunownersradio.com/wp-content/uploads/2023/12/GunsNMoses_updated.logo_-scaled-PZc8a6.tmp_.jpg
ORGANIZER;CN="San Diego County Gun Owners":MAILTO:desiree@notmesd.org
END:VEVENT
BEGIN:VEVENT
DTSTART;TZID=America/Los_Angeles:20250412T070000
DTEND;TZID=America/Los_Angeles:20250412T130000
DTSTAMP:20260425T085808
CREATED:20250327T040721Z
LAST-MODIFIED:20250327T040721Z
UID:10000338-1744441200-1744462800@gunownersradio.com
SUMMARY:CVMA Stand Up Ride Table Top
DESCRIPTION:SDCGO will be hosting a tabletop at the CVMA Stand Up Ride to reach out to new members! \nYou would be helping us pass out literature\, and also sign up people for our email list and for memberships.
URL:https://gunownersradio.com/event/cvma-stand-up-ride-table-top-2/
LOCATION:Elk’s Lodge\, 2430 S. Escondido Blvd.\, Escondido\, CA\, 92025\, United States
CATEGORIES:San Diego County Gun Owners,SDCGO Events
ATTACH;FMTTYPE=image/jpeg:https://gunownersradio.com/wp-content/uploads/2025/03/image1-1-LJlwJE.tmp_.jpg
ORGANIZER;CN="San Diego County Gun Owners":MAILTO:desiree@notmesd.org
END:VEVENT
BEGIN:VEVENT
DTSTART;TZID=America/Los_Angeles:20250412T080000
DTEND;TZID=America/Los_Angeles:20250412T100000
DTSTAMP:20260425T085808
CREATED:20250327T040722Z
LAST-MODIFIED:20250327T040722Z
UID:10000339-1744444800-1744452000@gunownersradio.com
SUMMARY:NotMeSD Shooting Social
DESCRIPTION:Be a mentor at our NotMeSD shooting social for our NotMeSD ladies! \nBring a handgun (9mm) for the mentee to use\, and walk them through shooting 50 rounds of ammo. \nWe will give a safety brief and you will be randomly assigned someone to work with. \nYou will be given 10-15 minutes to go over the basics on a cold range. (Stance\, grip\, sight picture\, loading\, magazine release\, slide lock etc) \nYou will help your shooter fire their ammunition through your gun. Your goal is to provide a safe\, fun\, and SAFE first-time shooting experience. Again\, most of these shooters have never fired a gun before. We just want to take the mystery out of shooting by giving a safe\, fun\, first-time experience.
URL:https://gunownersradio.com/event/notmesd-shooting-social-8/
LOCATION:The Gun Range San Diego\, 7853 Balboa Ave\, San Diego\, CA\, 92111\, United States
CATEGORIES:San Diego County Gun Owners,SDCGO Events,Shooting Socials
ATTACH;FMTTYPE=image/jpeg:https://gunownersradio.com/wp-content/uploads/2023/12/SS4-ipZs3l.tmp_.jpg
ORGANIZER;CN="San Diego County Gun Owners":MAILTO:desiree@notmesd.org
END:VEVENT
BEGIN:VEVENT
DTSTART;TZID=America/Los_Angeles:20250416T173000
DTEND;TZID=America/Los_Angeles:20250416T193000
DTSTAMP:20260425T085808
CREATED:20250327T040722Z
LAST-MODIFIED:20250327T040722Z
UID:10000340-1744824600-1744831800@gunownersradio.com
SUMMARY:Ladies ONLY -Protect Yourself with Confidence!
DESCRIPTION:Learn practical skills and real-world decision-making in our Image-Based Decisional Drills Course. This course will help you quickly assess situations and make decisive choices under pressure. You’ll work through various scenarios with options such as: \n✅ Escaping safely\n✅ Issuing verbal commands to deter an attacker\n✅ Calling 911 for assistance\n✅ Deploying self-defense tools like flashlights\, pepper spray\, or\, if necessary\, lethal force \nNo matter your background or experience level\, our expert instructors will guide you in building the confidence to react effectively—because in critical moments\, every second counts. \nWe’ll also cover the crucial steps to take after defending yourself. Should you call 911 immediately? Should you stay or leave the scene? What legal actions should you take? \nJoin us as special guest Gary Gibson\, Second Amendment Attorney\, shares essential insights on the legal do’s and don’ts following a self-defense incident. With extensive experience defending individuals who have had to use their firearms in self-defense\, Gary will provide expert guidance to help you navigate the legal aftermath with confidence. \nTake control of your safety—equip yourself with the knowledge and skills to make smart\, confident decisions.
URL:https://gunownersradio.com/event/ladies-only-protect-yourself-with-confidence/
LOCATION:Discount Gun Mart\, 1510 Morena Blvd\, San Diego\, CA\, 92115\, United States
CATEGORIES:San Diego County Gun Owners,SDCGO Events
ATTACH;FMTTYPE=image/jpeg:https://gunownersradio.com/wp-content/uploads/2025/03/NotMeSD-Ladies-XpDfYU.tmp_.jpg
ORGANIZER;CN="NotMeSD":MAILTO:desiree@notmesd.org
END:VEVENT
BEGIN:VEVENT
DTSTART;TZID=America/Los_Angeles:20250419T100000
DTEND;TZID=America/Los_Angeles:20250419T160000
DTSTAMP:20260425T085808
CREATED:20250410T000443Z
LAST-MODIFIED:20250410T000443Z
UID:10000355-1745056800-1745078400@gunownersradio.com
SUMMARY:Forgotten Sons Spring Fling Table Top
DESCRIPTION:SDCGO will be hosting a tabletop at the Forgotten Sons Spring Fling to reach out to new members! \nYou would be helping us pass out literature\, and also sign up people for our email list and for memberships.
URL:https://gunownersradio.com/event/forgotten-sons-spring-fling-table-top/
LOCATION:Rainbow Oaks Restaurant\, 4813 5th St.\, Rainbow\, CA\, 92028\, United States
CATEGORIES:San Diego County Gun Owners,SDCGO Events
ATTACH;FMTTYPE=image/jpeg:https://gunownersradio.com/wp-content/uploads/2025/04/image0-2-Qk2pLs.tmp_.jpg
ORGANIZER;CN="San Diego County Gun Owners":MAILTO:desiree@notmesd.org
END:VEVENT
BEGIN:VEVENT
DTSTART;TZID=America/Los_Angeles:20250426T080000
DTEND;TZID=America/Los_Angeles:20250426T100000
DTSTAMP:20260425T085808
CREATED:20250327T040723Z
LAST-MODIFIED:20250327T040723Z
UID:10000341-1745654400-1745661600@gunownersradio.com
SUMMARY:Shooting Social – North County Shooting Center
DESCRIPTION:Be a mentor at our SDCGO shooting social. \nBring a handgun (9mm) for the mentee to use\, and walk them through shooting 50 rounds of ammo. \nWe will give a safety brief and you will be randomly assigned someone to work with. \nYou will be given 10-15 minutes to go over the basics on a cold range. (Stance\, grip\, sight picture\, loading\, magazine release\, slide lock etc) \nYou will help your shooter fire their ammunition through your gun. Your goal is to provide a safe\, fun\, and SAFE first-time shooting experience. Again\, most of these shooters have never fired a gun before. We just want to take the mystery out of shooting by giving a safe\, fun\, first-time experience.
URL:https://gunownersradio.com/event/shooting-social-north-county-shooting-center/
LOCATION:North County Shooting Center\, 1440 Descanso Ave.\, San Marcos\, CA\, 92069\, United States
CATEGORIES:San Diego County Gun Owners,SDCGO Events,Shooting Socials
ATTACH;FMTTYPE=image/jpeg:https://gunownersradio.com/wp-content/uploads/2023/12/SS2-qM6Jpf.tmp_.jpg
ORGANIZER;CN="San Diego County Gun Owners":MAILTO:desiree@notmesd.org
END:VEVENT
BEGIN:VEVENT
DTSTART;TZID=America/Los_Angeles:20250426T090000
DTEND;TZID=America/Los_Angeles:20250426T130000
DTSTAMP:20260425T085808
CREATED:20250327T040723Z
LAST-MODIFIED:20250327T040723Z
UID:10000342-1745658000-1745672400@gunownersradio.com
SUMMARY:Ladies ONLY – Train with Bearly Training
DESCRIPTION:The upcoming course on this date will be exclusively for women\, aiming to cultivate a more comfortable environment particularly suited for beginner/intermediate-level shooters. Our goal is to provide a supportive and encouraging space where female participants can enhance their skills and confidence with ease. \nThis next-level course is tailored specifically for women looking to build on their foundational firearm skills and step into more dynamic training. Participants will refine their knowledge of safe firearm operation\, improve fundamentals including grip and trigger control\, and practice efficient loading\, unloading\, and malfunction resolution in realistic scenarios.
URL:https://gunownersradio.com/event/ladies-only-train-with-bearly-training/
LOCATION:Freedom Fighters\, Private Range\, Escondido
CATEGORIES:San Diego County Gun Owners,SDCGO Events
ATTACH;FMTTYPE=image/png:https://gunownersradio.com/wp-content/uploads/2025/03/BTCo_Logo_Naked-DGw6qr.tmp_.png
ORGANIZER;CN="NotMeSD":MAILTO:desiree@notmesd.org
END:VEVENT
BEGIN:VEVENT
DTSTART;TZID=America/Los_Angeles:20250426T100000
DTEND;TZID=America/Los_Angeles:20250426T160000
DTSTAMP:20260425T085808
CREATED:20250327T044037Z
LAST-MODIFIED:20250327T044037Z
UID:10000347-1745661600-1745683200@gunownersradio.com
SUMMARY:The Gun Range SD Table Top
DESCRIPTION:The Tabletop program seems like an excellent way to engage with the community and raise awareness about important issues related to gun rights and safety\, as well as the work being done by SDCGO (San Diego County Gun Owners). By distributing printed materials\, signing up people for newsletters\, and recruiting new members\, you’ll be helping to spread valuable information and grow the organization’s influence.
URL:https://gunownersradio.com/event/the-gun-range-sd-table-top/
LOCATION:The Gun Range San Diego\, 7853 Balboa Ave\, San Diego\, CA\, 92111\, United States
CATEGORIES:San Diego County Gun Owners,SDCGO Events
ATTACH;FMTTYPE=image/jpeg:https://gunownersradio.com/wp-content/uploads/2025/03/920-scaled-ChtksC.tmp_.jpg
ORGANIZER;CN="San Diego County Gun Owners":MAILTO:desiree@notmesd.org
END:VEVENT
BEGIN:VEVENT
DTSTART;TZID=America/Los_Angeles:20250426T100000
DTEND;TZID=America/Los_Angeles:20250426T160000
DTSTAMP:20260425T085808
CREATED:20250416T001933Z
LAST-MODIFIED:20250416T001933Z
UID:10000358-1745661600-1745683200@gunownersradio.com
SUMMARY:Turner’s Table Top
DESCRIPTION:The Tabletop program is our way of engaging with the Public around San Diego County on gun-related topics and letting them know there is hope! We speak about who SDCGO is and what we do\, CCW permits\, events\, lawsuits\, and of course the elections. You’ll be handing out printed materials\, collecting sign-ups for the newsletter\, and recruiting new members.
URL:https://gunownersradio.com/event/turners-table-top-11/
LOCATION:turners\, 2085 MONTIEL ROAD\, San Marcos\, CA\, 92069
CATEGORIES:San Diego County Gun Owners,SDCGO Events
ATTACH;FMTTYPE=image/jpeg:https://gunownersradio.com/wp-content/uploads/2025/04/920a-scaled-OH1zrW.tmp_.jpg
ORGANIZER;CN="San Diego County Gun Owners":MAILTO:desiree@notmesd.org
END:VEVENT
BEGIN:VEVENT
DTSTART;TZID=America/Los_Angeles:20250430T173000
DTEND;TZID=America/Los_Angeles:20250430T210000
DTSTAMP:20260425T085808
CREATED:20250327T042244Z
LAST-MODIFIED:20250327T042244Z
UID:10000343-1746034200-1746046800@gunownersradio.com
SUMMARY:NotMeSD Birthday Bash & SDCGO Comedy Night
DESCRIPTION:🎉 NotMeSD is Turning 6! 🎉 \nWe are thrilled to celebrate 6 incredible years of empowering women through education\, training\, and self-protection! Over the past six years\, NotMeSD has helped over 1\,300 women take control of their safety by finding instructors\, selecting the right firearms\, and navigating the CCW permit process. \nThis milestone is a testament to the strength of our community and the importance of our mission. Join us as we celebrate our success\, our growth\, and the incredible women who have been part of this journey! \nAND \n😂🎤 Get Ready to Laugh Till You Cry! 🎤😂 \nJoin us for a night of non-stop laughter at Encore Event Center on April 30th at 7pm! We’re bringing you a lineup of hilarious comedians who will have you rolling in your seat. \n🎭 What to Expect?\n✅ Side-splitting stand-up comedy\n✅ Delicious drinks & great vibes\n✅ The perfect night out with friends \n📍 Location: Encore Event Center – 8253 Ronson Rd. San Diego\, CA 92111\n🎟 Tickets: $25\n🔥 Reserve your spot now – seats are filling fast! \nWhat’s in store?\n😂 Gut-busting jokes from top comedians\n🍹 Great drinks & a fun atmosphere\n🎉 An unforgettable night out with friends \nDon’t miss out – grab your tickets before they’re gone! Tag your crew and let’s get ready to LOL! 🤣👇
URL:https://gunownersradio.com/event/notmesd-birthday-bash-sdcgo-comedy-night/
LOCATION:Encore Event Center\, 8253 Ronson Rd #199\, San Diego\, CA\, 92111\, United States
CATEGORIES:San Diego County Gun Owners,SDCGO Events
ATTACH;FMTTYPE=image/png:https://gunownersradio.com/wp-content/uploads/2025/03/Ladies-Second-Amendment-1-AMQu5v.tmp_.png
ORGANIZER;CN="NotMeSD":MAILTO:desiree@notmesd.org
END:VEVENT
BEGIN:VEVENT
DTSTART;TZID=America/Los_Angeles:20250430T190000
DTEND;TZID=America/Los_Angeles:20250430T210000
DTSTAMP:20260425T085808
CREATED:20250327T044134Z
LAST-MODIFIED:20250511T235117Z
UID:10000348-1746039600-1746046800@gunownersradio.com
SUMMARY:SDCGO Comedy Night
DESCRIPTION:😂🎤 Get Ready to Laugh Till You Cry! 🎤😂 \nJoin us for a night of non-stop laughter at Encore Event Center on April 30th at 7pm! We’re bringing you a lineup of hilarious comedians who will have you rolling in your seat. \n🎭 What to Expect?\n ✅ Side-splitting stand-up comedy\n ✅ Delicious drinks & great vibes\n ✅ The perfect night out with friends \n📍 Location: Encore Event Center – 8253 Ronson Rd. San Diego\, CA 92111\n 🎟 Tickets: $20\n 🔥 Reserve your spot now – seats are filling fast! \nWhat’s in store?\n 😂 Gut-busting jokes from top comedians\n 🍹 Great drinks & a fun atmosphere\n 🎉 An unforgettable night out with friends \nDon’t miss out – grab your tickets before they’re gone! Tag your crew and let’s get ready to LOL! 🤣👇 \nGET TICKETS
URL:https://gunownersradio.com/event/sdcgo-comedy-night/
LOCATION:Encore Event Center\, 8253 Ronson Rd #199\, San Diego\, CA\, 92111\, United States
CATEGORIES:Monthly Meetings,San Diego County Gun Owners,SDCGO Events
ATTACH;FMTTYPE=image/png:https://gunownersradio.com/wp-content/uploads/2025/03/SDCGOComedy-Night-XMIq4k.tmp_.png
ORGANIZER;CN="San Diego County Gun Owners":MAILTO:desiree@notmesd.org
END:VEVENT
END:VCALENDAR