BEGIN:VCALENDAR
VERSION:2.0
PRODID:-//Gun Owners Radio - ECPv6.15.18//NONSGML v1.0//EN
CALSCALE:GREGORIAN
METHOD:PUBLISH
X-ORIGINAL-URL:https://gunownersradio.com
X-WR-CALDESC:Events for Gun Owners Radio
REFRESH-INTERVAL;VALUE=DURATION:PT1H
X-Robots-Tag:noindex
X-PUBLISHED-TTL:PT1H
BEGIN:VTIMEZONE
TZID:America/Los_Angeles
BEGIN:DAYLIGHT
TZOFFSETFROM:-0800
TZOFFSETTO:-0700
TZNAME:PDT
DTSTART:20240310T100000
END:DAYLIGHT
BEGIN:STANDARD
TZOFFSETFROM:-0700
TZOFFSETTO:-0800
TZNAME:PST
DTSTART:20241103T090000
END:STANDARD
BEGIN:DAYLIGHT
TZOFFSETFROM:-0800
TZOFFSETTO:-0700
TZNAME:PDT
DTSTART:20250309T100000
END:DAYLIGHT
BEGIN:STANDARD
TZOFFSETFROM:-0700
TZOFFSETTO:-0800
TZNAME:PST
DTSTART:20251102T090000
END:STANDARD
BEGIN:DAYLIGHT
TZOFFSETFROM:-0800
TZOFFSETTO:-0700
TZNAME:PDT
DTSTART:20260308T100000
END:DAYLIGHT
BEGIN:STANDARD
TZOFFSETFROM:-0700
TZOFFSETTO:-0800
TZNAME:PST
DTSTART:20261101T090000
END:STANDARD
END:VTIMEZONE
BEGIN:VEVENT
DTSTART;TZID=America/Los_Angeles:20250510T070000
DTEND;TZID=America/Los_Angeles:20250510T143000
DTSTAMP:20260425T072109
CREATED:20250501T011959Z
LAST-MODIFIED:20250501T011959Z
UID:10000362-1746860400-1746887400@gunownersradio.com
SUMMARY:Taco’s and Targets
DESCRIPTION:The Tabletop program is our way of engaging with the Public around San Diego County on gun-related topics and letting them know there is hope! We speak about who SDCGO is and what we do\, CCW permits\, events\, lawsuits\, and of course the elections. You’ll be handing out printed materials\, collecting sign-ups for the newsletter\, and recruiting new members.
URL:https://gunownersradio.com/event/tacos-and-targets/
LOCATION:Lemon Grove Rod & Gun Club
CATEGORIES:San Diego County Gun Owners,SDCGO Events
ATTACH;FMTTYPE=image/jpeg:https://gunownersradio.com/wp-content/uploads/2025/04/image0-3-F25qwd.tmp_.jpg
ORGANIZER;CN="San Diego County Gun Owners":MAILTO:desiree@notmesd.org
END:VEVENT
BEGIN:VEVENT
DTSTART;TZID=America/Los_Angeles:20250510T080000
DTEND;TZID=America/Los_Angeles:20250510T100000
DTSTAMP:20260425T072109
CREATED:20250327T044136Z
LAST-MODIFIED:20250327T044136Z
UID:10000349-1746864000-1746871200@gunownersradio.com
SUMMARY:SDCGO Shooting Social
DESCRIPTION:Be a mentor at our SDCGO shooting social. \nBring a handgun (9mm) for the mentee to use\, and walk them through shooting 50 rounds of ammo. \nWe will give a safety brief and you will be randomly assigned someone to work with. \nYou will be given 10-15 minutes to go over the basics on a cold range. (Stance\, grip\, sight picture\, loading\, magazine release\, slide lock etc) \nYou will help your shooter fire their ammunition through your gun. Your goal is to provide a safe\, fun\, and SAFE first-time shooting experience. Again\, most of these shooters have never fired a gun before. We just want to take the mystery out of shooting by giving a safe\, fun\, first-time experience.
URL:https://gunownersradio.com/event/sdcgo-shooting-social-4/
LOCATION:The Gun Range San Diego\, 7853 Balboa Ave\, San Diego\, CA\, 92111\, United States
CATEGORIES:San Diego County Gun Owners,SDCGO Events,Shooting Socials
ATTACH;FMTTYPE=image/jpeg:https://gunownersradio.com/wp-content/uploads/2023/12/SS2-qM6Jpf.tmp_.jpg
ORGANIZER;CN="San Diego County Gun Owners":MAILTO:desiree@notmesd.org
END:VEVENT
BEGIN:VEVENT
DTSTART;TZID=America/Los_Angeles:20250510T093000
DTEND;TZID=America/Los_Angeles:20250510T153000
DTSTAMP:20260425T072109
CREATED:20250328T002014Z
LAST-MODIFIED:20250328T002014Z
UID:10000352-1746869400-1746891000@gunownersradio.com
SUMMARY:SoCal GunBroker Table Top
DESCRIPTION:SoCal Gun Broker is generously hosting a table for SDCGO to reach out to new members! \nYou would be helping us pass out literature\, and also sign up people for our email list and for memberships.
URL:https://gunownersradio.com/event/socal-gunbroker-table-top/
LOCATION:SoCal Gun Broker\, 1130 D Street #2\, Ramona\, CA\, 92065\, United States
CATEGORIES:San Diego County Gun Owners,SDCGO Events
ATTACH;FMTTYPE=image/jpeg:https://gunownersradio.com/wp-content/uploads/2023/12/TT3-hY8WgG.tmp_.jpg
ORGANIZER;CN="San Diego County Gun Owners":MAILTO:desiree@notmesd.org
END:VEVENT
BEGIN:VEVENT
DTSTART;TZID=America/Los_Angeles:20250517T080000
DTEND;TZID=America/Los_Angeles:20250517T160000
DTSTAMP:20260425T072109
CREATED:20250512T000446Z
LAST-MODIFIED:20250512T000446Z
UID:10000369-1747468800-1747497600@gunownersradio.com
SUMMARY:Biggs Harley-Davidson May Ride Table Top
DESCRIPTION:SDCGO will be hosting a tabletop at the Biggs Harley-Davidson May ride to reach out to new members! \nYou would be helping us pass out literature\, and also sign up people for our email list and for memberships.
URL:https://gunownersradio.com/event/biggs-harley-davidson-may-ride-table-top/
LOCATION:Biggs Harley Davidson\, 1040 Los Vallecitos Blvd.\, San Marcos\, CA\, 92069\, United States
CATEGORIES:San Diego County Gun Owners,SDCGO Events
ATTACH;FMTTYPE=image/jpeg:https://gunownersradio.com/wp-content/uploads/2025/05/image0-5-G2lf4O.jpg
ORGANIZER;CN="San Diego County Gun Owners":MAILTO:desiree@notmesd.org
END:VEVENT
BEGIN:VEVENT
DTSTART;TZID=America/Los_Angeles:20250517T100000
DTEND;TZID=America/Los_Angeles:20250517T160000
DTSTAMP:20260425T072109
CREATED:20250327T042245Z
LAST-MODIFIED:20250327T042245Z
UID:10000344-1747476000-1747497600@gunownersradio.com
SUMMARY:Discount GunMart Table Top
DESCRIPTION:The Tabletop program seems like an excellent way to engage with the community and raise awareness about important issues related to gun rights and safety\, as well as the work being done by SDCGO (San Diego County Gun Owners). By distributing printed materials\, signing up people for newsletters\, and recruiting new members\, you’ll be helping to spread valuable information and grow the organization’s influence.
URL:https://gunownersradio.com/event/discount-gunmart-table-top-2/
LOCATION:Discount Gun Mart\, 1510 Morena Blvd\, San Diego\, CA\, 92115\, United States
CATEGORIES:San Diego County Gun Owners,SDCGO Events
ATTACH;FMTTYPE=image/jpeg:https://gunownersradio.com/wp-content/uploads/2025/03/922-scaled-QVJD2R.tmp_.jpg
ORGANIZER;CN="San Diego County Gun Owners":MAILTO:desiree@notmesd.org
END:VEVENT
BEGIN:VEVENT
DTSTART;TZID=America/Los_Angeles:20250517T100000
DTEND;TZID=America/Los_Angeles:20250517T160000
DTSTAMP:20260425T072109
CREATED:20250430T010506Z
LAST-MODIFIED:20250430T010506Z
UID:10000361-1747476000-1747497600@gunownersradio.com
SUMMARY:RSE Table Top
DESCRIPTION:Ramona Shootist Emporium is generously hosting a table for SDCGO to reach out to new members! \nYou would be helping us pass out literature\, and also sign up people for our email list and for memberships.
URL:https://gunownersradio.com/event/rse-table-top/
LOCATION:Ramona Shootist Emporium\, 649 Main St C\, Ramona\, CA\, 92065\, United States
CATEGORIES:San Diego County Gun Owners,SDCGO Events
ATTACH;FMTTYPE=image/jpeg:https://gunownersradio.com/wp-content/uploads/2025/04/GR1-scaled-idgDPY.tmp_.jpg
ORGANIZER;CN="San Diego County Gun Owners":MAILTO:desiree@notmesd.org
END:VEVENT
BEGIN:VEVENT
DTSTART;TZID=America/Los_Angeles:20250518T080000
DTEND;TZID=America/Los_Angeles:20250518T100000
DTSTAMP:20260425T072109
CREATED:20250327T044036Z
LAST-MODIFIED:20250615T233425Z
UID:10000345-1747555200-1747562400@gunownersradio.com
SUMMARY:Gun n Moses
DESCRIPTION:Be a mentor at our Guns N’ Moses shooting social. \nBring a handgun (9mm) for the mentee to use\, and walk them through shooting 50 rounds of ammo. \nWe will give a safety brief and you will be randomly assigned someone to work with. \nYou will be given 10-15 minutes to go over the basics on a cold range. (Stance\, grip\, sight picture\, loading\, magazine release\, slide lock etc) \nYou will help your shooter fire their ammunition through your gun. Your goal is to provide a safe\, fun\, and SAFE first-time shooting experience. Again\, most of these shooters have never fired a gun before. We just want to take the mystery out of shooting by giving a safe\, fun\, first-time experience.
URL:https://gunownersradio.com/event/gun-n-moses-2/
LOCATION:Poway Weapons and Gear\, 13550 Danielson St\, Poway\, CA\, 92064\, United States
CATEGORIES:San Diego County Gun Owners,Shooting Socials
ATTACH;FMTTYPE=image/jpeg:https://gunownersradio.com/wp-content/uploads/2023/12/GunsNMoses_updated.logo_-scaled-PZc8a6.tmp_.jpg
ORGANIZER;CN="San Diego County Gun Owners":MAILTO:desiree@notmesd.org
END:VEVENT
BEGIN:VEVENT
DTSTART;TZID=America/Los_Angeles:20250521T180000
DTEND;TZID=America/Los_Angeles:20250521T193000
DTSTAMP:20260425T072109
CREATED:20250430T000350Z
LAST-MODIFIED:20250615T233638Z
UID:10000360-1747850400-1747855800@gunownersradio.com
SUMMARY:After the Fight: You’re alive\, but now the hard part begins.
DESCRIPTION:Learn from USCCA Network Attorney\, Gary Gibson \nJoin us for an informative session with USCCA Network Attorney Gary Gibson as he shares crucial insights on how to legally defend yourself if you ever have to protect yourself. Gary will break down the legal aspects of self-defense\, offering clear guidance on what you need to know before\, during\, and after a self-defense incident. \nDrawing from real courtroom experiences\, Gary will also share stories from recent cases\, giving you a firsthand look at how these situations play out in the legal system. \nWhether you’re new to self-defense or looking to deepen your understanding\, this is an opportunity to learn from a seasoned attorney who’s been in the trenches. \nDonation is recommended but not required.
URL:https://gunownersradio.com/event/after-the-fight-youre-alive-but-now-the-hard-part-begins/
LOCATION:Elijah’s  Restaurant\, 7061 Clairemont Mesa Blvd\, San Diego\, ca\, 92111
CATEGORIES:San Diego County Gun Owners,SDCGO Events
ATTACH;FMTTYPE=image/png:https://gunownersradio.com/wp-content/uploads/2025/04/5.21-fqq7lX.tmp_.png
ORGANIZER;CN="San Diego County Gun Owners":MAILTO:desiree@notmesd.org
END:VEVENT
BEGIN:VEVENT
DTSTART;TZID=America/Los_Angeles:20250531T100000
DTEND;TZID=America/Los_Angeles:20250531T160000
DTSTAMP:20260425T072109
CREATED:20250523T001859Z
LAST-MODIFIED:20250523T001859Z
UID:10000372-1748685600-1748707200@gunownersradio.com
SUMMARY:Turners Table Top
DESCRIPTION:The Tabletop program is our way of engaging with the Public around San Diego County on gun-related topics and letting them know there is hope! We speak about who SDCGO is and what we do\, CCW permits\, events\, lawsuits\, and of course the elections. You’ll be handing out printed materials\, collecting sign-ups for the newsletter\, and recruiting new members.
URL:https://gunownersradio.com/event/turners-table-top-12/
LOCATION:turners\, 2085 MONTIEL ROAD\, San Marcos\, CA\, 92069
CATEGORIES:San Diego County Gun Owners,SDCGO Events
ATTACH;FMTTYPE=image/jpeg:https://gunownersradio.com/wp-content/uploads/2025/03/920-scaled-ChtksC.tmp_.jpg
ORGANIZER;CN="San Diego County Gun Owners":MAILTO:desiree@notmesd.org
END:VEVENT
END:VCALENDAR