BEGIN:VCALENDAR
VERSION:2.0
PRODID:-//Gun Owners Radio - ECPv6.15.18//NONSGML v1.0//EN
CALSCALE:GREGORIAN
METHOD:PUBLISH
X-ORIGINAL-URL:https://gunownersradio.com
X-WR-CALDESC:Events for Gun Owners Radio
REFRESH-INTERVAL;VALUE=DURATION:PT1H
X-Robots-Tag:noindex
X-PUBLISHED-TTL:PT1H
BEGIN:VTIMEZONE
TZID:America/Los_Angeles
BEGIN:DAYLIGHT
TZOFFSETFROM:-0800
TZOFFSETTO:-0700
TZNAME:PDT
DTSTART:20240310T100000
END:DAYLIGHT
BEGIN:STANDARD
TZOFFSETFROM:-0700
TZOFFSETTO:-0800
TZNAME:PST
DTSTART:20241103T090000
END:STANDARD
BEGIN:DAYLIGHT
TZOFFSETFROM:-0800
TZOFFSETTO:-0700
TZNAME:PDT
DTSTART:20250309T100000
END:DAYLIGHT
BEGIN:STANDARD
TZOFFSETFROM:-0700
TZOFFSETTO:-0800
TZNAME:PST
DTSTART:20251102T090000
END:STANDARD
BEGIN:DAYLIGHT
TZOFFSETFROM:-0800
TZOFFSETTO:-0700
TZNAME:PDT
DTSTART:20260308T100000
END:DAYLIGHT
BEGIN:STANDARD
TZOFFSETFROM:-0700
TZOFFSETTO:-0800
TZNAME:PST
DTSTART:20261101T090000
END:STANDARD
END:VTIMEZONE
BEGIN:VEVENT
DTSTART;TZID=America/Los_Angeles:20250430T173000
DTEND;TZID=America/Los_Angeles:20250430T210000
DTSTAMP:20260425T091205
CREATED:20250327T042244Z
LAST-MODIFIED:20250327T042244Z
UID:10000343-1746034200-1746046800@gunownersradio.com
SUMMARY:NotMeSD Birthday Bash & SDCGO Comedy Night
DESCRIPTION:🎉 NotMeSD is Turning 6! 🎉 \nWe are thrilled to celebrate 6 incredible years of empowering women through education\, training\, and self-protection! Over the past six years\, NotMeSD has helped over 1\,300 women take control of their safety by finding instructors\, selecting the right firearms\, and navigating the CCW permit process. \nThis milestone is a testament to the strength of our community and the importance of our mission. Join us as we celebrate our success\, our growth\, and the incredible women who have been part of this journey! \nAND \n😂🎤 Get Ready to Laugh Till You Cry! 🎤😂 \nJoin us for a night of non-stop laughter at Encore Event Center on April 30th at 7pm! We’re bringing you a lineup of hilarious comedians who will have you rolling in your seat. \n🎭 What to Expect?\n✅ Side-splitting stand-up comedy\n✅ Delicious drinks & great vibes\n✅ The perfect night out with friends \n📍 Location: Encore Event Center – 8253 Ronson Rd. San Diego\, CA 92111\n🎟 Tickets: $25\n🔥 Reserve your spot now – seats are filling fast! \nWhat’s in store?\n😂 Gut-busting jokes from top comedians\n🍹 Great drinks & a fun atmosphere\n🎉 An unforgettable night out with friends \nDon’t miss out – grab your tickets before they’re gone! Tag your crew and let’s get ready to LOL! 🤣👇
URL:https://gunownersradio.com/event/notmesd-birthday-bash-sdcgo-comedy-night/
LOCATION:Encore Event Center\, 8253 Ronson Rd #199\, San Diego\, CA\, 92111\, United States
CATEGORIES:San Diego County Gun Owners,SDCGO Events
ATTACH;FMTTYPE=image/png:https://gunownersradio.com/wp-content/uploads/2025/03/Ladies-Second-Amendment-1-AMQu5v.tmp_.png
ORGANIZER;CN="NotMeSD":MAILTO:desiree@notmesd.org
END:VEVENT
BEGIN:VEVENT
DTSTART;TZID=America/Los_Angeles:20250430T190000
DTEND;TZID=America/Los_Angeles:20250430T210000
DTSTAMP:20260425T091205
CREATED:20250327T044134Z
LAST-MODIFIED:20250511T235117Z
UID:10000348-1746039600-1746046800@gunownersradio.com
SUMMARY:SDCGO Comedy Night
DESCRIPTION:😂🎤 Get Ready to Laugh Till You Cry! 🎤😂 \nJoin us for a night of non-stop laughter at Encore Event Center on April 30th at 7pm! We’re bringing you a lineup of hilarious comedians who will have you rolling in your seat. \n🎭 What to Expect?\n ✅ Side-splitting stand-up comedy\n ✅ Delicious drinks & great vibes\n ✅ The perfect night out with friends \n📍 Location: Encore Event Center – 8253 Ronson Rd. San Diego\, CA 92111\n 🎟 Tickets: $20\n 🔥 Reserve your spot now – seats are filling fast! \nWhat’s in store?\n 😂 Gut-busting jokes from top comedians\n 🍹 Great drinks & a fun atmosphere\n 🎉 An unforgettable night out with friends \nDon’t miss out – grab your tickets before they’re gone! Tag your crew and let’s get ready to LOL! 🤣👇 \nGET TICKETS
URL:https://gunownersradio.com/event/sdcgo-comedy-night/
LOCATION:Encore Event Center\, 8253 Ronson Rd #199\, San Diego\, CA\, 92111\, United States
CATEGORIES:Monthly Meetings,San Diego County Gun Owners,SDCGO Events
ATTACH;FMTTYPE=image/png:https://gunownersradio.com/wp-content/uploads/2025/03/SDCGOComedy-Night-XMIq4k.tmp_.png
ORGANIZER;CN="San Diego County Gun Owners":MAILTO:desiree@notmesd.org
END:VEVENT
END:VCALENDAR