BEGIN:VCALENDAR
VERSION:2.0
PRODID:-//Gun Owners Radio - ECPv6.15.18//NONSGML v1.0//EN
CALSCALE:GREGORIAN
METHOD:PUBLISH
X-ORIGINAL-URL:https://gunownersradio.com
X-WR-CALDESC:Events for Gun Owners Radio
REFRESH-INTERVAL;VALUE=DURATION:PT1H
X-Robots-Tag:noindex
X-PUBLISHED-TTL:PT1H
BEGIN:VTIMEZONE
TZID:America/Los_Angeles
BEGIN:DAYLIGHT
TZOFFSETFROM:-0800
TZOFFSETTO:-0700
TZNAME:PDT
DTSTART:20240310T100000
END:DAYLIGHT
BEGIN:STANDARD
TZOFFSETFROM:-0700
TZOFFSETTO:-0800
TZNAME:PST
DTSTART:20241103T090000
END:STANDARD
BEGIN:DAYLIGHT
TZOFFSETFROM:-0800
TZOFFSETTO:-0700
TZNAME:PDT
DTSTART:20250309T100000
END:DAYLIGHT
BEGIN:STANDARD
TZOFFSETFROM:-0700
TZOFFSETTO:-0800
TZNAME:PST
DTSTART:20251102T090000
END:STANDARD
BEGIN:DAYLIGHT
TZOFFSETFROM:-0800
TZOFFSETTO:-0700
TZNAME:PDT
DTSTART:20260308T100000
END:DAYLIGHT
BEGIN:STANDARD
TZOFFSETFROM:-0700
TZOFFSETTO:-0800
TZNAME:PST
DTSTART:20261101T090000
END:STANDARD
END:VTIMEZONE
BEGIN:VEVENT
DTSTART;TZID=America/Los_Angeles:20250521T180000
DTEND;TZID=America/Los_Angeles:20250521T193000
DTSTAMP:20260425T085335
CREATED:20250430T000350Z
LAST-MODIFIED:20250615T233638Z
UID:10000360-1747850400-1747855800@gunownersradio.com
SUMMARY:After the Fight: You’re alive\, but now the hard part begins.
DESCRIPTION:Learn from USCCA Network Attorney\, Gary Gibson \nJoin us for an informative session with USCCA Network Attorney Gary Gibson as he shares crucial insights on how to legally defend yourself if you ever have to protect yourself. Gary will break down the legal aspects of self-defense\, offering clear guidance on what you need to know before\, during\, and after a self-defense incident. \nDrawing from real courtroom experiences\, Gary will also share stories from recent cases\, giving you a firsthand look at how these situations play out in the legal system. \nWhether you’re new to self-defense or looking to deepen your understanding\, this is an opportunity to learn from a seasoned attorney who’s been in the trenches. \nDonation is recommended but not required.
URL:https://gunownersradio.com/event/after-the-fight-youre-alive-but-now-the-hard-part-begins/
LOCATION:Elijah’s  Restaurant\, 7061 Clairemont Mesa Blvd\, San Diego\, ca\, 92111
CATEGORIES:San Diego County Gun Owners,SDCGO Events
ATTACH;FMTTYPE=image/png:https://gunownersradio.com/wp-content/uploads/2025/04/5.21-fqq7lX.tmp_.png
ORGANIZER;CN="San Diego County Gun Owners":MAILTO:desiree@notmesd.org
END:VEVENT
END:VCALENDAR