BEGIN:VCALENDAR
VERSION:2.0
PRODID:-//Gun Owners Radio - ECPv6.15.18//NONSGML v1.0//EN
CALSCALE:GREGORIAN
METHOD:PUBLISH
X-WR-CALNAME:Gun Owners Radio
X-ORIGINAL-URL:https://gunownersradio.com
X-WR-CALDESC:Events for Gun Owners Radio
REFRESH-INTERVAL;VALUE=DURATION:PT1H
X-Robots-Tag:noindex
X-PUBLISHED-TTL:PT1H
BEGIN:VTIMEZONE
TZID:America/Los_Angeles
BEGIN:DAYLIGHT
TZOFFSETFROM:-0800
TZOFFSETTO:-0700
TZNAME:PDT
DTSTART:20220313T100000
END:DAYLIGHT
BEGIN:STANDARD
TZOFFSETFROM:-0700
TZOFFSETTO:-0800
TZNAME:PST
DTSTART:20221106T090000
END:STANDARD
BEGIN:DAYLIGHT
TZOFFSETFROM:-0800
TZOFFSETTO:-0700
TZNAME:PDT
DTSTART:20230312T100000
END:DAYLIGHT
BEGIN:STANDARD
TZOFFSETFROM:-0700
TZOFFSETTO:-0800
TZNAME:PST
DTSTART:20231105T090000
END:STANDARD
BEGIN:DAYLIGHT
TZOFFSETFROM:-0800
TZOFFSETTO:-0700
TZNAME:PDT
DTSTART:20240310T100000
END:DAYLIGHT
BEGIN:STANDARD
TZOFFSETFROM:-0700
TZOFFSETTO:-0800
TZNAME:PST
DTSTART:20241103T090000
END:STANDARD
END:VTIMEZONE
BEGIN:VEVENT
DTSTART;TZID=America/Los_Angeles:20231214T173000
DTEND;TZID=America/Los_Angeles:20231214T190000
DTSTAMP:20260425T134848
CREATED:20231212T074301Z
LAST-MODIFIED:20231212T074301Z
UID:10000256-1702575000-1702580400@gunownersradio.com
SUMMARY:Christmas Party Volunteer
DESCRIPTION:
URL:https://gunownersradio.com/event/christmas-party-volunteer/
LOCATION:5280 CARROLL CANYON RD\, 5280 CARROLL CANYON RD\, San Diego\, CA\, 92121\, United States
CATEGORIES:San Diego County Gun Owners
ATTACH;FMTTYPE=image/png:https://gunownersradio.com/wp-content/uploads/2023/12/Screenshot-2023-11-21-at-2.57.09-PM-R2tPsK.tmp_.png
ORGANIZER;CN="San Diego County Gun Owners":MAILTO:desiree@notmesd.org
END:VEVENT
BEGIN:VEVENT
DTSTART;TZID=America/Los_Angeles:20231209T100000
DTEND;TZID=America/Los_Angeles:20231209T160000
DTSTAMP:20260425T134848
CREATED:20230928T231302Z
LAST-MODIFIED:20230928T231302Z
UID:10000237-1702116000-1702137600@gunownersradio.com
SUMMARY:12/9 Gunther Guns Table Top
DESCRIPTION:
URL:https://gunownersradio.com/event/12-9-gunther-guns-table-top/
LOCATION:Gunther Guns\, 2717 Loker Ave W\, Carlsbad\, CA\, 92010\, United States
CATEGORIES:San Diego County Gun Owners
ATTACH;FMTTYPE=image/jpeg:https://gunownersradio.com/wp-content/uploads/2023/02/IMG_4618-1-az7wAb.tmp_.jpg
ORGANIZER;CN="San Diego County Gun Owners":MAILTO:desiree@notmesd.org
END:VEVENT
BEGIN:VEVENT
DTSTART;TZID=America/Los_Angeles:20231209T080000
DTEND;TZID=America/Los_Angeles:20231209T100000
DTSTAMP:20260425T134848
CREATED:20231026T012507Z
LAST-MODIFIED:20231026T012507Z
UID:10000249-1702108800-1702116000@gunownersradio.com
SUMMARY:12/9 NotMeSD Shooting Social
DESCRIPTION:
URL:https://gunownersradio.com/event/12-9-notmesd-shooting-social/
LOCATION:The Gun Range San Diego\, 7853 Balboa Ave\, San Diego\, CA\, 92111\, United States
CATEGORIES:San Diego County Gun Owners,Shooting Socials
ATTACH;FMTTYPE=image/jpeg:https://gunownersradio.com/wp-content/uploads/2023/10/notmesd-feature-image-wIRO7L.tmp_.jpg
ORGANIZER;CN="San Diego County Gun Owners":MAILTO:desiree@notmesd.org
END:VEVENT
BEGIN:VEVENT
DTSTART;TZID=America/Los_Angeles:20231202T100000
DTEND;TZID=America/Los_Angeles:20231202T160000
DTSTAMP:20260425T134848
CREATED:20230926T005154Z
LAST-MODIFIED:20230926T005154Z
UID:10000231-1701511200-1701532800@gunownersradio.com
SUMMARY:12/2 Turners San Marcos Table Top
DESCRIPTION:
URL:https://gunownersradio.com/event/12-2-turners-san-marcos-table-top/
LOCATION:turners\, 2085 MONTIEL ROAD\, San Marcos\, CA\, 92069
CATEGORIES:San Diego County Gun Owners
ATTACH;FMTTYPE=image/jpeg:https://gunownersradio.com/wp-content/uploads/2023/06/IMG_1929-lN66xB.tmp_.jpg
ORGANIZER;CN="San Diego County Gun Owners":MAILTO:desiree@notmesd.org
END:VEVENT
BEGIN:VEVENT
DTSTART;TZID=America/Los_Angeles:20231125T100000
DTEND;TZID=America/Los_Angeles:20231125T160000
DTSTAMP:20260425T134848
CREATED:20230928T231301Z
LAST-MODIFIED:20230928T231301Z
UID:10000236-1700906400-1700928000@gunownersradio.com
SUMMARY:11/25 Iron Sites Table Top
DESCRIPTION:
URL:https://gunownersradio.com/event/11-25-iron-sites-table-top/
LOCATION:Iron Sights Shooting Range\, 618 Airport Rd\, Oceanside\, CA\, 92058\, United States
CATEGORIES:San Diego County Gun Owners
ATTACH;FMTTYPE=image/jpeg:https://gunownersradio.com/wp-content/uploads/2023/02/GG21JAN22a-1-scaled-EAYkdd.tmp_.jpg
ORGANIZER;CN="San Diego County Gun Owners":MAILTO:desiree@notmesd.org
END:VEVENT
BEGIN:VEVENT
DTSTART;TZID=America/Los_Angeles:20231119T080000
DTEND;TZID=America/Los_Angeles:20231119T100000
DTSTAMP:20260425T134848
CREATED:20231026T012506Z
LAST-MODIFIED:20231026T012506Z
UID:10000248-1700380800-1700388000@gunownersradio.com
SUMMARY:11/19 Guns n Moses Shooting Social
DESCRIPTION:
URL:https://gunownersradio.com/event/11-19-guns-n-moses-shooting-social/
LOCATION:Poway Weapons and Gear\, 13550 Danielson St\, Poway\, CA\, 92064\, United States
CATEGORIES:San Diego County Gun Owners,Shooting Socials
ATTACH;FMTTYPE=image/jpeg:https://gunownersradio.com/wp-content/uploads/2023/09/notme-range-day1-cPMsCX.tmp_.jpg
ORGANIZER;CN="San Diego County Gun Owners":MAILTO:desiree@notmesd.org
END:VEVENT
BEGIN:VEVENT
DTSTART;TZID=America/Los_Angeles:20231118T100000
DTEND;TZID=America/Los_Angeles:20231118T160000
DTSTAMP:20260425T134848
CREATED:20230820T005111Z
LAST-MODIFIED:20230820T005111Z
UID:10000219-1700301600-1700323200@gunownersradio.com
SUMMARY:Discount Gun Mart Table Top
DESCRIPTION:
URL:https://gunownersradio.com/event/discount-gun-mart-table-top-4/
LOCATION:Discount Gun Mart\, 1510 Morena Blvd\, San Diego\, CA\, 92115\, United States
CATEGORIES:San Diego County Gun Owners
ATTACH;FMTTYPE=image/jpeg:https://gunownersradio.com/wp-content/uploads/2023/02/TT3-rFzBHb.tmp_.jpg
ORGANIZER;CN="San Diego County Gun Owners":MAILTO:desiree@notmesd.org
END:VEVENT
BEGIN:VEVENT
DTSTART;TZID=America/Los_Angeles:20231116T180000
DTEND;TZID=America/Los_Angeles:20231116T193000
DTSTAMP:20260425T134848
CREATED:20231101T044659Z
LAST-MODIFIED:20231101T044659Z
UID:10000254-1700157600-1700163000@gunownersradio.com
SUMMARY:November Monthly Meeting- South
DESCRIPTION:
URL:https://gunownersradio.com/event/november-monthly-meeting-south/
LOCATION:La Bella Pizza Garden\, 373 3rd Ave\, Chula Vista\, CA\, 91910\, United States
CATEGORIES:Monthly Meetings,San Diego County Gun Owners,SDCGO Events
ATTACH;FMTTYPE=image/jpeg:https://gunownersradio.com/wp-content/uploads/2023/10/Nov_South_1_v01-7dn7BL.tmp_.jpg
ORGANIZER;CN="San Diego County Gun Owners":MAILTO:desiree@notmesd.org
END:VEVENT
BEGIN:VEVENT
DTSTART;TZID=America/Los_Angeles:20231115T180000
DTEND;TZID=America/Los_Angeles:20231115T193000
DTSTAMP:20260425T134848
CREATED:20231101T044653Z
LAST-MODIFIED:20231101T044653Z
UID:10000253-1700071200-1700076600@gunownersradio.com
SUMMARY:November Monthly Meeting -Central
DESCRIPTION:
URL:https://gunownersradio.com/event/november-monthly-meeting-central/
LOCATION:Poway Weapons and Gear\, 13550 Danielson St\, Poway\, CA\, 92064\, United States
CATEGORIES:Monthly Meetings,San Diego County Gun Owners,SDCGO Events
ATTACH;FMTTYPE=image/jpeg:https://gunownersradio.com/wp-content/uploads/2023/10/Nov_Central_1_v01-vnFOWj.tmp_.jpg
ORGANIZER;CN="San Diego County Gun Owners":MAILTO:desiree@notmesd.org
END:VEVENT
BEGIN:VEVENT
DTSTART;TZID=America/Los_Angeles:20231114T180000
DTEND;TZID=America/Los_Angeles:20231114T193000
DTSTAMP:20260425T134848
CREATED:20231101T044646Z
LAST-MODIFIED:20231101T044646Z
UID:10000252-1699984800-1699990200@gunownersradio.com
SUMMARY:November Monthly Meeting – North
DESCRIPTION:
URL:https://gunownersradio.com/event/november-monthly-meeting-north/
LOCATION:North County Shooting Center\, 1440 Descanso Ave.\, San Marcos\, CA\, 92069\, United States
CATEGORIES:Monthly Meetings,San Diego County Gun Owners,SDCGO Events
ATTACH;FMTTYPE=image/jpeg:https://gunownersradio.com/wp-content/uploads/2023/10/Nov_North_1_v01-6twkmM.tmp_.jpg
ORGANIZER;CN="San Diego County Gun Owners":MAILTO:desiree@notmesd.org
END:VEVENT
BEGIN:VEVENT
DTSTART;TZID=America/Los_Angeles:20231111T120000
DTEND;TZID=America/Los_Angeles:20231111T183000
DTSTAMP:20260425T134848
CREATED:20231031T205247Z
LAST-MODIFIED:20231031T205247Z
UID:10000251-1699704000-1699727400@gunownersradio.com
SUMMARY:11/11 Valley Center  Country Top Table Top
DESCRIPTION:
URL:https://gunownersradio.com/event/11-11-valley-center-country-top-table-top/
LOCATION:Valley Center
CATEGORIES:San Diego County Gun Owners,SDCGO Events
ATTACH;FMTTYPE=image/jpeg:https://gunownersradio.com/wp-content/uploads/2023/05/IMG_1932-sYiOkJ.tmp_.jpg
ORGANIZER;CN="San Diego County Gun Owners":MAILTO:desiree@notmesd.org
END:VEVENT
BEGIN:VEVENT
DTSTART;TZID=America/Los_Angeles:20231111T080000
DTEND;TZID=America/Los_Angeles:20231111T110000
DTSTAMP:20260425T134848
CREATED:20230926T005154Z
LAST-MODIFIED:20230926T005154Z
UID:10000230-1699689600-1699700400@gunownersradio.com
SUMMARY:Escondido Vet Fest Table Top
DESCRIPTION:
URL:https://gunownersradio.com/event/escondido-vet-fest-table-top/
CATEGORIES:San Diego County Gun Owners
ATTACH;FMTTYPE=image/jpeg:https://gunownersradio.com/wp-content/uploads/2023/09/TT-FJ5OpC.tmp_.jpg
ORGANIZER;CN="San Diego County Gun Owners":MAILTO:desiree@notmesd.org
END:VEVENT
BEGIN:VEVENT
DTSTART;TZID=America/Los_Angeles:20231111T080000
DTEND;TZID=America/Los_Angeles:20231111T100000
DTSTAMP:20260425T134848
CREATED:20231026T012506Z
LAST-MODIFIED:20231026T012506Z
UID:10000247-1699689600-1699696800@gunownersradio.com
SUMMARY:11/11 SDCGO Shooting Social
DESCRIPTION:
URL:https://gunownersradio.com/event/11-11-sdcgo-shooting-social/
LOCATION:The Gun Range San Diego\, 7853 Balboa Ave\, San Diego\, CA\, 92111\, United States
CATEGORIES:San Diego County Gun Owners,Shooting Socials
ATTACH;FMTTYPE=image/jpeg:https://gunownersradio.com/wp-content/uploads/2023/09/notme-range-day1-cPMsCX.tmp_.jpg
ORGANIZER;CN="San Diego County Gun Owners":MAILTO:desiree@notmesd.org
END:VEVENT
BEGIN:VEVENT
DTSTART;TZID=America/Los_Angeles:20231101T173000
DTEND;TZID=America/Los_Angeles:20231101T190000
DTSTAMP:20260425T134848
CREATED:20231017T223942Z
LAST-MODIFIED:20231017T223942Z
UID:10000246-1698859800-1698865200@gunownersradio.com
SUMMARY:Legal Self-Defense Class
DESCRIPTION:
URL:https://gunownersradio.com/event/legal-self-defense-class/
LOCATION:Discount Gun Mart\, 1510 Morena Blvd\, San Diego\, CA\, 92115\, United States
CATEGORIES:San Diego County Gun Owners,SDCGO Events
ATTACH;FMTTYPE=image/png:https://gunownersradio.com/wp-content/uploads/2023/10/Self-Defense-G0lLp8.tmp_.png
ORGANIZER;CN="San Diego County Gun Owners":MAILTO:desiree@notmesd.org
END:VEVENT
BEGIN:VEVENT
DTSTART;TZID=America/Los_Angeles:20231028T100000
DTEND;TZID=America/Los_Angeles:20231028T160000
DTSTAMP:20260425T134848
CREATED:20231027T003038Z
LAST-MODIFIED:20231027T003038Z
UID:10000250-1698487200-1698508800@gunownersradio.com
SUMMARY:10/28 North County Shooting Center Table Top
DESCRIPTION:
URL:https://gunownersradio.com/event/10-28-north-county-shooting-center-table-top/
LOCATION:North County Shooting Center\, 1440 Descanso Ave.\, San Marcos\, CA\, 92069\, United States
CATEGORIES:San Diego County Gun Owners,SDCGO Events
ATTACH;FMTTYPE=image/jpeg:https://gunownersradio.com/wp-content/uploads/2023/02/GG21JAN22a-1-scaled-EAYkdd.tmp_.jpg
ORGANIZER;CN="San Diego County Gun Owners":MAILTO:desiree@notmesd.org
END:VEVENT
BEGIN:VEVENT
DTSTART;TZID=America/Los_Angeles:20231022T090000
DTEND;TZID=America/Los_Angeles:20231022T170000
DTSTAMP:20260425T134848
CREATED:20231003T201705Z
LAST-MODIFIED:20231003T201705Z
UID:10000244-1697965200-1697994000@gunownersradio.com
SUMMARY:10/21&10/22 Gun Show
DESCRIPTION:
URL:https://gunownersradio.com/event/10-2110-22-gun-show-2/
LOCATION:East San Diego Masonic Lodge\, 7849 Tommy Dr\, El Cajon\, CA\, 92119\, United States
CATEGORIES:San Diego County Gun Owners
ATTACH;FMTTYPE=image/png:https://gunownersradio.com/wp-content/uploads/2023/10/Screen-Shot-2023-10-02-at-12.10.22-PM-MohB3z.tmp_.png
ORGANIZER;CN="San Diego County Gun Owners":MAILTO:desiree@notmesd.org
END:VEVENT
BEGIN:VEVENT
DTSTART;TZID=America/Los_Angeles:20231021T090000
DTEND;TZID=America/Los_Angeles:20231021T170000
DTSTAMP:20260425T134848
CREATED:20231003T201659Z
LAST-MODIFIED:20231003T201659Z
UID:10000243-1697878800-1697907600@gunownersradio.com
SUMMARY:10/21&10/22 Gun Show
DESCRIPTION:
URL:https://gunownersradio.com/event/10-2110-22-gun-show/
LOCATION:East San Diego Masonic Lodge\, 7849 Tommy Dr\, El Cajon\, CA\, 92119\, United States
CATEGORIES:San Diego County Gun Owners
ATTACH;FMTTYPE=image/png:https://gunownersradio.com/wp-content/uploads/2023/10/Screen-Shot-2023-10-02-at-12.10.22-PM-MohB3z.tmp_.png
ORGANIZER;CN="San Diego County Gun Owners":MAILTO:desiree@notmesd.org
END:VEVENT
BEGIN:VEVENT
DTSTART;TZID=America/Los_Angeles:20231021T080000
DTEND;TZID=America/Los_Angeles:20231021T170000
DTSTAMP:20260425T134848
CREATED:20231012T001545Z
LAST-MODIFIED:20231012T001545Z
UID:10000245-1697875200-1697907600@gunownersradio.com
SUMMARY:10/21 BiPoc Shooting Social
DESCRIPTION:
URL:https://gunownersradio.com/event/10-21-bipoc-shooting-social/
LOCATION:Discount Gun Mart\, 1510 Morena Blvd\, San Diego\, CA\, 92115\, United States
CATEGORIES:San Diego County Gun Owners
ORGANIZER;CN="San Diego County Gun Owners":MAILTO:desiree@notmesd.org
END:VEVENT
BEGIN:VEVENT
DTSTART;TZID=America/Los_Angeles:20231018T180000
DTEND;TZID=America/Los_Angeles:20231018T193000
DTSTAMP:20260425T134848
CREATED:20231001T192641Z
LAST-MODIFIED:20231001T192641Z
UID:10000241-1697652000-1697657400@gunownersradio.com
SUMMARY:October Monthly Meeting – Central
DESCRIPTION:
URL:https://gunownersradio.com/event/october-monthly-meeting-central/
LOCATION:Discount Gun Mart\, 1510 Morena Blvd\, San Diego\, CA\, 92115\, United States
CATEGORIES:Monthly Meetings,San Diego County Gun Owners,SDCGO Events
ATTACH;FMTTYPE=image/jpeg:https://gunownersradio.com/wp-content/uploads/2023/10/OCt-Central-nvZMAa.tmp_.jpg
ORGANIZER;CN="San Diego County Gun Owners":MAILTO:desiree@notmesd.org
END:VEVENT
BEGIN:VEVENT
DTSTART;TZID=America/Los_Angeles:20231017T180000
DTEND;TZID=America/Los_Angeles:20231017T193000
DTSTAMP:20260425T134848
CREATED:20231001T192636Z
LAST-MODIFIED:20231001T192636Z
UID:10000240-1697565600-1697571000@gunownersradio.com
SUMMARY:October Monthly Meeting – North
DESCRIPTION:
URL:https://gunownersradio.com/event/october-monthly-meeting-north/
LOCATION:North County Shooting Center\, 1440 Descanso Ave.\, San Marcos\, CA\, 92069\, United States
CATEGORIES:Monthly Meetings,San Diego County Gun Owners,SDCGO Events
ATTACH;FMTTYPE=image/jpeg:https://gunownersradio.com/wp-content/uploads/2023/10/Oct-North-WYkeNA.tmp_.jpg
ORGANIZER;CN="San Diego County Gun Owners":MAILTO:desiree@notmesd.org
END:VEVENT
BEGIN:VEVENT
DTSTART;TZID=America/Los_Angeles:20231015T090000
DTEND;TZID=America/Los_Angeles:20231015T170000
DTSTAMP:20260425T134848
CREATED:20230926T005152Z
LAST-MODIFIED:20230926T005152Z
UID:10000229-1697360400-1697389200@gunownersradio.com
SUMMARY:10/15 Escondido Street Fair
DESCRIPTION:
URL:https://gunownersradio.com/event/10-15-escondido-street-fair/
LOCATION:Historic Downtown Escondido\, Grand Ave.
CATEGORIES:San Diego County Gun Owners
ATTACH;FMTTYPE=image/webp:https://gunownersradio.com/wp-content/uploads/2023/09/Grand-OEseHP.tmp_.webp
ORGANIZER;CN="San Diego County Gun Owners":MAILTO:desiree@notmesd.org
END:VEVENT
BEGIN:VEVENT
DTSTART;TZID=America/Los_Angeles:20231014T170000
DTEND;TZID=America/Los_Angeles:20231014T210000
DTSTAMP:20260425T134848
CREATED:20230927T225419Z
LAST-MODIFIED:20230927T225419Z
UID:10000235-1697302800-1697317200@gunownersradio.com
SUMMARY:10/13&10/14 Bulls only Rodeo Table Top
DESCRIPTION:
URL:https://gunownersradio.com/event/10-1310-14-bulls-only-rodeo-table-top-3/
LOCATION:Lakeside Rodeo\, 12584 Mapleview St\, Lakeside\, CA\, 92040\, United States
CATEGORIES:San Diego County Gun Owners,SDCGO Events
ATTACH;FMTTYPE=image/webp:https://gunownersradio.com/wp-content/uploads/2023/09/Bulls-l9zPzz.tmp_.webp
ORGANIZER;CN="San Diego County Gun Owners":MAILTO:desiree@notmesd.org
END:VEVENT
BEGIN:VEVENT
DTSTART;TZID=America/Los_Angeles:20231013T170000
DTEND;TZID=America/Los_Angeles:20231013T210000
DTSTAMP:20260425T134848
CREATED:20230927T225418Z
LAST-MODIFIED:20230927T225418Z
UID:10000234-1697216400-1697230800@gunownersradio.com
SUMMARY:10/13&10/14 Bulls only Rodeo Table Top
DESCRIPTION:
URL:https://gunownersradio.com/event/10-1310-14-bulls-only-rodeo-table-top-2/
LOCATION:Lakeside Rodeo\, 12584 Mapleview St\, Lakeside\, CA\, 92040\, United States
CATEGORIES:San Diego County Gun Owners,SDCGO Events
ATTACH;FMTTYPE=image/webp:https://gunownersradio.com/wp-content/uploads/2023/09/Bulls-l9zPzz.tmp_.webp
ORGANIZER;CN="San Diego County Gun Owners":MAILTO:desiree@notmesd.org
END:VEVENT
BEGIN:VEVENT
DTSTART;TZID=America/Los_Angeles:20231007T100000
DTEND;TZID=America/Los_Angeles:20231007T160000
DTSTAMP:20260425T134848
CREATED:20230926T005149Z
LAST-MODIFIED:20230926T005149Z
UID:10000228-1696672800-1696694400@gunownersradio.com
SUMMARY:10/7 Turners San Marcos Table Top
DESCRIPTION:
URL:https://gunownersradio.com/event/10-7-turners-san-marcos-table-top/
LOCATION:turners\, 2085 MONTIEL ROAD\, San Marcos\, CA\, 92069
CATEGORIES:San Diego County Gun Owners
ATTACH;FMTTYPE=image/jpeg:https://gunownersradio.com/wp-content/uploads/2023/09/TT-FJ5OpC.tmp_.jpg
ORGANIZER;CN="San Diego County Gun Owners":MAILTO:desiree@notmesd.org
END:VEVENT
BEGIN:VEVENT
DTSTART;TZID=America/Los_Angeles:20231001T100000
DTEND;TZID=America/Los_Angeles:20231001T170000
DTSTAMP:20260425T134848
CREATED:20230926T005147Z
LAST-MODIFIED:20230926T005147Z
UID:10000227-1696154400-1696179600@gunownersradio.com
SUMMARY:10/1 Poway Fall Festival Table Top
DESCRIPTION:
URL:https://gunownersradio.com/event/10-1-poway-fall-festival-table-top/
LOCATION:Poway Fall Festival\, 13265 Midland Rd
CATEGORIES:San Diego County Gun Owners
ATTACH;FMTTYPE=image/png:https://gunownersradio.com/wp-content/uploads/2023/09/Fall-zBN62x.tmp_.png
ORGANIZER;CN="San Diego County Gun Owners":MAILTO:desiree@notmesd.org
END:VEVENT
BEGIN:VEVENT
DTSTART;TZID=America/Los_Angeles:20231001T080000
DTEND;TZID=America/Los_Angeles:20231001T170000
DTSTAMP:20260425T134848
CREATED:20231001T192630Z
LAST-MODIFIED:20231001T192630Z
UID:10000239-1696147200-1696179600@gunownersradio.com
SUMMARY:October Monthly Meeting – South
DESCRIPTION:
URL:https://gunownersradio.com/event/october-monthly-meeting-south/
LOCATION:La Bella Pizza Garden\, 373 3rd Ave\, Chula Vista\, CA\, 91910\, United States
CATEGORIES:Monthly Meetings,San Diego County Gun Owners,SDCGO Events
ATTACH;FMTTYPE=image/jpeg:https://gunownersradio.com/wp-content/uploads/2023/10/Oct-South-0SpoEv.tmp_.jpg
ORGANIZER;CN="San Diego County Gun Owners":MAILTO:desiree@notmesd.org
END:VEVENT
BEGIN:VEVENT
DTSTART;TZID=America/Los_Angeles:20230926T080000
DTEND;TZID=America/Los_Angeles:20230926T170000
DTSTAMP:20260425T134848
CREATED:20230926T234611Z
LAST-MODIFIED:20230926T234611Z
UID:10000233-1695715200-1695747600@gunownersradio.com
SUMMARY:10/13&10/14 Bulls only Rodeo Table Top
DESCRIPTION:
URL:https://gunownersradio.com/event/10-1310-14-bulls-only-rodeo-table-top/
LOCATION:Lakeside Rodeo\, 12584 Mapleview St\, Lakeside\, CA\, 92040\, United States
CATEGORIES:San Diego County Gun Owners
ATTACH;FMTTYPE=image/webp:https://gunownersradio.com/wp-content/uploads/2023/09/Bulls-l9zPzz.tmp_.webp
ORGANIZER;CN="San Diego County Gun Owners":MAILTO:desiree@notmesd.org
END:VEVENT
BEGIN:VEVENT
DTSTART;TZID=America/Los_Angeles:20230924T100000
DTEND;TZID=America/Los_Angeles:20230924T160000
DTSTAMP:20260425T134848
CREATED:20230923T005521Z
LAST-MODIFIED:20230923T005521Z
UID:10000225-1695549600-1695571200@gunownersradio.com
SUMMARY:9/24 Josie’s Hideout Table Top
DESCRIPTION:
URL:https://gunownersradio.com/event/9-24-josies-hideout-table-top/
LOCATION:Josie’s Hideout\, 27413 Hwy. 76\, Santa Ysabel\, ca\, 92070
CATEGORIES:San Diego County Gun Owners
ATTACH;FMTTYPE=image/jpeg:https://gunownersradio.com/wp-content/uploads/2023/05/IMG_1932-sYiOkJ.tmp_.jpg
ORGANIZER;CN="San Diego County Gun Owners":MAILTO:desiree@notmesd.org
END:VEVENT
BEGIN:VEVENT
DTSTART;TZID=America/Los_Angeles:20230923T100000
DTEND;TZID=America/Los_Angeles:20230923T160000
DTSTAMP:20260425T134848
CREATED:20230718T035056Z
LAST-MODIFIED:20230718T035056Z
UID:10000211-1695463200-1695484800@gunownersradio.com
SUMMARY:Duncan’s Table Top
DESCRIPTION:
URL:https://gunownersradio.com/event/duncans-table-top-4/
LOCATION:Duncans\, 1619 Grand Ave\, San Marcos\, CA\, 92079\, United States
CATEGORIES:San Diego County Gun Owners
ATTACH;FMTTYPE=image/jpeg:https://gunownersradio.com/wp-content/uploads/2023/02/IMG_4618-1-az7wAb.tmp_.jpg
ORGANIZER;CN="San Diego County Gun Owners":MAILTO:desiree@notmesd.org
END:VEVENT
BEGIN:VEVENT
DTSTART;TZID=America/Los_Angeles:20230916T170000
DTEND;TZID=America/Los_Angeles:20230916T220000
DTSTAMP:20260425T134848
CREATED:20230728T054722Z
LAST-MODIFIED:20230728T054722Z
UID:10000214-1694883600-1694901600@gunownersradio.com
SUMMARY:Gun Prom 2023
DESCRIPTION:
URL:https://gunownersradio.com/event/gun-prom-2023/
LOCATION:Town and Country
CATEGORIES:San Diego County Gun Owners,SDCGO Events
ATTACH;FMTTYPE=image/jpeg:https://gunownersradio.com/wp-content/uploads/2023/07/Gun-Prom-2023-flyer-1-2-NkUbbS.tmp_.jpg
ORGANIZER;CN="San Diego County Gun Owners":MAILTO:desiree@notmesd.org
END:VEVENT
END:VCALENDAR