BEGIN:VCALENDAR
VERSION:2.0
PRODID:-//Gun Owners Radio - ECPv6.15.18//NONSGML v1.0//EN
CALSCALE:GREGORIAN
METHOD:PUBLISH
X-WR-CALNAME:Gun Owners Radio
X-ORIGINAL-URL:https://gunownersradio.com
X-WR-CALDESC:Events for Gun Owners Radio
REFRESH-INTERVAL;VALUE=DURATION:PT1H
X-Robots-Tag:noindex
X-PUBLISHED-TTL:PT1H
BEGIN:VTIMEZONE
TZID:America/Los_Angeles
BEGIN:DAYLIGHT
TZOFFSETFROM:-0800
TZOFFSETTO:-0700
TZNAME:PDT
DTSTART:20220313T100000
END:DAYLIGHT
BEGIN:STANDARD
TZOFFSETFROM:-0700
TZOFFSETTO:-0800
TZNAME:PST
DTSTART:20221106T090000
END:STANDARD
BEGIN:DAYLIGHT
TZOFFSETFROM:-0800
TZOFFSETTO:-0700
TZNAME:PDT
DTSTART:20230312T100000
END:DAYLIGHT
BEGIN:STANDARD
TZOFFSETFROM:-0700
TZOFFSETTO:-0800
TZNAME:PST
DTSTART:20231105T090000
END:STANDARD
BEGIN:DAYLIGHT
TZOFFSETFROM:-0800
TZOFFSETTO:-0700
TZNAME:PDT
DTSTART:20240310T100000
END:DAYLIGHT
BEGIN:STANDARD
TZOFFSETFROM:-0700
TZOFFSETTO:-0800
TZNAME:PST
DTSTART:20241103T090000
END:STANDARD
END:VTIMEZONE
BEGIN:VEVENT
DTSTART;TZID=America/Los_Angeles:20230701T100000
DTEND;TZID=America/Los_Angeles:20230701T160000
DTSTAMP:20260425T204518
CREATED:20230618T164838Z
LAST-MODIFIED:20230618T164838Z
UID:10000196-1688205600-1688227200@gunownersradio.com
SUMMARY:Precision Arm’s Table Top
DESCRIPTION:
URL:https://gunownersradio.com/event/precision-arms-table-top-3/
LOCATION:Precision Arms\, 250 W Crest St Suite C\, Escondido\, CA\, 92025\, United States
CATEGORIES:San Diego County Gun Owners
ATTACH;FMTTYPE=image/jpeg:https://gunownersradio.com/wp-content/uploads/2023/02/TT2-scaled-qPoPzs.tmp_.jpg
ORGANIZER;CN="San Diego County Gun Owners":MAILTO:desiree@notmesd.org
END:VEVENT
BEGIN:VEVENT
DTSTART;TZID=America/Los_Angeles:20230625T080000
DTEND;TZID=America/Los_Angeles:20230625T100000
DTSTAMP:20260425T204518
CREATED:20230520T185040Z
LAST-MODIFIED:20230520T185040Z
UID:10000163-1687680000-1687687200@gunownersradio.com
SUMMARY:Guns N Moses Shooting Social
DESCRIPTION:
URL:https://gunownersradio.com/event/guns-n-moses-shooting-social-5/
LOCATION:Poway Weapons and Gear\, 13550 Danielson St\, Poway\, CA\, 92064\, United States
CATEGORIES:San Diego County Gun Owners,Shooting Socials
ORGANIZER;CN="San Diego County Gun Owners":MAILTO:desiree@notmesd.org
END:VEVENT
BEGIN:VEVENT
DTSTART;TZID=America/Los_Angeles:20230624T100000
DTEND;TZID=America/Los_Angeles:20230624T160000
DTSTAMP:20260425T204518
CREATED:20230520T174735Z
LAST-MODIFIED:20230520T174735Z
UID:10000157-1687600800-1687622400@gunownersradio.com
SUMMARY:Precision Arms Table Top
DESCRIPTION:
URL:https://gunownersradio.com/event/precision-arms-table-top-2/
LOCATION:Precision Arms\, 250 W Crest St Suite C\, Escondido\, CA\, 92025\, United States
CATEGORIES:San Diego County Gun Owners
ATTACH;FMTTYPE=image/jpeg:https://gunownersradio.com/wp-content/uploads/2023/02/Precision-Arms-sb6163.tmp_.jpg
ORGANIZER;CN="San Diego County Gun Owners":MAILTO:desiree@notmesd.org
END:VEVENT
BEGIN:VEVENT
DTSTART;TZID=America/Los_Angeles:20230622T180000
DTEND;TZID=America/Los_Angeles:20230622T193000
DTSTAMP:20260425T204518
CREATED:20230611T024738Z
LAST-MODIFIED:20230611T024738Z
UID:10000192-1687456800-1687462200@gunownersradio.com
SUMMARY:Monthly Meeting – South
DESCRIPTION:
URL:https://gunownersradio.com/event/monthly-meeting-south-3/
LOCATION:La Bella Pizza Garden\, 373 3rd Ave\, Chula Vista\, CA\, 91910\, United States
CATEGORIES:San Diego County Gun Owners
ATTACH;FMTTYPE=image/jpeg:https://gunownersradio.com/wp-content/uploads/2023/06/June-South-Z0uf3D.tmp_.jpg
ORGANIZER;CN="San Diego County Gun Owners":MAILTO:desiree@notmesd.org
END:VEVENT
BEGIN:VEVENT
DTSTART;TZID=America/Los_Angeles:20230621T180000
DTEND;TZID=America/Los_Angeles:20230621T193000
DTSTAMP:20260425T204518
CREATED:20230611T024736Z
LAST-MODIFIED:20230611T024736Z
UID:10000191-1687370400-1687375800@gunownersradio.com
SUMMARY:Monthly Meeting – Central
DESCRIPTION:
URL:https://gunownersradio.com/event/monthly-meeting-central-3/
LOCATION:Poway Weapons and Gear\, 13550 Danielson St\, Poway\, CA\, 92064\, United States
CATEGORIES:San Diego County Gun Owners
ATTACH;FMTTYPE=image/jpeg:https://gunownersradio.com/wp-content/uploads/2023/06/June-Central-vaWqJ2.tmp_.jpg
ORGANIZER;CN="San Diego County Gun Owners":MAILTO:desiree@notmesd.org
END:VEVENT
BEGIN:VEVENT
DTSTART;TZID=America/Los_Angeles:20230620T180000
DTEND;TZID=America/Los_Angeles:20230620T193000
DTSTAMP:20260425T204518
CREATED:20230611T024733Z
LAST-MODIFIED:20230611T024733Z
UID:10000190-1687284000-1687289400@gunownersradio.com
SUMMARY:Monthly Meeting – North
DESCRIPTION:
URL:https://gunownersradio.com/event/monthly-meeting-north-2/
LOCATION:Firehouse Que and Brew\, 1019 S Main Ave\, Fallbrook\, CA\, 92028
CATEGORIES:San Diego County Gun Owners
ATTACH;FMTTYPE=image/jpeg:https://gunownersradio.com/wp-content/uploads/2023/06/June-North-vfH8YQ.tmp_.jpg
ORGANIZER;CN="San Diego County Gun Owners":MAILTO:desiree@notmesd.org
END:VEVENT
BEGIN:VEVENT
DTSTART;TZID=America/Los_Angeles:20230617T100000
DTEND;TZID=America/Los_Angeles:20230617T160000
DTSTAMP:20260425T204518
CREATED:20230520T174735Z
LAST-MODIFIED:20230520T174735Z
UID:10000156-1686996000-1687017600@gunownersradio.com
SUMMARY:Iron Sights Table Top
DESCRIPTION:
URL:https://gunownersradio.com/event/iron-sights-table-top-3/
LOCATION:Iron Sights Shooting Range\, 618 Airport Rd\, Oceanside\, CA\, 92058\, United States
CATEGORIES:San Diego County Gun Owners
ATTACH;FMTTYPE=image/jpeg:https://gunownersradio.com/wp-content/uploads/2023/02/TT1-scaled-3IPAqd.tmp_.jpg
ORGANIZER;CN="San Diego County Gun Owners":MAILTO:desiree@notmesd.org
END:VEVENT
BEGIN:VEVENT
DTSTART;TZID=America/Los_Angeles:20230617T080000
DTEND;TZID=America/Los_Angeles:20230617T100000
DTSTAMP:20260425T204518
CREATED:20230611T024743Z
LAST-MODIFIED:20230611T024743Z
UID:10000193-1686988800-1686996000@gunownersradio.com
SUMMARY:BiPoc Shooting Social
DESCRIPTION:
URL:https://gunownersradio.com/event/bipoc-shooting-social-2/
LOCATION:Discount Gun Mart\, 1510 Morena Blvd\, San Diego\, CA\, 92115\, United States
CATEGORIES:San Diego County Gun Owners
ATTACH;FMTTYPE=image/bmp:https://gunownersradio.com/wp-content/uploads/2023/06/gunclub_3_t800-4F5XiR.tmp_.bmp
ORGANIZER;CN="San Diego County Gun Owners":MAILTO:desiree@notmesd.org
END:VEVENT
BEGIN:VEVENT
DTSTART;TZID=America/Los_Angeles:20230610T100000
DTEND;TZID=America/Los_Angeles:20230610T160000
DTSTAMP:20260425T204518
CREATED:20230520T185040Z
LAST-MODIFIED:20230520T185040Z
UID:10000161-1686391200-1686412800@gunownersradio.com
SUMMARY:The Gun Range San Diego Table Top
DESCRIPTION:
URL:https://gunownersradio.com/event/the-gun-range-san-diego-table-top-3/
LOCATION:The Gun Range San Diego\, 7853 Balboa Ave\, San Diego\, CA\, 92111\, United States
CATEGORIES:San Diego County Gun Owners
ATTACH;FMTTYPE=image/jpeg:https://gunownersradio.com/wp-content/uploads/2023/02/TT1-scaled-3IPAqd.tmp_.jpg
ORGANIZER;CN="San Diego County Gun Owners":MAILTO:desiree@notmesd.org
END:VEVENT
BEGIN:VEVENT
DTSTART;TZID=America/Los_Angeles:20230610T100000
DTEND;TZID=America/Los_Angeles:20230610T160000
DTSTAMP:20260425T204518
CREATED:20230520T174735Z
LAST-MODIFIED:20230520T174735Z
UID:10000155-1686391200-1686412800@gunownersradio.com
SUMMARY:Duncans Table Top
DESCRIPTION:
URL:https://gunownersradio.com/event/duncans-table-top-3/
LOCATION:Duncans\, 1619 Grand Ave\, San Marcos\, CA\, 92079\, United States
CATEGORIES:San Diego County Gun Owners
ATTACH;FMTTYPE=image/jpeg:https://gunownersradio.com/wp-content/uploads/2023/02/TT2-scaled-qPoPzs.tmp_.jpg
ORGANIZER;CN="San Diego County Gun Owners":MAILTO:desiree@notmesd.org
END:VEVENT
BEGIN:VEVENT
DTSTART;TZID=America/Los_Angeles:20230610T080000
DTEND;TZID=America/Los_Angeles:20230610T100000
DTSTAMP:20260425T204518
CREATED:20230520T174734Z
LAST-MODIFIED:20230520T174734Z
UID:10000154-1686384000-1686391200@gunownersradio.com
SUMMARY:NotMeSD Shooting Social
DESCRIPTION:
URL:https://gunownersradio.com/event/notmesd-shooting-social-3/
LOCATION:The Gun Range San Diego\, 7853 Balboa Ave\, San Diego\, CA\, 92111\, United States
CATEGORIES:Ladies Only,NotMeSD,San Diego County Gun Owners,Shooting Socials
ORGANIZER;CN="San Diego County Gun Owners":MAILTO:desiree@notmesd.org
END:VEVENT
BEGIN:VEVENT
DTSTART;TZID=America/Los_Angeles:20230604T080000
DTEND;TZID=America/Los_Angeles:20230604T160000
DTSTAMP:20260425T204518
CREATED:20230603T224553Z
LAST-MODIFIED:20230603T224553Z
UID:10000187-1685865600-1685894400@gunownersradio.com
SUMMARY:San Diego Gun Show
DESCRIPTION:
URL:https://gunownersradio.com/event/san-diego-gun-show-3/
LOCATION:East San Diego Masonic Lodge\, 7849 Tommy Dr\, El Cajon\, CA\, 92119\, United States
CATEGORIES:San Diego County Gun Owners
ATTACH;FMTTYPE=image/gif:https://gunownersradio.com/wp-content/uploads/2023/06/GOS-FB-Event-Cover-1anpYW.tmp_.gif
ORGANIZER;CN="San Diego County Gun Owners":MAILTO:desiree@notmesd.org
END:VEVENT
BEGIN:VEVENT
DTSTART;TZID=America/Los_Angeles:20230603T100000
DTEND;TZID=America/Los_Angeles:20230603T160000
DTSTAMP:20260425T204518
CREATED:20230520T185039Z
LAST-MODIFIED:20230520T185039Z
UID:10000160-1685786400-1685808000@gunownersradio.com
SUMMARY:Valley Center Western Days Table Top
DESCRIPTION:
URL:https://gunownersradio.com/event/valley-center-western-days-table-top/
LOCATION:Valley Center
CATEGORIES:San Diego County Gun Owners
ATTACH;FMTTYPE=image/jpeg:https://gunownersradio.com/wp-content/uploads/2023/05/Valley-Center-RNWdOH.tmp_.jpg
ORGANIZER;CN="San Diego County Gun Owners":MAILTO:desiree@notmesd.org
END:VEVENT
BEGIN:VEVENT
DTSTART;TZID=America/Los_Angeles:20230603T100000
DTEND;TZID=America/Los_Angeles:20230603T160000
DTSTAMP:20260425T204518
CREATED:20230520T174734Z
LAST-MODIFIED:20230520T174734Z
UID:10000153-1685786400-1685808000@gunownersradio.com
SUMMARY:Ramona Shootist Emporium Table Top
DESCRIPTION:
URL:https://gunownersradio.com/event/ramona-shootist-emporium-table-top-2/
LOCATION:Ramona Shootist Emporium\, 649 Main St C\, Ramona\, CA\, 92065\, United States
CATEGORIES:San Diego County Gun Owners
ATTACH;FMTTYPE=image/jpeg:https://gunownersradio.com/wp-content/uploads/2023/02/TT1-scaled-3IPAqd.tmp_.jpg
ORGANIZER;CN="San Diego County Gun Owners":MAILTO:desiree@notmesd.org
END:VEVENT
BEGIN:VEVENT
DTSTART;TZID=America/Los_Angeles:20230603T090000
DTEND;TZID=America/Los_Angeles:20230604T160000
DTSTAMP:20260425T204518
CREATED:20230603T224547Z
LAST-MODIFIED:20230603T224547Z
UID:10000184-1685782800-1685894400@gunownersradio.com
SUMMARY:San Diego Gun Show
DESCRIPTION:
URL:https://gunownersradio.com/event/san-diego-gun-show/
LOCATION:East San Diego Masonic Lodge\, 7849 Tommy Dr\, El Cajon\, CA\, 92119\, United States
CATEGORIES:San Diego County Gun Owners
ATTACH;FMTTYPE=image/png:https://gunownersradio.com/wp-content/uploads/2023/06/SAN-DIEGO-GUN-SHOW-V7BXQW.tmp_.png
ORGANIZER;CN="San Diego County Gun Owners":MAILTO:desiree@notmesd.org
END:VEVENT
BEGIN:VEVENT
DTSTART;TZID=America/Los_Angeles:20230603T090000
DTEND;TZID=America/Los_Angeles:20230604T160000
DTSTAMP:20260425T204518
CREATED:20230603T224542Z
LAST-MODIFIED:20230603T224542Z
UID:10000183-1685782800-1685894400@gunownersradio.com
SUMMARY:Gun Owners Symposium
DESCRIPTION:
URL:https://gunownersradio.com/event/gun-owners-symposium/
LOCATION:East San Diego Masonic Lodge\, 7849 Tommy Dr\, El Cajon\, CA\, 92119\, United States
CATEGORIES:Gun Owners Radio,San Diego County Gun Owners
ATTACH;FMTTYPE=image/gif:https://gunownersradio.com/wp-content/uploads/2023/06/GOS-FB-Event-Cover-1anpYW.tmp_.gif
END:VEVENT
BEGIN:VEVENT
DTSTART;TZID=America/Los_Angeles:20230603T080000
DTEND;TZID=America/Los_Angeles:20230603T170000
DTSTAMP:20260425T204518
CREATED:20230603T224552Z
LAST-MODIFIED:20230603T224552Z
UID:10000186-1685779200-1685811600@gunownersradio.com
SUMMARY:San Diego Gun Show
DESCRIPTION:
URL:https://gunownersradio.com/event/san-diego-gun-show-2/
LOCATION:East San Diego Masonic Lodge\, 7849 Tommy Dr\, El Cajon\, CA\, 92119\, United States
CATEGORIES:San Diego County Gun Owners
ATTACH;FMTTYPE=image/gif:https://gunownersradio.com/wp-content/uploads/2023/06/GOS-FB-Event-Cover-1anpYW.tmp_.gif
ORGANIZER;CN="San Diego County Gun Owners":MAILTO:desiree@notmesd.org
END:VEVENT
BEGIN:VEVENT
DTSTART;TZID=America/Los_Angeles:20230602T100000
DTEND;TZID=America/Los_Angeles:20230602T160000
DTSTAMP:20260425T204518
CREATED:20230520T174731Z
LAST-MODIFIED:20230520T174731Z
UID:10000152-1685700000-1685721600@gunownersradio.com
SUMMARY:Guns & Hoses Chili Cook-Off Table Top
DESCRIPTION:
URL:https://gunownersradio.com/event/guns-hoses-chili-cook-off-table-top/
LOCATION:Valley Center
CATEGORIES:San Diego County Gun Owners
ATTACH;FMTTYPE=image/jpeg:https://gunownersradio.com/wp-content/uploads/2023/05/Valley-Center-RNWdOH.tmp_.jpg
ORGANIZER;CN="San Diego County Gun Owners":MAILTO:desiree@notmesd.org
END:VEVENT
BEGIN:VEVENT
DTSTART;TZID=America/Los_Angeles:20230528T080000
DTEND;TZID=America/Los_Angeles:20230528T180000
DTSTAMP:20260425T204518
CREATED:20230520T174729Z
LAST-MODIFIED:20230520T174729Z
UID:10000151-1685260800-1685296800@gunownersradio.com
SUMMARY:Vista Strawberry Festival
DESCRIPTION:
URL:https://gunownersradio.com/event/vista-strawberry-festival/
LOCATION:Vista Chamber of Commerce\, 170 Eucalyptus Avenue\, Vista\, CA
CATEGORIES:San Diego County Gun Owners
ATTACH;FMTTYPE=image/jpeg:https://gunownersradio.com/wp-content/uploads/2023/05/IMG_1932-sYiOkJ.tmp_.jpg
ORGANIZER;CN="San Diego County Gun Owners":MAILTO:desiree@notmesd.org
END:VEVENT
BEGIN:VEVENT
DTSTART;TZID=America/Los_Angeles:20230527T100000
DTEND;TZID=America/Los_Angeles:20230527T160000
DTSTAMP:20260425T204518
CREATED:20230520T174729Z
LAST-MODIFIED:20230520T174729Z
UID:10000150-1685181600-1685203200@gunownersradio.com
SUMMARY:Santee Street Fair Table Top
DESCRIPTION:
URL:https://gunownersradio.com/event/santee-street-fair-table-top/
LOCATION:River View Parkway and Town Center Parkway\, 101 Riverview\, Santee\, CA\, 92071
CATEGORIES:San Diego County Gun Owners
ATTACH;FMTTYPE=image/jpeg:https://gunownersradio.com/wp-content/uploads/2023/02/TT3-rFzBHb.tmp_.jpg
ORGANIZER;CN="San Diego County Gun Owners":MAILTO:desiree@notmesd.org
END:VEVENT
BEGIN:VEVENT
DTSTART;TZID=America/Los_Angeles:20230527T100000
DTEND;TZID=America/Los_Angeles:20230527T160000
DTSTAMP:20260425T204518
CREATED:20230520T174728Z
LAST-MODIFIED:20230520T174728Z
UID:10000149-1685181600-1685203200@gunownersradio.com
SUMMARY:North County Shooting Center Table Top
DESCRIPTION:
URL:https://gunownersradio.com/event/north-county-shooting-center-table-top-2/
LOCATION:North County Shooting Center\, 1440 Descanso Ave.\, San Marcos\, CA\, 92069\, United States
CATEGORIES:San Diego County Gun Owners
ATTACH;FMTTYPE=image/jpeg:https://gunownersradio.com/wp-content/uploads/2023/02/TT3-rFzBHb.tmp_.jpg
ORGANIZER;CN="San Diego County Gun Owners":MAILTO:desiree@notmesd.org
END:VEVENT
BEGIN:VEVENT
DTSTART;TZID=America/Los_Angeles:20230521T080000
DTEND;TZID=America/Los_Angeles:20230521T100000
DTSTAMP:20260425T204518
CREATED:20230222T134802Z
LAST-MODIFIED:20230222T134802Z
UID:10000125-1684656000-1684663200@gunownersradio.com
SUMMARY:Guns N Moses Shooting Social
DESCRIPTION:
URL:https://gunownersradio.com/event/guns-n-moses-shooting-social-4/
LOCATION:Poway Weapons and Gear\, 13550 Danielson St\, Poway\, CA\, 92064\, United States
CATEGORIES:San Diego County Gun Owners,Shooting Socials
ORGANIZER;CN="San Diego County Gun Owners":MAILTO:desiree@notmesd.org
END:VEVENT
BEGIN:VEVENT
DTSTART;TZID=America/Los_Angeles:20230520T100000
DTEND;TZID=America/Los_Angeles:20230520T160000
DTSTAMP:20260425T204518
CREATED:20230222T134802Z
LAST-MODIFIED:20230222T134802Z
UID:10000124-1684576800-1684598400@gunownersradio.com
SUMMARY:Gunther Guns Table Top
DESCRIPTION:
URL:https://gunownersradio.com/event/gunther-guns-table-top-2/
LOCATION:Gunther Guns\, 2717 Loker Ave W\, Carlsbad\, CA\, 92010\, United States
CATEGORIES:San Diego County Gun Owners
ATTACH;FMTTYPE=image/jpeg:https://gunownersradio.com/wp-content/uploads/2023/02/TT2-scaled-qPoPzs.tmp_.jpg
ORGANIZER;CN="San Diego County Gun Owners":MAILTO:desiree@notmesd.org
END:VEVENT
BEGIN:VEVENT
DTSTART;TZID=America/Los_Angeles:20230520T100000
DTEND;TZID=America/Los_Angeles:20230520T160000
DTSTAMP:20260425T204518
CREATED:20230222T134800Z
LAST-MODIFIED:20230222T134800Z
UID:10000123-1684576800-1684598400@gunownersradio.com
SUMMARY:14th Annual May Ride Table Top
DESCRIPTION:
URL:https://gunownersradio.com/event/14th-annual-may-ride-table-top/
LOCATION:Biggs Harley Davidson\, 1040 Los Vallecitos Blvd.\, San Marcos\, CA\, 92069\, United States
CATEGORIES:San Diego County Gun Owners
ATTACH;FMTTYPE=image/jpeg:https://gunownersradio.com/wp-content/uploads/2023/02/May-Ride-mEL0ZU.tmp_.jpg
ORGANIZER;CN="San Diego County Gun Owners":MAILTO:desiree@notmesd.org
END:VEVENT
BEGIN:VEVENT
DTSTART;TZID=America/Los_Angeles:20230518T180000
DTEND;TZID=America/Los_Angeles:20230518T193000
DTSTAMP:20260425T204518
CREATED:20230520T174722Z
LAST-MODIFIED:20230520T174722Z
UID:10000148-1684432800-1684438200@gunownersradio.com
SUMMARY:Monthly Meeting – South
DESCRIPTION:
URL:https://gunownersradio.com/event/monthly-meeting-south-2/
LOCATION:La Bella Pizza Garden\, 373 3rd Ave\, Chula Vista\, CA\, 91910\, United States
CATEGORIES:San Diego County Gun Owners
ATTACH;FMTTYPE=image/jpeg:https://gunownersradio.com/wp-content/uploads/2023/05/May_South_1_v01-gVwoKv.tmp_.jpg
ORGANIZER;CN="San Diego County Gun Owners":MAILTO:desiree@notmesd.org
END:VEVENT
BEGIN:VEVENT
DTSTART;TZID=America/Los_Angeles:20230517T180000
DTEND;TZID=America/Los_Angeles:20230517T193000
DTSTAMP:20260425T204518
CREATED:20230520T174716Z
LAST-MODIFIED:20230520T174716Z
UID:10000147-1684346400-1684351800@gunownersradio.com
SUMMARY:Monthly Meeting – Central
DESCRIPTION:
URL:https://gunownersradio.com/event/monthly-meeting-central-2/
LOCATION:Discount Gun Mart\, 1510 Morena Blvd\, San Diego\, CA\, 92115\, United States
CATEGORIES:San Diego County Gun Owners
ATTACH;FMTTYPE=image/jpeg:https://gunownersradio.com/wp-content/uploads/2023/05/May_Central_1_v01-uF3tWP.tmp_.jpg
ORGANIZER;CN="San Diego County Gun Owners":MAILTO:desiree@notmesd.org
END:VEVENT
BEGIN:VEVENT
DTSTART;TZID=America/Los_Angeles:20230516T180000
DTEND;TZID=America/Los_Angeles:20230516T193000
DTSTAMP:20260425T204518
CREATED:20230520T164726Z
LAST-MODIFIED:20230520T164726Z
UID:10000146-1684260000-1684265400@gunownersradio.com
SUMMARY:Monthly Meeting – North
DESCRIPTION:
URL:https://gunownersradio.com/event/monthly-meeting-north/
LOCATION:North County Shooting Center\, 1440 Descanso Ave.\, San Marcos\, CA\, 92069\, United States
CATEGORIES:San Diego County Gun Owners
ATTACH;FMTTYPE=image/jpeg:https://gunownersradio.com/wp-content/uploads/2023/05/May_North_1_v01-Tz1yMf.tmp_.jpg
ORGANIZER;CN="San Diego County Gun Owners":MAILTO:desiree@notmesd.org
END:VEVENT
BEGIN:VEVENT
DTSTART;TZID=America/Los_Angeles:20230513T100000
DTEND;TZID=America/Los_Angeles:20230513T160000
DTSTAMP:20260425T204518
CREATED:20230222T134800Z
LAST-MODIFIED:20230222T134800Z
UID:10000121-1683972000-1683993600@gunownersradio.com
SUMMARY:Turners Table Top
DESCRIPTION:
URL:https://gunownersradio.com/event/turners-table-top-2/
LOCATION:turners\, 2085 MONTIEL ROAD\, San Marcos\, CA\, 92069
CATEGORIES:San Diego County Gun Owners
ATTACH;FMTTYPE=image/jpeg:https://gunownersradio.com/wp-content/uploads/2023/02/TT2-scaled-qPoPzs.tmp_.jpg
ORGANIZER;CN="San Diego County Gun Owners":MAILTO:desiree@notmesd.org
END:VEVENT
BEGIN:VEVENT
DTSTART;TZID=America/Los_Angeles:20230513T100000
DTEND;TZID=America/Los_Angeles:20230513T160000
DTSTAMP:20260425T204518
CREATED:20230222T134800Z
LAST-MODIFIED:20230222T134800Z
UID:10000122-1683972000-1683993600@gunownersradio.com
SUMMARY:Discount Gun Mart Table Top
DESCRIPTION:
URL:https://gunownersradio.com/event/discount-gun-mart-table-top-2/
LOCATION:Discount Gun Mart\, 1510 Morena Blvd\, San Diego\, CA\, 92115\, United States
CATEGORIES:San Diego County Gun Owners
ATTACH;FMTTYPE=image/jpeg:https://gunownersradio.com/wp-content/uploads/2023/02/TT1-scaled-3IPAqd.tmp_.jpg
ORGANIZER;CN="San Diego County Gun Owners":MAILTO:desiree@notmesd.org
END:VEVENT
BEGIN:VEVENT
DTSTART;TZID=America/Los_Angeles:20230513T080000
DTEND;TZID=America/Los_Angeles:20230513T100000
DTSTAMP:20260425T204518
CREATED:20230222T134800Z
LAST-MODIFIED:20230222T134800Z
UID:10000120-1683964800-1683972000@gunownersradio.com
SUMMARY:Shooting Social
DESCRIPTION:
URL:https://gunownersradio.com/event/shooting-social-5/
LOCATION:The Gun Range San Diego\, 7853 Balboa Ave\, San Diego\, CA\, 92111\, United States
CATEGORIES:San Diego County Gun Owners,Shooting Socials
ORGANIZER;CN="San Diego County Gun Owners":MAILTO:desiree@notmesd.org
END:VEVENT
END:VCALENDAR