BEGIN:VCALENDAR
VERSION:2.0
PRODID:-//Gun Owners Radio - ECPv6.15.18//NONSGML v1.0//EN
CALSCALE:GREGORIAN
METHOD:PUBLISH
X-WR-CALNAME:Gun Owners Radio
X-ORIGINAL-URL:https://gunownersradio.com
X-WR-CALDESC:Events for Gun Owners Radio
REFRESH-INTERVAL;VALUE=DURATION:PT1H
X-Robots-Tag:noindex
X-PUBLISHED-TTL:PT1H
BEGIN:VTIMEZONE
TZID:America/Los_Angeles
BEGIN:DAYLIGHT
TZOFFSETFROM:-0800
TZOFFSETTO:-0700
TZNAME:PDT
DTSTART:20250309T100000
END:DAYLIGHT
BEGIN:STANDARD
TZOFFSETFROM:-0700
TZOFFSETTO:-0800
TZNAME:PST
DTSTART:20251102T090000
END:STANDARD
BEGIN:DAYLIGHT
TZOFFSETFROM:-0800
TZOFFSETTO:-0700
TZNAME:PDT
DTSTART:20260308T100000
END:DAYLIGHT
BEGIN:STANDARD
TZOFFSETFROM:-0700
TZOFFSETTO:-0800
TZNAME:PST
DTSTART:20261101T090000
END:STANDARD
BEGIN:DAYLIGHT
TZOFFSETFROM:-0800
TZOFFSETTO:-0700
TZNAME:PDT
DTSTART:20270314T100000
END:DAYLIGHT
BEGIN:STANDARD
TZOFFSETFROM:-0700
TZOFFSETTO:-0800
TZNAME:PST
DTSTART:20271107T090000
END:STANDARD
END:VTIMEZONE
BEGIN:VEVENT
DTSTART;TZID=America/Los_Angeles:20260627T080000
DTEND;TZID=America/Los_Angeles:20260627T170000
DTSTAMP:20260425T064332
CREATED:20260419T011002Z
LAST-MODIFIED:20260419T011002Z
UID:10000757-1782547200-1782579600@gunownersradio.com
SUMMARY:6/27 NCSC Shooting Social
DESCRIPTION:Be a mentor at our SDCGO shooting social. \nBring a handgun (9mm) for the mentee to use\, and walk them through shooting 50 rounds of ammo. \nWe will give a safety brief and you will be randomly assigned someone to work with. \nYou will be given 10-15 minutes to go over the basics on a cold range. (Stance\, grip\, sight picture\, loading\, magazine release\, slide lock etc) \nYou will help your shooter fire their ammunition through your gun. Your goal is to provide a safe\, fun\, and SAFE first-time shooting experience. Again\, most of these shooters have never fired a gun before. We just want to take the mystery out of shooting by giving a safe\, fun\, first-time experience.
URL:https://gunownersradio.com/event/6-27-ncsc-shooting-social/
LOCATION:North County Shooting Center\, 1440 Descanso Ave.\, San Marcos\, CA\, 92069\, United States
CATEGORIES:San Diego County Gun Owners,SDCGO Events
ATTACH;FMTTYPE=image/jpeg:https://gunownersradio.com/wp-content/uploads/2023/12/SS3-dDtWeE.tmp_.jpg
ORGANIZER;CN="San Diego County Gun Owners":MAILTO:desiree@notmesd.org
END:VEVENT
END:VCALENDAR