BEGIN:VCALENDAR
VERSION:2.0
PRODID:-//Gun Owners Radio - ECPv6.15.18//NONSGML v1.0//EN
CALSCALE:GREGORIAN
METHOD:PUBLISH
X-WR-CALNAME:Gun Owners Radio
X-ORIGINAL-URL:https://gunownersradio.com
X-WR-CALDESC:Events for Gun Owners Radio
REFRESH-INTERVAL;VALUE=DURATION:PT1H
X-Robots-Tag:noindex
X-PUBLISHED-TTL:PT1H
BEGIN:VTIMEZONE
TZID:America/Los_Angeles
BEGIN:DAYLIGHT
TZOFFSETFROM:-0800
TZOFFSETTO:-0700
TZNAME:PDT
DTSTART:20240310T100000
END:DAYLIGHT
BEGIN:STANDARD
TZOFFSETFROM:-0700
TZOFFSETTO:-0800
TZNAME:PST
DTSTART:20241103T090000
END:STANDARD
BEGIN:DAYLIGHT
TZOFFSETFROM:-0800
TZOFFSETTO:-0700
TZNAME:PDT
DTSTART:20250309T100000
END:DAYLIGHT
BEGIN:STANDARD
TZOFFSETFROM:-0700
TZOFFSETTO:-0800
TZNAME:PST
DTSTART:20251102T090000
END:STANDARD
BEGIN:DAYLIGHT
TZOFFSETFROM:-0800
TZOFFSETTO:-0700
TZNAME:PDT
DTSTART:20260308T100000
END:DAYLIGHT
BEGIN:STANDARD
TZOFFSETFROM:-0700
TZOFFSETTO:-0800
TZNAME:PST
DTSTART:20261101T090000
END:STANDARD
END:VTIMEZONE
BEGIN:VEVENT
DTSTART;TZID=America/Los_Angeles:20250712T080000
DTEND;TZID=America/Los_Angeles:20250712T100000
DTSTAMP:20260425T055428
CREATED:20250413T002124Z
LAST-MODIFIED:20250413T002124Z
UID:10000356-1752307200-1752314400@gunownersradio.com
SUMMARY:Shooting Social
DESCRIPTION:Be a mentor at our SDCGO shooting social. \nBring a handgun (9mm) for the mentee to use\, and walk them through shooting 50 rounds of ammo. \nWe will give a safety brief and you will be randomly assigned someone to work with. \nYou will be given 10-15 minutes to go over the basics on a cold range. (Stance\, grip\, sight picture\, loading\, magazine release\, slide lock etc) \nYou will help your shooter fire their ammunition through your gun. Your goal is to provide a safe\, fun\, and SAFE first-time shooting experience. Again\, most of these shooters have never fired a gun before. We just want to take the mystery out of shooting by giving a safe\, fun\, first-time experience.
URL:https://gunownersradio.com/event/shooting-social-7/
LOCATION:The Gun Range San Diego\, 7853 Balboa Ave\, San Diego\, CA\, 92111\, United States
CATEGORIES:San Diego County Gun Owners,SDCGO Events,Shooting Socials
ATTACH;FMTTYPE=image/jpeg:https://gunownersradio.com/wp-content/uploads/2023/12/SS2-qM6Jpf.tmp_.jpg
ORGANIZER;CN="San Diego County Gun Owners":MAILTO:desiree@notmesd.org
END:VEVENT
BEGIN:VEVENT
DTSTART;TZID=America/Los_Angeles:20250719T080000
DTEND;TZID=America/Los_Angeles:20250719T100000
DTSTAMP:20260425T055428
CREATED:20250505T223421Z
LAST-MODIFIED:20250505T223421Z
UID:10000366-1752912000-1752919200@gunownersradio.com
SUMMARY:NCSC Shooting Social
DESCRIPTION:Be a mentor at our SDCGO shooting social. \nBring a handgun (9mm) for the mentee to use\, and walk them through shooting 50 rounds of ammo. \nWe will give a safety brief and you will be randomly assigned someone to work with. \nYou will be given 10-15 minutes to go over the basics on a cold range. (Stance\, grip\, sight picture\, loading\, magazine release\, slide lock etc) \nYou will help your shooter fire their ammunition through your gun. Your goal is to provide a safe\, fun\, and SAFE first-time shooting experience. Again\, most of these shooters have never fired a gun before. We just want to take the mystery out of shooting by giving a safe\, fun\, first-time experience.
URL:https://gunownersradio.com/event/ncsc-shooting-social-2/
LOCATION:North County Shooting Center\, 1440 Descanso Ave.\, San Marcos\, CA\, 92069\, United States
CATEGORIES:San Diego County Gun Owners,Shooting Socials
ATTACH;FMTTYPE=image/jpeg:https://gunownersradio.com/wp-content/uploads/2023/12/SS2-qM6Jpf.tmp_.jpg
ORGANIZER;CN="San Diego County Gun Owners":MAILTO:desiree@notmesd.org
END:VEVENT
BEGIN:VEVENT
DTSTART;TZID=America/Los_Angeles:20250720T080000
DTEND;TZID=America/Los_Angeles:20250720T100000
DTSTAMP:20260425T055428
CREATED:20250421T000355Z
LAST-MODIFIED:20250421T000355Z
UID:10000359-1752998400-1753005600@gunownersradio.com
SUMMARY:Guns n Moses
DESCRIPTION:Be a mentor at our Guns N’ Moses shooting social. \nBring a handgun (9mm) for the mentee to use\, and walk them through shooting 50 rounds of ammo. \nWe will give a safety brief and you will be randomly assigned someone to work with. \nYou will be given 10-15 minutes to go over the basics on a cold range. (Stance\, grip\, sight picture\, loading\, magazine release\, slide lock etc) \nYou will help your shooter fire their ammunition through your gun. Your goal is to provide a safe\, fun\, and SAFE first-time shooting experience. Again\, most of these shooters have never fired a gun before. We just want to take the mystery out of shooting by giving a safe\, fun\, first-time experience.
URL:https://gunownersradio.com/event/guns-n-moses/
LOCATION:Poway Weapons and Gear\, 13550 Danielson St\, Poway\, CA\, 92064\, United States
CATEGORIES:San Diego County Gun Owners,Shooting Socials
ATTACH;FMTTYPE=image/jpeg:https://gunownersradio.com/wp-content/uploads/2023/12/GunsNMoses_updated.logo_-scaled-PZc8a6.tmp_.jpg
ORGANIZER;CN="San Diego County Gun Owners":MAILTO:desiree@notmesd.org
END:VEVENT
END:VCALENDAR