BEGIN:VCALENDAR
VERSION:2.0
PRODID:-//Gun Owners Radio - ECPv6.15.18//NONSGML v1.0//EN
CALSCALE:GREGORIAN
METHOD:PUBLISH
X-WR-CALNAME:Gun Owners Radio
X-ORIGINAL-URL:https://gunownersradio.com
X-WR-CALDESC:Events for Gun Owners Radio
REFRESH-INTERVAL;VALUE=DURATION:PT1H
X-Robots-Tag:noindex
X-PUBLISHED-TTL:PT1H
BEGIN:VTIMEZONE
TZID:America/Los_Angeles
BEGIN:DAYLIGHT
TZOFFSETFROM:-0800
TZOFFSETTO:-0700
TZNAME:PDT
DTSTART:20240310T100000
END:DAYLIGHT
BEGIN:STANDARD
TZOFFSETFROM:-0700
TZOFFSETTO:-0800
TZNAME:PST
DTSTART:20241103T090000
END:STANDARD
BEGIN:DAYLIGHT
TZOFFSETFROM:-0800
TZOFFSETTO:-0700
TZNAME:PDT
DTSTART:20250309T100000
END:DAYLIGHT
BEGIN:STANDARD
TZOFFSETFROM:-0700
TZOFFSETTO:-0800
TZNAME:PST
DTSTART:20251102T090000
END:STANDARD
BEGIN:DAYLIGHT
TZOFFSETFROM:-0800
TZOFFSETTO:-0700
TZNAME:PDT
DTSTART:20260308T100000
END:DAYLIGHT
BEGIN:STANDARD
TZOFFSETFROM:-0700
TZOFFSETTO:-0800
TZNAME:PST
DTSTART:20261101T090000
END:STANDARD
END:VTIMEZONE
BEGIN:VEVENT
DTSTART;TZID=America/Los_Angeles:20250809T080000
DTEND;TZID=America/Los_Angeles:20250809T100000
DTSTAMP:20260425T054746
CREATED:20250511T002145Z
LAST-MODIFIED:20250511T002145Z
UID:10000368-1754726400-1754733600@gunownersradio.com
SUMMARY:NotMeSD Shooting Social
DESCRIPTION:Be a mentor at our NotMeSD shooting social for our NotMeSD ladies! \nBring a handgun (9mm) for the mentee to use\, and walk them through shooting 50 rounds of ammo. \nWe will give a safety brief and you will be randomly assigned someone to work with. \nYou will be given 10-15 minutes to go over the basics on a cold range. (Stance\, grip\, sight picture\, loading\, magazine release\, slide lock etc) \nYou will help your shooter fire their ammunition through your gun. Your goal is to provide a safe\, fun\, and SAFE first-time shooting experience. Again\, most of these shooters have never fired a gun before. We just want to take the mystery out of shooting by giving a safe\, fun\, first-time experience.
URL:https://gunownersradio.com/event/notmesd-shooting-social-10/
LOCATION:The Gun Range San Diego\, 7853 Balboa Ave\, San Diego\, CA\, 92111\, United States
CATEGORIES:San Diego County Gun Owners,SDCGO Events,Shooting Socials
ATTACH;FMTTYPE=image/jpeg:https://gunownersradio.com/wp-content/uploads/2023/12/SS4-ipZs3l.tmp_.jpg
ORGANIZER;CN="San Diego County Gun Owners":MAILTO:desiree@notmesd.org
END:VEVENT
END:VCALENDAR