BEGIN:VCALENDAR
VERSION:2.0
PRODID:-//Gun Owners Radio - ECPv6.15.18//NONSGML v1.0//EN
CALSCALE:GREGORIAN
METHOD:PUBLISH
X-WR-CALNAME:Gun Owners Radio
X-ORIGINAL-URL:https://gunownersradio.com
X-WR-CALDESC:Events for Gun Owners Radio
REFRESH-INTERVAL;VALUE=DURATION:PT1H
X-Robots-Tag:noindex
X-PUBLISHED-TTL:PT1H
BEGIN:VTIMEZONE
TZID:America/Los_Angeles
BEGIN:DAYLIGHT
TZOFFSETFROM:-0800
TZOFFSETTO:-0700
TZNAME:PDT
DTSTART:20250309T100000
END:DAYLIGHT
BEGIN:STANDARD
TZOFFSETFROM:-0700
TZOFFSETTO:-0800
TZNAME:PST
DTSTART:20251102T090000
END:STANDARD
BEGIN:DAYLIGHT
TZOFFSETFROM:-0800
TZOFFSETTO:-0700
TZNAME:PDT
DTSTART:20260308T100000
END:DAYLIGHT
BEGIN:STANDARD
TZOFFSETFROM:-0700
TZOFFSETTO:-0800
TZNAME:PST
DTSTART:20261101T090000
END:STANDARD
BEGIN:DAYLIGHT
TZOFFSETFROM:-0800
TZOFFSETTO:-0700
TZNAME:PDT
DTSTART:20270314T100000
END:DAYLIGHT
BEGIN:STANDARD
TZOFFSETFROM:-0700
TZOFFSETTO:-0800
TZNAME:PST
DTSTART:20271107T090000
END:STANDARD
END:VTIMEZONE
BEGIN:VEVENT
DTSTART;TZID=America/Los_Angeles:20260326T080000
DTEND;TZID=America/Los_Angeles:20260327T170000
DTSTAMP:20260425T051724
CREATED:20260323T202040Z
LAST-MODIFIED:20260323T202043Z
UID:10000709-1774512000-1774630800@gunownersradio.com
SUMMARY:California CCW - San Diego County Initial
DESCRIPTION:Completion of this course meets the requirements to receive your initial California Concealed Carry Permit (CCW) from the San Diego County Sheriff. \nBring your paperwork and holster. If you are not a member of Rainbow Range there will be a $35 range fee charged in cash only.  The cost of the class includes the inclusion of one gun. Adding additional guns will cost an additional $30 per gun with a maximum charge of $60. \nRegister on USCCA →
URL:https://gunownersradio.com/event/california-ccw-san-diego-county-initial/
LOCATION:Rainbow Range — 3139 Rainbow Valley Blvd\, Fallbrook\, CA\, 92028
CATEGORIES:Training
ATTACH;FMTTYPE=image/jpeg:https://gunownersradio.com/wp-content/uploads/2026/03/mIHPi2U0GuPyMBDOz4ooQMFePoghSGZW_20230109203339980810-4.jpeg
END:VEVENT
BEGIN:VEVENT
DTSTART;TZID=America/Los_Angeles:20260326T080000
DTEND;TZID=America/Los_Angeles:20260327T170000
DTSTAMP:20260425T051724
CREATED:20260323T202045Z
LAST-MODIFIED:20260323T202046Z
UID:10000711-1774512000-1774630800@gunownersradio.com
SUMMARY:California CCW - Riverside County Initial
DESCRIPTION:Completion of this course meets the requirements to receive your initial California Concealed Carry Permit (CCW) from the Riverside County Sheriff. \nBring your paperwork and holster. If you are not a member of Rainbow Range there will be a $35 range fee charged in cash only.  The cost of the class includes the inclusion of one gun. Adding additional guns will cost an additional $30 per gun with a maximum charge of $60. \nRegister on USCCA →
URL:https://gunownersradio.com/event/california-ccw-riverside-county-initial/
LOCATION:Personal Protection Academy — 40685 California Oaks Rd.\, Suite E\, Murrieta\, CA\, 92562
CATEGORIES:Training
ATTACH;FMTTYPE=image/jpeg:https://gunownersradio.com/wp-content/uploads/2026/03/mIHPi2U0GuPyMBDOz4ooQMFePoghSGZW_20230109203339980810-4.jpeg
END:VEVENT
BEGIN:VEVENT
DTSTART;TZID=America/Los_Angeles:20260326T080000
DTEND;TZID=America/Los_Angeles:20260327T170000
DTSTAMP:20260425T051724
CREATED:20260323T202049Z
LAST-MODIFIED:20260323T202054Z
UID:10000713-1774512000-1774630800@gunownersradio.com
SUMMARY:California CCW - Murrieta\, Menifee\, Hemet\, Banning & Beaumont Initial
DESCRIPTION:Completion of this course meets the requirements to receive your initial California Concealed Carry Permit (CCW) from the Murrieta\, Menifee\, Hemet\, Banning or Beaumont Police Departments. \nBring your paperwork and holster. If you are not a member of Rainbow Range there will be a $35 range fee charged in cash only.  The cost of the class includes the inclusion of one gun. Adding additional guns will cost an additional $30 per gun with a maximum charge of $60. \nRegister on USCCA →
URL:https://gunownersradio.com/event/california-ccw-murrieta-menifee-hemet-banning-beaumont-initial-2/
LOCATION:Personal Protection Academy — 40685 California Oaks Rd.\, Suite E\, Murrieta\, CA\, 92562
CATEGORIES:Training
ATTACH;FMTTYPE=image/jpeg:https://gunownersradio.com/wp-content/uploads/2026/03/VD6cei2IGr4IB2ZxqrxN2XXyJuOvfE79_20230109204134836400-2.jpeg
END:VEVENT
BEGIN:VEVENT
DTSTART;TZID=America/Los_Angeles:20260327T090000
DTEND;TZID=America/Los_Angeles:20260327T140000
DTSTAMP:20260425T051724
CREATED:20260310T013320Z
LAST-MODIFIED:20260310T013321Z
UID:10000657-1774602000-1774620000@gunownersradio.com
SUMMARY:Defensive Pistol Lvl ll March 27
DESCRIPTION:Not a beginners course. Are you looking to speed up your combat marksmanship skills and self-defense abilities? Look no further than West Coast Kinetic Solutions. Our instructors bring 20 years of Special Operations experience to the table\, ensuring top-notch training. Dive into the fundamentals of combat marksmanship\, master pistol mechanics\, and hone your skills with immersive combat drills. Join us at West Coast Kinetic Solutions and elevate your training experience to the next level. \nGear List -Water 1 Gallon -Food for lunch or snacks -sun block -gun belt -holster -at least two pistol mags -pistol mag punches/holsters -at least 500 rounds of ammo -eye protection -hearing protection -wear clothing for out doors closed toe shoes \nRegister on the WCKS Website →
URL:https://gunownersradio.com/event/defensive-pistol-lvl-ll-march-27/
LOCATION:Fallbrook Area
CATEGORIES:Training
ATTACH;FMTTYPE=image/jpeg:https://gunownersradio.com/wp-content/uploads/2026/03/371210_c75dc7f58a05456eb91d69145d99dd94mv2.jpeg
END:VEVENT
END:VCALENDAR