BEGIN:VCALENDAR
VERSION:2.0
PRODID:-//Gun Owners Radio - ECPv6.15.18//NONSGML v1.0//EN
CALSCALE:GREGORIAN
METHOD:PUBLISH
X-ORIGINAL-URL:https://gunownersradio.com
X-WR-CALDESC:Events for Gun Owners Radio
REFRESH-INTERVAL;VALUE=DURATION:PT1H
X-Robots-Tag:noindex
X-PUBLISHED-TTL:PT1H
BEGIN:VTIMEZONE
TZID:America/Los_Angeles
BEGIN:DAYLIGHT
TZOFFSETFROM:-0800
TZOFFSETTO:-0700
TZNAME:PDT
DTSTART:20250309T100000
END:DAYLIGHT
BEGIN:STANDARD
TZOFFSETFROM:-0700
TZOFFSETTO:-0800
TZNAME:PST
DTSTART:20251102T090000
END:STANDARD
BEGIN:DAYLIGHT
TZOFFSETFROM:-0800
TZOFFSETTO:-0700
TZNAME:PDT
DTSTART:20260308T100000
END:DAYLIGHT
BEGIN:STANDARD
TZOFFSETFROM:-0700
TZOFFSETTO:-0800
TZNAME:PST
DTSTART:20261101T090000
END:STANDARD
BEGIN:DAYLIGHT
TZOFFSETFROM:-0800
TZOFFSETTO:-0700
TZNAME:PDT
DTSTART:20270314T100000
END:DAYLIGHT
BEGIN:STANDARD
TZOFFSETFROM:-0700
TZOFFSETTO:-0800
TZNAME:PST
DTSTART:20271107T090000
END:STANDARD
END:VTIMEZONE
BEGIN:VEVENT
DTSTART;TZID=America/Los_Angeles:20260404T080000
DTEND;TZID=America/Los_Angeles:20260404T160000
DTSTAMP:20260425T035115
CREATED:20260310T182729Z
LAST-MODIFIED:20260310T182730Z
UID:10000664-1775289600-1775318400@gunownersradio.com
SUMMARY:Heli Shoot
DESCRIPTION:Purchase on ASD School Website →
URL:https://gunownersradio.com/event/heli-shoot/
LOCATION:Pala\, CA
CATEGORIES:Training
END:VEVENT
BEGIN:VEVENT
DTSTART;TZID=America/Los_Angeles:20260404T080000
DTEND;TZID=America/Los_Angeles:20260404T160000
DTSTAMP:20260425T035115
CREATED:20260310T182731Z
LAST-MODIFIED:20260310T182732Z
UID:10000665-1775289600-1775318400@gunownersradio.com
SUMMARY:Combat Rifle + Pistol 2.5
DESCRIPTION:Intermediate course enhancing proficiency with rifle as primary weapon and handgun as secondary. Topics include sling setup\, rifle-to-pistol transitions\, holstering/drawing\, speed reloads\, trigger control\, recoil management\, target acquisition under stress\, positioning\, malfunction clearing\, and basic movement. \nBring 400 rifle rounds + 300 pistol rounds. Required gear: pistol\, rifle\, 3+ magazines per weapon\, sling\, holster\, magazine pouches\, hearing and eye protection. \nPurchase on ASD School Website →
URL:https://gunownersradio.com/event/combat-rifle-pistol-2-5/
LOCATION:South Bay Rod & Gun Range
CATEGORIES:Training
END:VEVENT
BEGIN:VEVENT
DTSTART;TZID=America/Los_Angeles:20260404T083000
DTEND;TZID=America/Los_Angeles:20260404T163000
DTSTAMP:20260425T035115
CREATED:20260310T013322Z
LAST-MODIFIED:20260310T013328Z
UID:10000658-1775291400-1775320200@gunownersradio.com
SUMMARY:Defensive Vehicle Ballistics and Tactics
DESCRIPTION:Most firearms training happens standing still on a static range. Real defensive encounters don’t. Many happen in or around vehicles. \nIf you had to defend yourself from inside your car\, would you know what to do? \nHesitation when moments matter can cost lives. \nTRAIN IN & AROUND VEHICLES Built for responsible gun owners (especially CCW holders!) who already understand safe gun handling and want realistic\, applied training. \nThis is NOT a beginner course. \nYou will: – Train physically inside and around vehicles – Learn vehicle cover and ballistics – Use live fire for ballistic education – Run force-on-force scenarios with training aids – Make decisions under pressure in confined spaces – No square-range repetition. \nLED BY EXPERIENCE – 20 years in Marine Special Operations Command. – Marine Corps Master Instructor and Master Assaulter. – CQB Leader and Combat Marksmanship Instructor. – Six combat deployments. \nResponsible carriers should be truly prepared. \nLimited to 8 Students \nSmall class. Real reps. Direct coaching. \nREQUIRED GEAR – Gloves – Eye & hearing protection – Durable outdoor clothing (force-on-force capable) – Water\, lunch\, sunblock – 100 rounds – Pistol – Gun belt – Holster (concealed or high-vis) – 2 pistol mags – Mag holsters \nENROLL NOW Train for where it’s most likely to happen. \nRegister on the WCKS Website →
URL:https://gunownersradio.com/event/defensive-vehicle-ballistics-and-tactics/
LOCATION:Fallbrook Area
CATEGORIES:Training
ATTACH;FMTTYPE=image/png:https://gunownersradio.com/wp-content/uploads/2026/03/371210_5fa4923d19814479afac51c053cc165cmv2.png
END:VEVENT
END:VCALENDAR