BEGIN:VCALENDAR
VERSION:2.0
PRODID:-//Gun Owners Radio - ECPv6.15.18//NONSGML v1.0//EN
CALSCALE:GREGORIAN
METHOD:PUBLISH
X-ORIGINAL-URL:https://gunownersradio.com
X-WR-CALDESC:Events for Gun Owners Radio
REFRESH-INTERVAL;VALUE=DURATION:PT1H
X-Robots-Tag:noindex
X-PUBLISHED-TTL:PT1H
BEGIN:VTIMEZONE
TZID:America/Los_Angeles
BEGIN:DAYLIGHT
TZOFFSETFROM:-0800
TZOFFSETTO:-0700
TZNAME:PDT
DTSTART:20250309T100000
END:DAYLIGHT
BEGIN:STANDARD
TZOFFSETFROM:-0700
TZOFFSETTO:-0800
TZNAME:PST
DTSTART:20251102T090000
END:STANDARD
BEGIN:DAYLIGHT
TZOFFSETFROM:-0800
TZOFFSETTO:-0700
TZNAME:PDT
DTSTART:20260308T100000
END:DAYLIGHT
BEGIN:STANDARD
TZOFFSETFROM:-0700
TZOFFSETTO:-0800
TZNAME:PST
DTSTART:20261101T090000
END:STANDARD
BEGIN:DAYLIGHT
TZOFFSETFROM:-0800
TZOFFSETTO:-0700
TZNAME:PDT
DTSTART:20270314T100000
END:DAYLIGHT
BEGIN:STANDARD
TZOFFSETFROM:-0700
TZOFFSETTO:-0800
TZNAME:PST
DTSTART:20271107T090000
END:STANDARD
END:VTIMEZONE
BEGIN:VEVENT
DTSTART;TZID=America/Los_Angeles:20260411T080000
DTEND;TZID=America/Los_Angeles:20260411T100000
DTSTAMP:20260425T035147
CREATED:20260310T010131Z
LAST-MODIFIED:20260310T011520Z
UID:10000546-1775894400-1775901600@gunownersradio.com
SUMMARY:8-HOUR CONCEALED CARRY RANGE CLASS – DAY 2 INITIAL or RENEWAL
DESCRIPTION:NOTES \nRegister on the CCWUSA Website →
URL:https://gunownersradio.com/event/8-hour-concealed-carry-range-class-day-2-initial-or-renewal-4/
LOCATION:OUTDOOR PRIVATE RANGE ESCONDIDO
CATEGORIES:Training
END:VEVENT
BEGIN:VEVENT
DTSTART;TZID=America/Los_Angeles:20260411T080000
DTEND;TZID=America/Los_Angeles:20260411T100000
DTSTAMP:20260425T035147
CREATED:20260311T014638Z
LAST-MODIFIED:20260311T014639Z
UID:10000702-1775894400-1775901600@gunownersradio.com
SUMMARY:NotMeSD Shooting Social
DESCRIPTION:A women-focused shooting social with a safety briefing\, hands-on instruction\, and guided range time. No prior experience or equipment needed. \nHosted by NotMeCA in partnership with San Diego County Gun Owners. \nRegister on TicketLeap →
URL:https://gunownersradio.com/event/notmesd-shooting-social-13/
LOCATION:The Gun Range San Diego — 7853 Balboa Ave\, San Diego\, CA 92115
CATEGORIES:Training
END:VEVENT
BEGIN:VEVENT
DTSTART;TZID=America/Los_Angeles:20260411T080000
DTEND;TZID=America/Los_Angeles:20260412T160000
DTSTAMP:20260425T035147
CREATED:20260310T235304Z
LAST-MODIFIED:20260310T235305Z
UID:10000678-1775894400-1776009600@gunownersradio.com
SUMMARY:San Diego/Riverside Counties 16hr CCW Class
DESCRIPTION:As of Jan 1\, 2024 CA CCW applicants now require 16hrs of training to receive their CCW Permit. This 2 day class satisfies this requirement. \nDay 1 is spent in the classroom Day 2 is a combination of classroom and range time followed by a qualification with the firearms you wish to have on your permit. \nUpon completion of the class you will receive a completion certificate that you can submit to the Sheriff to receive you permit. \nStudents will be provided with their own copy of USCCA’s “Concealed Carry and Home Defense Fundamentals” \nPrice includes Range fees\, and all weapons you wish to qualify with. No extra charge for multiple weapons. \nRegister on USCCA →
URL:https://gunownersradio.com/event/san-diego-riverside-counties-16hr-ccw-class-2/
LOCATION:Pala Shooting Range — 35402 Henderson Rd\, Pala\, CA\, 92059
CATEGORIES:Training
END:VEVENT
BEGIN:VEVENT
DTSTART;TZID=America/Los_Angeles:20260411T090000
DTEND;TZID=America/Los_Angeles:20260411T110000
DTSTAMP:20260425T035147
CREATED:20260310T235358Z
LAST-MODIFIED:20260310T235401Z
UID:10000693-1775898000-1775905200@gunownersradio.com
SUMMARY:Women's Handgun 201: Intermediate Shooting
DESCRIPTION:This is the 2nd of 3 women’s handgun classes. This class will cover intermediate handgun in an instructional setting and end up on the shooting range. You can take one class by itself or sign up for all three. \nRegister on USCCA →
URL:https://gunownersradio.com/event/womens-handgun-201-intermediate-shooting/
LOCATION:Rainbow Shooting Range — 3139 Rainbow Valley Blvd\, Fallbrook\, CA\, 92028
CATEGORIES:Training
ATTACH;FMTTYPE=image/jpeg:https://gunownersradio.com/wp-content/uploads/2026/03/zyeekMjdSBAOeRMj5mli7SowyCfISsUK_20220221155337853978-3.jpeg
END:VEVENT
END:VCALENDAR