BEGIN:VCALENDAR
VERSION:2.0
PRODID:-//Gun Owners Radio - ECPv6.15.18//NONSGML v1.0//EN
CALSCALE:GREGORIAN
METHOD:PUBLISH
X-WR-CALNAME:Gun Owners Radio
X-ORIGINAL-URL:https://gunownersradio.com
X-WR-CALDESC:Events for Gun Owners Radio
REFRESH-INTERVAL;VALUE=DURATION:PT1H
X-Robots-Tag:noindex
X-PUBLISHED-TTL:PT1H
BEGIN:VTIMEZONE
TZID:America/Los_Angeles
BEGIN:DAYLIGHT
TZOFFSETFROM:-0800
TZOFFSETTO:-0700
TZNAME:PDT
DTSTART:20250309T100000
END:DAYLIGHT
BEGIN:STANDARD
TZOFFSETFROM:-0700
TZOFFSETTO:-0800
TZNAME:PST
DTSTART:20251102T090000
END:STANDARD
BEGIN:DAYLIGHT
TZOFFSETFROM:-0800
TZOFFSETTO:-0700
TZNAME:PDT
DTSTART:20260308T100000
END:DAYLIGHT
BEGIN:STANDARD
TZOFFSETFROM:-0700
TZOFFSETTO:-0800
TZNAME:PST
DTSTART:20261101T090000
END:STANDARD
BEGIN:DAYLIGHT
TZOFFSETFROM:-0800
TZOFFSETTO:-0700
TZNAME:PDT
DTSTART:20270314T100000
END:DAYLIGHT
BEGIN:STANDARD
TZOFFSETFROM:-0700
TZOFFSETTO:-0800
TZNAME:PST
DTSTART:20271107T090000
END:STANDARD
END:VTIMEZONE
BEGIN:VEVENT
DTSTART;TZID=America/Los_Angeles:20260415T130000
DTEND;TZID=America/Los_Angeles:20260415T150000
DTSTAMP:20260425T034950
CREATED:20260310T010030Z
LAST-MODIFIED:20260310T010032Z
UID:10000524-1776258000-1776265200@gunownersradio.com
SUMMARY:Defensive Pistol 101: Basic Gunfighting Techniques
DESCRIPTION:This course combines and tests the skills needed to be a responsible CCW holder and defensive shooter. The skills learned and refined include holster draw\, reloads\, and malfunction clearance all under timed pressure. \nRegister on USCCA →
URL:https://gunownersradio.com/event/defensive-pistol-101-basic-gunfighting-techniques/
LOCATION:Rainbow Shooting Range — 3149 Rainbow Valley Blvd\, Fallbrook\, CA\, 92028
CATEGORIES:Training
ATTACH;FMTTYPE=image/jpeg:https://gunownersradio.com/wp-content/uploads/2026/03/DRuVd0vaOyhzm0htmONQsRhGr8XaxtgT_20250330160921982114.jpeg
END:VEVENT
END:VCALENDAR