BEGIN:VCALENDAR
VERSION:2.0
PRODID:-//Gun Owners Radio - ECPv6.15.18//NONSGML v1.0//EN
CALSCALE:GREGORIAN
METHOD:PUBLISH
X-ORIGINAL-URL:https://gunownersradio.com
X-WR-CALDESC:Events for Gun Owners Radio
REFRESH-INTERVAL;VALUE=DURATION:PT1H
X-Robots-Tag:noindex
X-PUBLISHED-TTL:PT1H
BEGIN:VTIMEZONE
TZID:America/Los_Angeles
BEGIN:DAYLIGHT
TZOFFSETFROM:-0800
TZOFFSETTO:-0700
TZNAME:PDT
DTSTART:20250309T100000
END:DAYLIGHT
BEGIN:STANDARD
TZOFFSETFROM:-0700
TZOFFSETTO:-0800
TZNAME:PST
DTSTART:20251102T090000
END:STANDARD
BEGIN:DAYLIGHT
TZOFFSETFROM:-0800
TZOFFSETTO:-0700
TZNAME:PDT
DTSTART:20260308T100000
END:DAYLIGHT
BEGIN:STANDARD
TZOFFSETFROM:-0700
TZOFFSETTO:-0800
TZNAME:PST
DTSTART:20261101T090000
END:STANDARD
BEGIN:DAYLIGHT
TZOFFSETFROM:-0800
TZOFFSETTO:-0700
TZNAME:PDT
DTSTART:20270314T100000
END:DAYLIGHT
BEGIN:STANDARD
TZOFFSETFROM:-0700
TZOFFSETTO:-0800
TZNAME:PST
DTSTART:20271107T090000
END:STANDARD
END:VTIMEZONE
BEGIN:VEVENT
DTSTART;TZID=America/Los_Angeles:20260417T080000
DTEND;TZID=America/Los_Angeles:20260417T100000
DTSTAMP:20260425T035114
CREATED:20260310T010133Z
LAST-MODIFIED:20260310T011522Z
UID:10000547-1776412800-1776420000@gunownersradio.com
SUMMARY:8-HOUR CONCEALED CARRY RANGE CLASS – DAY 2 INITIAL or RENEWAL
DESCRIPTION:Register on the CCWUSA Website →
URL:https://gunownersradio.com/event/8-hour-concealed-carry-range-class-day-2-initial-or-renewal-5/
LOCATION:OUTDOOR PRIVATE RANGE ALPINE
CATEGORIES:Training
END:VEVENT
BEGIN:VEVENT
DTSTART;TZID=America/Los_Angeles:20260417T083000
DTEND;TZID=America/Los_Angeles:20260417T110000
DTSTAMP:20260425T035114
CREATED:20260407T214017Z
LAST-MODIFIED:20260407T214020Z
UID:10000729-1776414600-1776423600@gunownersradio.com
SUMMARY:Concealed Carry Range Qualification
DESCRIPTION:This class is for those students who have completed their 16HR Initial or 8HR renewal online and who need to complete the live fire portion of the class.  Online Completion certificate is required to sign up. \nRegister on USCCA →
URL:https://gunownersradio.com/event/concealed-carry-range-qualification-4/
LOCATION:Pala Shooting Range — 35402 Henderson Road\, Pala\, CA\, 92058
CATEGORIES:Training
ATTACH;FMTTYPE=image/jpeg:https://gunownersradio.com/wp-content/uploads/2026/04/MuuvJxzgek4YeqNZVt7SCLjN6IGcJ3py_20250905131712513251.jpeg
END:VEVENT
BEGIN:VEVENT
DTSTART;TZID=America/Los_Angeles:20260417T090000
DTEND;TZID=America/Los_Angeles:20260417T140000
DTSTAMP:20260425T035114
CREATED:20260315T144606Z
LAST-MODIFIED:20260315T144607Z
UID:10000706-1776416400-1776434400@gunownersradio.com
SUMMARY:Defensive Carbine Lvl ll
DESCRIPTION:Join us for the Combat Carbine Level II course on January 2\, led by a seasoned 20-year Marine Special Operator. This not a beginners course. This training focuses on essential skills such as speed shooting\, speed reloads\, and engaging multiple targets at short distances. Elevate your tactical proficiency with expert instruction from West Coast Kinetic Solutions\, where precision and professional development meet. \nGear List -water 1 gallon -food for lunch or snacks -sun block -gun belt/with mag holster or pouch -rifle sling -shooting gloves -at least 2 rifle mags -400 rounds  -100 Frangible rounds  -eye protection -ear protection -wear clothing for outdoors -range chair \nRegister on the WCKS Website →
URL:https://gunownersradio.com/event/defensive-carbine-lvl-ll/
LOCATION:Fallbrook Area
CATEGORIES:Training
ATTACH;FMTTYPE=image/jpeg:https://gunownersradio.com/wp-content/uploads/2026/03/371210_c75dc7f58a05456eb91d69145d99dd94mv2-2.jpeg
END:VEVENT
BEGIN:VEVENT
DTSTART;TZID=America/Los_Angeles:20260417T090000
DTEND;TZID=America/Los_Angeles:20260417T230000
DTSTAMP:20260425T035114
CREATED:20260310T005832Z
LAST-MODIFIED:20260310T005835Z
UID:10000494-1776416400-1776466800@gunownersradio.com
SUMMARY:Skill Builder: Reloads & Malfunctions
DESCRIPTION:You will learn how to identify and reflexively clear three types of malfunctions and perform two common reloads. This class will dramatically improve your gun handling skills. \nRegister on USCCA →
URL:https://gunownersradio.com/event/skill-builder-reloads-malfunctions/
LOCATION:Personal Protection Academy — 3139 Rainbow Valley Blvd.\, Fallbrook\, CA\, 92028
CATEGORIES:Training
ATTACH;FMTTYPE=image/jpeg:https://gunownersradio.com/wp-content/uploads/2026/03/EqQ7XdSk0zJPtrVlYLyPZxxZvUbdG7R2_20241224181721441094.jpeg
END:VEVENT
END:VCALENDAR