BEGIN:VCALENDAR
VERSION:2.0
PRODID:-//Gun Owners Radio - ECPv6.15.18//NONSGML v1.0//EN
CALSCALE:GREGORIAN
METHOD:PUBLISH
X-ORIGINAL-URL:https://gunownersradio.com
X-WR-CALDESC:Events for Gun Owners Radio
REFRESH-INTERVAL;VALUE=DURATION:PT1H
X-Robots-Tag:noindex
X-PUBLISHED-TTL:PT1H
BEGIN:VTIMEZONE
TZID:America/Los_Angeles
BEGIN:DAYLIGHT
TZOFFSETFROM:-0800
TZOFFSETTO:-0700
TZNAME:PDT
DTSTART:20250309T100000
END:DAYLIGHT
BEGIN:STANDARD
TZOFFSETFROM:-0700
TZOFFSETTO:-0800
TZNAME:PST
DTSTART:20251102T090000
END:STANDARD
BEGIN:DAYLIGHT
TZOFFSETFROM:-0800
TZOFFSETTO:-0700
TZNAME:PDT
DTSTART:20260308T100000
END:DAYLIGHT
BEGIN:STANDARD
TZOFFSETFROM:-0700
TZOFFSETTO:-0800
TZNAME:PST
DTSTART:20261101T090000
END:STANDARD
BEGIN:DAYLIGHT
TZOFFSETFROM:-0800
TZOFFSETTO:-0700
TZNAME:PDT
DTSTART:20270314T100000
END:DAYLIGHT
BEGIN:STANDARD
TZOFFSETFROM:-0700
TZOFFSETTO:-0800
TZNAME:PST
DTSTART:20271107T090000
END:STANDARD
END:VTIMEZONE
BEGIN:VEVENT
DTSTART;TZID=America/Los_Angeles:20260509T080000
DTEND;TZID=America/Los_Angeles:20260509T100000
DTSTAMP:20260425T051927
CREATED:20260310T010144Z
LAST-MODIFIED:20260310T011534Z
UID:10000554-1778313600-1778320800@gunownersradio.com
SUMMARY:8-HOUR CONCEALED CARRY RANGE CLASS – DAY 2 INITIAL or RENEWAL
DESCRIPTION:Register on the CCWUSA Website →
URL:https://gunownersradio.com/event/8-hour-concealed-carry-range-class-day-2-initial-or-renewal-7/
LOCATION:OUTDOOR PRIVATE RANGE ESCONDIDO
CATEGORIES:Training
END:VEVENT
BEGIN:VEVENT
DTSTART;TZID=America/Los_Angeles:20260509T120000
DTEND;TZID=America/Los_Angeles:20260509T160000
DTSTAMP:20260425T051927
CREATED:20260310T005958Z
LAST-MODIFIED:20260310T010002Z
UID:10000517-1778328000-1778342400@gunownersradio.com
SUMMARY:​Emergency Preparedness 101: Tactical First Aid
DESCRIPTION:This course includes both the Stop The Bleed Training AND the American Red Cross Adult First Aid/CPR/AED class. Students will receive a 2-year CPR certification\, a Stop The Bleed certification and a free tourniquet. You will learn about pressure dressings\, tourniquet application and how to build your own Individual First Aid Kit (IFAK)\, \nThis course is perfect for shooters\, hunters\, hikers\, campers and anyone who is ready to be their own first responder. \nRegister on USCCA →
URL:https://gunownersradio.com/event/emergency-preparedness-101-tactical-first-aid/
LOCATION:Personal Protection Academy — 40685 California Oaks Rd.\, Suite E\, Murrieta\, CA\, 92562
CATEGORIES:Training
ATTACH;FMTTYPE=image/jpeg:https://gunownersradio.com/wp-content/uploads/2026/03/9Rdb6i0dAigiGQSoqsd995HVv3VD1efm_20241223194600530848.jpeg
END:VEVENT
END:VCALENDAR