BEGIN:VCALENDAR
VERSION:2.0
PRODID:-//Gun Owners Radio - ECPv6.15.18//NONSGML v1.0//EN
CALSCALE:GREGORIAN
METHOD:PUBLISH
X-ORIGINAL-URL:https://gunownersradio.com
X-WR-CALDESC:Events for Gun Owners Radio
REFRESH-INTERVAL;VALUE=DURATION:PT1H
X-Robots-Tag:noindex
X-PUBLISHED-TTL:PT1H
BEGIN:VTIMEZONE
TZID:America/Los_Angeles
BEGIN:DAYLIGHT
TZOFFSETFROM:-0800
TZOFFSETTO:-0700
TZNAME:PDT
DTSTART:20250309T100000
END:DAYLIGHT
BEGIN:STANDARD
TZOFFSETFROM:-0700
TZOFFSETTO:-0800
TZNAME:PST
DTSTART:20251102T090000
END:STANDARD
BEGIN:DAYLIGHT
TZOFFSETFROM:-0800
TZOFFSETTO:-0700
TZNAME:PDT
DTSTART:20260308T100000
END:DAYLIGHT
BEGIN:STANDARD
TZOFFSETFROM:-0700
TZOFFSETTO:-0800
TZNAME:PST
DTSTART:20261101T090000
END:STANDARD
BEGIN:DAYLIGHT
TZOFFSETFROM:-0800
TZOFFSETTO:-0700
TZNAME:PDT
DTSTART:20270314T100000
END:DAYLIGHT
BEGIN:STANDARD
TZOFFSETFROM:-0700
TZOFFSETTO:-0800
TZNAME:PST
DTSTART:20271107T090000
END:STANDARD
END:VTIMEZONE
BEGIN:VEVENT
DTSTART;TZID=America/Los_Angeles:20260717T080000
DTEND;TZID=America/Los_Angeles:20260717T100000
DTSTAMP:20260425T083554
CREATED:20260310T010210Z
LAST-MODIFIED:20260310T011600Z
UID:10000570-1784275200-1784282400@gunownersradio.com
SUMMARY:8-HOUR CONCEALED CARRY RANGE CLASS – DAY 2 INITIAL or RENEWAL
DESCRIPTION:Register on the CCWUSA Website →
URL:https://gunownersradio.com/event/8-hour-concealed-carry-range-class-day-2-initial-or-renewal-14/
LOCATION:OUTDOOR PRIVATE RANGE ALPINE
CATEGORIES:Training
END:VEVENT
BEGIN:VEVENT
DTSTART;TZID=America/Los_Angeles:20260717T180000
DTEND;TZID=America/Los_Angeles:20260717T200000
DTSTAMP:20260425T083554
CREATED:20260422T153258Z
LAST-MODIFIED:20260422T153313Z
UID:10000767-1784311200-1784318400@gunownersradio.com
SUMMARY:Handgun Seminar: Dry Fire Practice
DESCRIPTION:Learn to improve your shooting dramatically by safely dryfiring in your home\, hotel or office. Learn to use techniques\, drills and technology. Save money on ammunition. Practice in the comfort of your home. Become a better shooter. \nRegister on USCCA →
URL:https://gunownersradio.com/event/handgun-seminar-dry-fire-practice-2/
LOCATION:Personal Protection Academy — 40685 California Oaks Rd.\, Suite E\, Murrieta\, CA\, 92562
CATEGORIES:Training
ATTACH;FMTTYPE=image/jpeg:https://gunownersradio.com/wp-content/uploads/2026/04/VfKqZiXsNFu4A2p0s6PAE1VAIOFQ3TBn_20230425120628765279.jpeg
END:VEVENT
END:VCALENDAR