BEGIN:VCALENDAR
VERSION:2.0
PRODID:-//Gun Owners Radio - ECPv6.15.18//NONSGML v1.0//EN
CALSCALE:GREGORIAN
METHOD:PUBLISH
X-WR-CALNAME:Gun Owners Radio
X-ORIGINAL-URL:https://gunownersradio.com
X-WR-CALDESC:Events for Gun Owners Radio
REFRESH-INTERVAL;VALUE=DURATION:PT1H
X-Robots-Tag:noindex
X-PUBLISHED-TTL:PT1H
BEGIN:VTIMEZONE
TZID:UTC
BEGIN:STANDARD
TZOFFSETFROM:+0000
TZOFFSETTO:+0000
TZNAME:UTC
DTSTART:20210101T000000
END:STANDARD
END:VTIMEZONE
BEGIN:VEVENT
DTSTART;TZID=UTC:20220205T080000
DTEND;TZID=UTC:20220205T100000
DTSTAMP:20260425T114610
CREATED:20230213T200236Z
LAST-MODIFIED:20230213T200236Z
UID:10000017-1644048000-1644055200@gunownersradio.com
SUMMARY:Shooting Social
DESCRIPTION:
URL:https://gunownersradio.com/event/shooting-social/
LOCATION:FT3 Tactical\, 8230 Electric Ave\, Stanton\, CA\, 90680\, United States
CATEGORIES:Shooting Social
END:VEVENT
BEGIN:VEVENT
DTSTART;TZID=UTC:20220206T160000
DTEND;TZID=UTC:20220206T180000
DTSTAMP:20260425T114610
CREATED:20230213T200234Z
LAST-MODIFIED:20230213T200234Z
UID:10000012-1644163200-1644170400@gunownersradio.com
SUMMARY:Gun Owners Radio
DESCRIPTION:
URL:https://gunownersradio.com/event/gun-owners-radio-6/
CATEGORIES:Gun Owners Radio
END:VEVENT
BEGIN:VEVENT
DTSTART;TZID=UTC:20220213T160000
DTEND;TZID=UTC:20220213T180000
DTSTAMP:20260425T114610
CREATED:20230213T200235Z
LAST-MODIFIED:20230213T200235Z
UID:10000013-1644768000-1644775200@gunownersradio.com
SUMMARY:Gun Owners Radio
DESCRIPTION:
URL:https://gunownersradio.com/event/gun-owners-radio-7/
CATEGORIES:Gun Owners Radio
END:VEVENT
BEGIN:VEVENT
DTSTART;TZID=UTC:20220220T160000
DTEND;TZID=UTC:20220220T180000
DTSTAMP:20260425T114610
CREATED:20230213T200235Z
LAST-MODIFIED:20230213T200235Z
UID:10000014-1645372800-1645380000@gunownersradio.com
SUMMARY:Gun Owners Radio
DESCRIPTION:
URL:https://gunownersradio.com/event/gun-owners-radio-8/
CATEGORIES:Gun Owners Radio
END:VEVENT
BEGIN:VEVENT
DTSTART;TZID=UTC:20220223T180000
DTEND;TZID=UTC:20220223T200000
DTSTAMP:20260425T114610
CREATED:20230213T200236Z
LAST-MODIFIED:20230213T200236Z
UID:10000018-1645639200-1645646400@gunownersradio.com
SUMMARY:Monthly Meeting
DESCRIPTION:
URL:https://gunownersradio.com/event/monthly-meeting-2/
LOCATION:Zito’s Pizza\, 2036 N Tustin St.\, Orange\, CA\, 92865\, United States
CATEGORIES:Monthly Meeting
END:VEVENT
BEGIN:VEVENT
DTSTART;TZID=UTC:20220227T160000
DTEND;TZID=UTC:20220227T180000
DTSTAMP:20260425T114610
CREATED:20230213T200235Z
LAST-MODIFIED:20230213T200235Z
UID:10000015-1645977600-1645984800@gunownersradio.com
SUMMARY:Gun Owners Radio
DESCRIPTION:
URL:https://gunownersradio.com/event/gun-owners-radio-9/
CATEGORIES:Gun Owners Radio
END:VEVENT
BEGIN:VEVENT
DTSTART;TZID=UTC:20220228T183000
DTEND;TZID=UTC:20220228T200000
DTSTAMP:20260425T114610
CREATED:20230213T200235Z
LAST-MODIFIED:20230213T200235Z
UID:10000016-1646073000-1646078400@gunownersradio.com
SUMMARY:CCW Seminar
DESCRIPTION:
URL:https://gunownersradio.com/event/ccw-seminar-2/
CATEGORIES:CCW Seminar
END:VEVENT
END:VCALENDAR