BEGIN:VCALENDAR
VERSION:2.0
PRODID:-//Gun Owners Radio - ECPv6.15.18//NONSGML v1.0//EN
CALSCALE:GREGORIAN
METHOD:PUBLISH
X-WR-CALNAME:Gun Owners Radio
X-ORIGINAL-URL:https://gunownersradio.com
X-WR-CALDESC:Events for Gun Owners Radio
REFRESH-INTERVAL;VALUE=DURATION:PT1H
X-Robots-Tag:noindex
X-PUBLISHED-TTL:PT1H
BEGIN:VTIMEZONE
TZID:UTC
BEGIN:STANDARD
TZOFFSETFROM:+0000
TZOFFSETTO:+0000
TZNAME:UTC
DTSTART:20220101T000000
END:STANDARD
END:VTIMEZONE
BEGIN:VTIMEZONE
TZID:America/Los_Angeles
BEGIN:DAYLIGHT
TZOFFSETFROM:-0800
TZOFFSETTO:-0700
TZNAME:PDT
DTSTART:20220313T100000
END:DAYLIGHT
BEGIN:STANDARD
TZOFFSETFROM:-0700
TZOFFSETTO:-0800
TZNAME:PST
DTSTART:20221106T090000
END:STANDARD
BEGIN:DAYLIGHT
TZOFFSETFROM:-0800
TZOFFSETTO:-0700
TZNAME:PDT
DTSTART:20230312T100000
END:DAYLIGHT
BEGIN:STANDARD
TZOFFSETFROM:-0700
TZOFFSETTO:-0800
TZNAME:PST
DTSTART:20231105T090000
END:STANDARD
BEGIN:DAYLIGHT
TZOFFSETFROM:-0800
TZOFFSETTO:-0700
TZNAME:PDT
DTSTART:20240310T100000
END:DAYLIGHT
BEGIN:STANDARD
TZOFFSETFROM:-0700
TZOFFSETTO:-0800
TZNAME:PST
DTSTART:20241103T090000
END:STANDARD
END:VTIMEZONE
BEGIN:VEVENT
DTSTART;TZID=UTC:20231022T160000
DTEND;TZID=UTC:20231022T180000
DTSTAMP:20260424T123052
CREATED:20230724T145108Z
LAST-MODIFIED:20230724T145108Z
UID:10000213-1697990400-1697997600@gunownersradio.com
SUMMARY:Gun Owners Radio Live
DESCRIPTION:
URL:https://gunownersradio.com/event/gun-owners-radio-live-38/
CATEGORIES:Gun Owners Radio,Orange County Gun Owners
END:VEVENT
BEGIN:VEVENT
DTSTART;TZID=America/Los_Angeles:20231021T090000
DTEND;TZID=America/Los_Angeles:20231022T160000
DTSTAMP:20260424T123052
CREATED:20230930T210057Z
LAST-MODIFIED:20230930T210145Z
UID:10000238-1697878800-1697990400@gunownersradio.com
SUMMARY:Gun Owners Symposium 2
DESCRIPTION:Get the full details at https://gunownersradio.com/symposium.
URL:https://gunownersradio.com/event/gun-owners-symposium-2/
LOCATION:East San Diego Masonic Lodge\, 7849 Tommy Dr\, El Cajon\, CA\, 92119\, United States
CATEGORIES:Symposium 2023
ATTACH;FMTTYPE=image/gif:https://gunownersradio.com/wp-content/uploads/2023/05/gor-symposium-hero10.gif
END:VEVENT
BEGIN:VEVENT
DTSTART;TZID=UTC:20231015T160000
DTEND;TZID=UTC:20231015T180000
DTSTAMP:20260424T123052
CREATED:20230717T014839Z
LAST-MODIFIED:20230717T014839Z
UID:10000205-1697385600-1697392800@gunownersradio.com
SUMMARY:Gun Owners Radio Live
DESCRIPTION:
URL:https://gunownersradio.com/event/gun-owners-radio-live-37/
CATEGORIES:Gun Owners Radio,Orange County Gun Owners
END:VEVENT
BEGIN:VEVENT
DTSTART;TZID=UTC:20231008T160000
DTEND;TZID=UTC:20231008T180000
DTSTAMP:20260424T123052
CREATED:20230710T134728Z
LAST-MODIFIED:20230710T134728Z
UID:10000204-1696780800-1696788000@gunownersradio.com
SUMMARY:Gun Owners Radio Live
DESCRIPTION:
URL:https://gunownersradio.com/event/gun-owners-radio-live-36/
CATEGORIES:Gun Owners Radio,Orange County Gun Owners
END:VEVENT
BEGIN:VEVENT
DTSTART;TZID=UTC:20231001T160000
DTEND;TZID=UTC:20231001T180000
DTSTAMP:20260424T123052
CREATED:20230703T015244Z
LAST-MODIFIED:20230703T015244Z
UID:10000202-1696176000-1696183200@gunownersradio.com
SUMMARY:Gun Owners Radio Live
DESCRIPTION:
URL:https://gunownersradio.com/event/gun-owners-radio-live-35/
CATEGORIES:Gun Owners Radio,Orange County Gun Owners
END:VEVENT
BEGIN:VEVENT
DTSTART;TZID=UTC:20230924T160000
DTEND;TZID=UTC:20230924T180000
DTSTAMP:20260424T123052
CREATED:20230626T045242Z
LAST-MODIFIED:20230626T045242Z
UID:10000199-1695571200-1695578400@gunownersradio.com
SUMMARY:Gun Owners Radio Live
DESCRIPTION:
URL:https://gunownersradio.com/event/gun-owners-radio-live-34/
CATEGORIES:Gun Owners Radio,Orange County Gun Owners
END:VEVENT
BEGIN:VEVENT
DTSTART;TZID=UTC:20230917T160000
DTEND;TZID=UTC:20230917T180000
DTSTAMP:20260424T123052
CREATED:20230621T073816Z
LAST-MODIFIED:20230621T073816Z
UID:10000198-1694966400-1694973600@gunownersradio.com
SUMMARY:Gun Owners Radio Live
DESCRIPTION:
URL:https://gunownersradio.com/event/gun-owners-radio-live-33/
CATEGORIES:Gun Owners Radio,Orange County Gun Owners
END:VEVENT
BEGIN:VEVENT
DTSTART;TZID=UTC:20230910T160000
DTEND;TZID=UTC:20230910T180000
DTSTAMP:20260424T123052
CREATED:20230615T025225Z
LAST-MODIFIED:20230615T025225Z
UID:10000195-1694361600-1694368800@gunownersradio.com
SUMMARY:Gun Owners Radio Live
DESCRIPTION:
URL:https://gunownersradio.com/event/gun-owners-radio-live-32/
CATEGORIES:Gun Owners Radio,Orange County Gun Owners
END:VEVENT
BEGIN:VEVENT
DTSTART;TZID=UTC:20230903T160000
DTEND;TZID=UTC:20230903T180000
DTSTAMP:20260424T123052
CREATED:20230611T024731Z
LAST-MODIFIED:20230611T024731Z
UID:10000189-1693756800-1693764000@gunownersradio.com
SUMMARY:Gun Owners Radio Live
DESCRIPTION:
URL:https://gunownersradio.com/event/gun-owners-radio-live-31/
CATEGORIES:Gun Owners Radio,Orange County Gun Owners
END:VEVENT
BEGIN:VEVENT
DTSTART;TZID=UTC:20230827T160000
DTEND;TZID=UTC:20230827T180000
DTSTAMP:20260424T123052
CREATED:20230603T224553Z
LAST-MODIFIED:20230603T224553Z
UID:10000188-1693152000-1693159200@gunownersradio.com
SUMMARY:Gun Owners Radio Live
DESCRIPTION:
URL:https://gunownersradio.com/event/gun-owners-radio-live-30/
CATEGORIES:Gun Owners Radio,Orange County Gun Owners
END:VEVENT
BEGIN:VEVENT
DTSTART;TZID=UTC:20230820T160000
DTEND;TZID=UTC:20230820T180000
DTSTAMP:20260424T123052
CREATED:20230603T224542Z
LAST-MODIFIED:20230603T224542Z
UID:10000182-1692547200-1692554400@gunownersradio.com
SUMMARY:Gun Owners Radio Live
DESCRIPTION:
URL:https://gunownersradio.com/event/gun-owners-radio-live-29/
CATEGORIES:Gun Owners Radio,Orange County Gun Owners
END:VEVENT
BEGIN:VEVENT
DTSTART;TZID=UTC:20230813T160000
DTEND;TZID=UTC:20230813T180000
DTSTAMP:20260424T123052
CREATED:20230520T185047Z
LAST-MODIFIED:20230520T185047Z
UID:10000179-1691942400-1691949600@gunownersradio.com
SUMMARY:Gun Owners Radio Live
DESCRIPTION:
URL:https://gunownersradio.com/event/gun-owners-radio-live-28/
CATEGORIES:Gun Owners Radio,Orange County Gun Owners
END:VEVENT
BEGIN:VEVENT
DTSTART;TZID=UTC:20230806T160000
DTEND;TZID=UTC:20230806T180000
DTSTAMP:20260424T123052
CREATED:20230520T185046Z
LAST-MODIFIED:20230520T185046Z
UID:10000178-1691337600-1691344800@gunownersradio.com
SUMMARY:Gun Owners Radio Live
DESCRIPTION:
URL:https://gunownersradio.com/event/gun-owners-radio-live-27/
CATEGORIES:Gun Owners Radio,Orange County Gun Owners
END:VEVENT
BEGIN:VEVENT
DTSTART;TZID=UTC:20230730T160000
DTEND;TZID=UTC:20230730T180000
DTSTAMP:20260424T123052
CREATED:20230520T185046Z
LAST-MODIFIED:20230520T185046Z
UID:10000177-1690732800-1690740000@gunownersradio.com
SUMMARY:Gun Owners Radio Live
DESCRIPTION:
URL:https://gunownersradio.com/event/gun-owners-radio-live-26/
CATEGORIES:Gun Owners Radio,Orange County Gun Owners
END:VEVENT
BEGIN:VEVENT
DTSTART;TZID=UTC:20230723T160000
DTEND;TZID=UTC:20230723T180000
DTSTAMP:20260424T123052
CREATED:20230520T185045Z
LAST-MODIFIED:20230520T185045Z
UID:10000176-1690128000-1690135200@gunownersradio.com
SUMMARY:Gun Owners Radio Live
DESCRIPTION:
URL:https://gunownersradio.com/event/gun-owners-radio-live-25/
CATEGORIES:Gun Owners Radio,Orange County Gun Owners
END:VEVENT
BEGIN:VEVENT
DTSTART;TZID=UTC:20230716T160000
DTEND;TZID=UTC:20230716T180000
DTSTAMP:20260424T123052
CREATED:20230520T185045Z
LAST-MODIFIED:20230520T185045Z
UID:10000175-1689523200-1689530400@gunownersradio.com
SUMMARY:Gun Owners Radio Live
DESCRIPTION:
URL:https://gunownersradio.com/event/gun-owners-radio-live-24/
CATEGORIES:Gun Owners Radio,Orange County Gun Owners
END:VEVENT
BEGIN:VEVENT
DTSTART;TZID=UTC:20230709T160000
DTEND;TZID=UTC:20230709T180000
DTSTAMP:20260424T123052
CREATED:20230520T185045Z
LAST-MODIFIED:20230520T185045Z
UID:10000174-1688918400-1688925600@gunownersradio.com
SUMMARY:Gun Owners Radio Live
DESCRIPTION:
URL:https://gunownersradio.com/event/gun-owners-radio-live-23/
CATEGORIES:Gun Owners Radio,Orange County Gun Owners
END:VEVENT
BEGIN:VEVENT
DTSTART;TZID=UTC:20230702T160000
DTEND;TZID=UTC:20230702T180000
DTSTAMP:20260424T123052
CREATED:20230520T185045Z
LAST-MODIFIED:20230520T185045Z
UID:10000173-1688313600-1688320800@gunownersradio.com
SUMMARY:Gun Owners Radio Live
DESCRIPTION:
URL:https://gunownersradio.com/event/gun-owners-radio-live-22/
CATEGORIES:Gun Owners Radio,Orange County Gun Owners
END:VEVENT
BEGIN:VEVENT
DTSTART;TZID=UTC:20230625T160000
DTEND;TZID=UTC:20230625T180000
DTSTAMP:20260424T123052
CREATED:20230520T185044Z
LAST-MODIFIED:20230520T185044Z
UID:10000172-1687708800-1687716000@gunownersradio.com
SUMMARY:Gun Owners Radio Live
DESCRIPTION:
URL:https://gunownersradio.com/event/gun-owners-radio-live-21/
CATEGORIES:Gun Owners Radio,Orange County Gun Owners
END:VEVENT
BEGIN:VEVENT
DTSTART;TZID=UTC:20230618T160000
DTEND;TZID=UTC:20230618T180000
DTSTAMP:20260424T123052
CREATED:20230520T185044Z
LAST-MODIFIED:20230520T185044Z
UID:10000171-1687104000-1687111200@gunownersradio.com
SUMMARY:Gun Owners Radio Live
DESCRIPTION:
URL:https://gunownersradio.com/event/gun-owners-radio-live-20/
CATEGORIES:Gun Owners Radio,Orange County Gun Owners
END:VEVENT
BEGIN:VEVENT
DTSTART;TZID=UTC:20230611T160000
DTEND;TZID=UTC:20230611T180000
DTSTAMP:20260424T123052
CREATED:20230520T185043Z
LAST-MODIFIED:20230520T185043Z
UID:10000170-1686499200-1686506400@gunownersradio.com
SUMMARY:Gun Owners Radio Live
DESCRIPTION:
URL:https://gunownersradio.com/event/gun-owners-radio-live-19/
CATEGORIES:Gun Owners Radio,Orange County Gun Owners
END:VEVENT
BEGIN:VEVENT
DTSTART;TZID=UTC:20230604T160000
DTEND;TZID=UTC:20230604T180000
DTSTAMP:20260424T123052
CREATED:20230520T185043Z
LAST-MODIFIED:20230520T185043Z
UID:10000169-1685894400-1685901600@gunownersradio.com
SUMMARY:Gun Owners Radio Live
DESCRIPTION:
URL:https://gunownersradio.com/event/gun-owners-radio-live-18/
CATEGORIES:Gun Owners Radio,Orange County Gun Owners
END:VEVENT
BEGIN:VEVENT
DTSTART;TZID=America/Los_Angeles:20230604T150000
DTEND;TZID=America/Los_Angeles:20230604T154500
DTSTAMP:20260424T123052
CREATED:20230515T201314Z
LAST-MODIFIED:20230521T190040Z
UID:10000145-1685890800-1685893500@gunownersradio.com
SUMMARY:Gun Owners Radio REPLAY: Stephen Willeford - the Barefoot Defender
DESCRIPTION:After the deadly mass shooting in Sutherland Springs in November 2017\, Stephen has become known across the country as the “good guy with a gun.” Watch the MAGNUM interview with Stephen Willeford\, who stopped a mass shooter with his AR-15. \n 
URL:https://gunownersradio.com/event/gun-owners-radio-replay-stephen-willeford-the-barefoot-defender/
LOCATION:East San Diego Masonic Lodge\, 7849 Tommy Dr\, El Cajon\, CA\, 92119\, United States
CATEGORIES:Symposium 2023
ATTACH;FMTTYPE=image/jpeg:https://gunownersradio.com/wp-content/uploads/2021/09/Stephen-Willeford-Thumbnail-1.jpg
END:VEVENT
BEGIN:VEVENT
DTSTART;TZID=America/Los_Angeles:20230604T133000
DTEND;TZID=America/Los_Angeles:20230604T143000
DTSTAMP:20260424T123052
CREATED:20230515T201201Z
LAST-MODIFIED:20230523T211939Z
UID:10000144-1685885400-1685889000@gunownersradio.com
SUMMARY:How to get your CCW in San Diego County\, Michael Schwartz
DESCRIPTION:The right to protect yourself extends beyond your home. Watch this presentation to learn how to get your CCW permit in San Diego County. \nPresented by Michael Schwartz\, host of Gun Owners Radio & Founder of San Diego County Gun Owners.
URL:https://gunownersradio.com/event/how-to-get-your-ccw-in-san-diego-county-michael-schwartz-2/
LOCATION:East San Diego Masonic Lodge\, 7849 Tommy Dr\, El Cajon\, CA\, 92119\, United States
CATEGORIES:Symposium 2023
ATTACH;FMTTYPE=image/png:https://gunownersradio.com/wp-content/uploads/2023/05/4.png
END:VEVENT
BEGIN:VEVENT
DTSTART;TZID=America/Los_Angeles:20230604T100000
DTEND;TZID=America/Los_Angeles:20230604T104500
DTSTAMP:20260424T123052
CREATED:20230515T195941Z
LAST-MODIFIED:20230521T185732Z
UID:10000137-1685872800-1685875500@gunownersradio.com
SUMMARY:Cognitive Skills for Defensive Shooting\, Mike Dasargo
DESCRIPTION:Mindset and mental health are key factors in your performance as a defensive shooter. Learn how to become improve your performance as a self defender without going to the range. \nPresented by Mike Dasargo\, Stronghold Dynamic.
URL:https://gunownersradio.com/event/cognitive-skills-for-defensive-shooting-mike-dasargo/
CATEGORIES:Symposium 2023
ATTACH;FMTTYPE=image/png:https://gunownersradio.com/wp-content/uploads/2023/05/3.png
END:VEVENT
BEGIN:VEVENT
DTSTART;TZID=America/Los_Angeles:20230604T090000
DTEND;TZID=America/Los_Angeles:20230604T094500
DTSTAMP:20260424T123052
CREATED:20230515T200910Z
LAST-MODIFIED:20230521T160420Z
UID:10000142-1685869200-1685871900@gunownersradio.com
SUMMARY:Gun Owners Radio REPLAY: John Lott Dismantles Gun Control Industry Misinformation
DESCRIPTION:You don’t get the truth about guns from the legacy media. Watch this interview with John Lott as he dismantles the misinformation and dishonesty from the gun-control industry.
URL:https://gunownersradio.com/event/gun-owners-radio-replay-john-lott-dismantles-gun-control-industry-misinformation/
LOCATION:East San Diego Masonic Lodge\, 7849 Tommy Dr\, El Cajon\, CA\, 92119\, United States
CATEGORIES:Symposium 2023
ATTACH;FMTTYPE=image/jpeg:https://gunownersradio.com/wp-content/uploads/2023/05/johnlott.jpeg
END:VEVENT
BEGIN:VEVENT
DTSTART;TZID=America/Los_Angeles:20230603T160000
DTEND;TZID=America/Los_Angeles:20230603T164500
DTSTAMP:20260424T123052
CREATED:20230515T200738Z
LAST-MODIFIED:20230521T155240Z
UID:10000141-1685808000-1685810700@gunownersradio.com
SUMMARY:Gun Owners Radio REPLAY: Shotguns with Clint Smith
DESCRIPTION:Enjoy one of the most popular interviews on Gun Owners Radio with Clint Smith\, founder of Thunder Ranch.
URL:https://gunownersradio.com/event/gun-owners-radio-replay-shotguns-with-clint-smith/
LOCATION:East San Diego Masonic Lodge\, 7849 Tommy Dr\, El Cajon\, CA\, 92119\, United States
CATEGORIES:Symposium 2023
ATTACH;FMTTYPE=image/jpeg:https://gunownersradio.com/wp-content/uploads/2021/09/clint-smith-clip.jpg
END:VEVENT
BEGIN:VEVENT
DTSTART;TZID=America/Los_Angeles:20230603T150000
DTEND;TZID=America/Los_Angeles:20230603T154500
DTSTAMP:20260424T123052
CREATED:20230515T200648Z
LAST-MODIFIED:20230521T155149Z
UID:10000140-1685804400-1685807100@gunownersradio.com
SUMMARY:Updates to Lawsuits affecting your 2A Rights\, Colin Rudolph
DESCRIPTION:It’s tough keeping up with all the different laws and lawsuits that affect your Second Amendment rights. Get the low-down with Colin in this session. \nPresented by Colin Rudolph\, Rudolph Law Firm
URL:https://gunownersradio.com/event/updates-to-lawsuits-affecting-your-2a-rights-colin-rudolph/
LOCATION:East San Diego Masonic Lodge\, 7849 Tommy Dr\, El Cajon\, CA\, 92119\, United States
CATEGORIES:Symposium 2023
ATTACH;FMTTYPE=image/png:https://gunownersradio.com/wp-content/uploads/2023/05/1.png
END:VEVENT
BEGIN:VEVENT
DTSTART;TZID=America/Los_Angeles:20230603T133000
DTEND;TZID=America/Los_Angeles:20230603T143000
DTSTAMP:20260424T123052
CREATED:20230515T200537Z
LAST-MODIFIED:20230521T154901Z
UID:10000139-1685799000-1685802600@gunownersradio.com
SUMMARY:Situational Awareness for Teens\, Alisha Curtin
DESCRIPTION:Having a solid foundation in situational awareness is the first step in becoming a better self defender.  If you own a gun or not\, this session will give you and your family tips and tricks to avoid situations where your safety may be at risk. \nPresented by Alisha Curtin\, host of Gun Owners Radio & Certified Firearms Trainer
URL:https://gunownersradio.com/event/situational-awareness-for-teens-alisha-curtin/
LOCATION:East San Diego Masonic Lodge\, 7849 Tommy Dr\, El Cajon\, CA\, 92119\, United States
CATEGORIES:Symposium 2023
ATTACH;FMTTYPE=image/png:https://gunownersradio.com/wp-content/uploads/2023/05/5.png
END:VEVENT
BEGIN:VEVENT
DTSTART;TZID=America/Los_Angeles:20230603T113000
DTEND;TZID=America/Los_Angeles:20230603T123000
DTSTAMP:20260424T123052
CREATED:20230515T195806Z
LAST-MODIFIED:20230521T154110Z
UID:10000136-1685791800-1685795400@gunownersradio.com
SUMMARY:How to get your CCW in San Diego County\, Michael Schwartz
DESCRIPTION:The right to protect yourself extends beyond your home. Watch this presentation to learn how to get your CCW permit in San Diego County. \nPresented by Michael Schwartz\, host of Gun Owners Radio & Founder of San Diego County Gun Owners.
URL:https://gunownersradio.com/event/how-to-get-your-ccw-in-san-diego-county-michael-schwartz/
LOCATION:East San Diego Masonic Lodge\, 7849 Tommy Dr\, El Cajon\, CA\, 92119\, United States
CATEGORIES:Symposium 2023
ATTACH;FMTTYPE=image/png:https://gunownersradio.com/wp-content/uploads/2023/05/4.png
END:VEVENT
END:VCALENDAR