BEGIN:VCALENDAR
VERSION:2.0
PRODID:-//Gun Owners Radio - ECPv6.15.18//NONSGML v1.0//EN
CALSCALE:GREGORIAN
METHOD:PUBLISH
X-ORIGINAL-URL:https://gunownersradio.com
X-WR-CALDESC:Events for Gun Owners Radio
REFRESH-INTERVAL;VALUE=DURATION:PT1H
X-Robots-Tag:noindex
X-PUBLISHED-TTL:PT1H
BEGIN:VTIMEZONE
TZID:America/Los_Angeles
BEGIN:DAYLIGHT
TZOFFSETFROM:-0800
TZOFFSETTO:-0700
TZNAME:PDT
DTSTART:20220313T100000
END:DAYLIGHT
BEGIN:STANDARD
TZOFFSETFROM:-0700
TZOFFSETTO:-0800
TZNAME:PST
DTSTART:20221106T090000
END:STANDARD
BEGIN:DAYLIGHT
TZOFFSETFROM:-0800
TZOFFSETTO:-0700
TZNAME:PDT
DTSTART:20230312T100000
END:DAYLIGHT
BEGIN:STANDARD
TZOFFSETFROM:-0700
TZOFFSETTO:-0800
TZNAME:PST
DTSTART:20231105T090000
END:STANDARD
BEGIN:DAYLIGHT
TZOFFSETFROM:-0800
TZOFFSETTO:-0700
TZNAME:PDT
DTSTART:20240310T100000
END:DAYLIGHT
BEGIN:STANDARD
TZOFFSETFROM:-0700
TZOFFSETTO:-0800
TZNAME:PST
DTSTART:20241103T090000
END:STANDARD
END:VTIMEZONE
BEGIN:VTIMEZONE
TZID:UTC
BEGIN:STANDARD
TZOFFSETFROM:+0000
TZOFFSETTO:+0000
TZNAME:UTC
DTSTART:20210101T000000
END:STANDARD
END:VTIMEZONE
BEGIN:VEVENT
DTSTART;TZID=America/Los_Angeles:20230604T100000
DTEND;TZID=America/Los_Angeles:20230604T104500
DTSTAMP:20260424T155433
CREATED:20230515T195941Z
LAST-MODIFIED:20230521T185732Z
UID:10000137-1685872800-1685875500@gunownersradio.com
SUMMARY:Cognitive Skills for Defensive Shooting\, Mike Dasargo
DESCRIPTION:Mindset and mental health are key factors in your performance as a defensive shooter. Learn how to become improve your performance as a self defender without going to the range. \nPresented by Mike Dasargo\, Stronghold Dynamic.
URL:https://gunownersradio.com/event/cognitive-skills-for-defensive-shooting-mike-dasargo/
CATEGORIES:Symposium 2023
ATTACH;FMTTYPE=image/png:https://gunownersradio.com/wp-content/uploads/2023/05/3.png
END:VEVENT
BEGIN:VEVENT
DTSTART;TZID=America/Los_Angeles:20230604T090000
DTEND;TZID=America/Los_Angeles:20230604T094500
DTSTAMP:20260424T155433
CREATED:20230515T200910Z
LAST-MODIFIED:20230521T160420Z
UID:10000142-1685869200-1685871900@gunownersradio.com
SUMMARY:Gun Owners Radio REPLAY: John Lott Dismantles Gun Control Industry Misinformation
DESCRIPTION:You don’t get the truth about guns from the legacy media. Watch this interview with John Lott as he dismantles the misinformation and dishonesty from the gun-control industry.
URL:https://gunownersradio.com/event/gun-owners-radio-replay-john-lott-dismantles-gun-control-industry-misinformation/
LOCATION:East San Diego Masonic Lodge\, 7849 Tommy Dr\, El Cajon\, CA\, 92119\, United States
CATEGORIES:Symposium 2023
ATTACH;FMTTYPE=image/jpeg:https://gunownersradio.com/wp-content/uploads/2023/05/johnlott.jpeg
END:VEVENT
BEGIN:VEVENT
DTSTART;TZID=America/Los_Angeles:20230603T160000
DTEND;TZID=America/Los_Angeles:20230603T164500
DTSTAMP:20260424T155433
CREATED:20230515T200738Z
LAST-MODIFIED:20230521T155240Z
UID:10000141-1685808000-1685810700@gunownersradio.com
SUMMARY:Gun Owners Radio REPLAY: Shotguns with Clint Smith
DESCRIPTION:Enjoy one of the most popular interviews on Gun Owners Radio with Clint Smith\, founder of Thunder Ranch.
URL:https://gunownersradio.com/event/gun-owners-radio-replay-shotguns-with-clint-smith/
LOCATION:East San Diego Masonic Lodge\, 7849 Tommy Dr\, El Cajon\, CA\, 92119\, United States
CATEGORIES:Symposium 2023
ATTACH;FMTTYPE=image/jpeg:https://gunownersradio.com/wp-content/uploads/2021/09/clint-smith-clip.jpg
END:VEVENT
BEGIN:VEVENT
DTSTART;TZID=America/Los_Angeles:20230603T150000
DTEND;TZID=America/Los_Angeles:20230603T154500
DTSTAMP:20260424T155433
CREATED:20230515T200648Z
LAST-MODIFIED:20230521T155149Z
UID:10000140-1685804400-1685807100@gunownersradio.com
SUMMARY:Updates to Lawsuits affecting your 2A Rights\, Colin Rudolph
DESCRIPTION:It’s tough keeping up with all the different laws and lawsuits that affect your Second Amendment rights. Get the low-down with Colin in this session. \nPresented by Colin Rudolph\, Rudolph Law Firm
URL:https://gunownersradio.com/event/updates-to-lawsuits-affecting-your-2a-rights-colin-rudolph/
LOCATION:East San Diego Masonic Lodge\, 7849 Tommy Dr\, El Cajon\, CA\, 92119\, United States
CATEGORIES:Symposium 2023
ATTACH;FMTTYPE=image/png:https://gunownersradio.com/wp-content/uploads/2023/05/1.png
END:VEVENT
BEGIN:VEVENT
DTSTART;TZID=America/Los_Angeles:20230603T133000
DTEND;TZID=America/Los_Angeles:20230603T143000
DTSTAMP:20260424T155433
CREATED:20230515T200537Z
LAST-MODIFIED:20230521T154901Z
UID:10000139-1685799000-1685802600@gunownersradio.com
SUMMARY:Situational Awareness for Teens\, Alisha Curtin
DESCRIPTION:Having a solid foundation in situational awareness is the first step in becoming a better self defender.  If you own a gun or not\, this session will give you and your family tips and tricks to avoid situations where your safety may be at risk. \nPresented by Alisha Curtin\, host of Gun Owners Radio & Certified Firearms Trainer
URL:https://gunownersradio.com/event/situational-awareness-for-teens-alisha-curtin/
LOCATION:East San Diego Masonic Lodge\, 7849 Tommy Dr\, El Cajon\, CA\, 92119\, United States
CATEGORIES:Symposium 2023
ATTACH;FMTTYPE=image/png:https://gunownersradio.com/wp-content/uploads/2023/05/5.png
END:VEVENT
BEGIN:VEVENT
DTSTART;TZID=America/Los_Angeles:20230603T113000
DTEND;TZID=America/Los_Angeles:20230603T123000
DTSTAMP:20260424T155433
CREATED:20230515T195806Z
LAST-MODIFIED:20230521T154110Z
UID:10000136-1685791800-1685795400@gunownersradio.com
SUMMARY:How to get your CCW in San Diego County\, Michael Schwartz
DESCRIPTION:The right to protect yourself extends beyond your home. Watch this presentation to learn how to get your CCW permit in San Diego County. \nPresented by Michael Schwartz\, host of Gun Owners Radio & Founder of San Diego County Gun Owners.
URL:https://gunownersradio.com/event/how-to-get-your-ccw-in-san-diego-county-michael-schwartz/
LOCATION:East San Diego Masonic Lodge\, 7849 Tommy Dr\, El Cajon\, CA\, 92119\, United States
CATEGORIES:Symposium 2023
ATTACH;FMTTYPE=image/png:https://gunownersradio.com/wp-content/uploads/2023/05/4.png
END:VEVENT
BEGIN:VEVENT
DTSTART;TZID=America/Los_Angeles:20230603T100000
DTEND;TZID=America/Los_Angeles:20230603T104500
DTSTAMP:20260424T155433
CREATED:20230515T195337Z
LAST-MODIFIED:20230521T155513Z
UID:10000135-1685786400-1685789100@gunownersradio.com
SUMMARY:The CCW Lifestyle\, Matthias Quellenberg
DESCRIPTION:Purchasing a firearm and getting your permit is just the start of being a responsible CCW holder. \nLearn about the lifestyle adjustments needed to be a proficient and responsible CCW permit holder. \nPresented by Matthias Quellenberg\, San Diego Firearms Academy
URL:https://gunownersradio.com/event/the-ccw-lifestyle/
LOCATION:East San Diego Masonic Lodge\, 7849 Tommy Dr\, El Cajon\, CA\, 92119\, United States
CATEGORIES:Symposium 2023
ATTACH;FMTTYPE=image/png:https://gunownersradio.com/wp-content/uploads/2023/05/2.png
END:VEVENT
BEGIN:VEVENT
DTSTART;TZID=America/Los_Angeles:20230603T090000
DTEND;TZID=America/Los_Angeles:20230604T160000
DTSTAMP:20260424T155433
CREATED:20230603T224542Z
LAST-MODIFIED:20230603T224542Z
UID:10000183-1685782800-1685894400@gunownersradio.com
SUMMARY:Gun Owners Symposium
DESCRIPTION:
URL:https://gunownersradio.com/event/gun-owners-symposium/
LOCATION:East San Diego Masonic Lodge\, 7849 Tommy Dr\, El Cajon\, CA\, 92119\, United States
CATEGORIES:Gun Owners Radio,San Diego County Gun Owners
ATTACH;FMTTYPE=image/gif:https://gunownersradio.com/wp-content/uploads/2023/06/GOS-FB-Event-Cover-1anpYW.tmp_.gif
END:VEVENT
BEGIN:VEVENT
DTSTART;TZID=UTC:20230528T160000
DTEND;TZID=UTC:20230528T180000
DTSTAMP:20260424T155433
CREATED:20230520T185043Z
LAST-MODIFIED:20230520T185043Z
UID:10000168-1685289600-1685296800@gunownersradio.com
SUMMARY:Gun Owners Radio Live
DESCRIPTION:
URL:https://gunownersradio.com/event/gun-owners-radio-live-17/
CATEGORIES:Gun Owners Radio,Orange County Gun Owners
END:VEVENT
BEGIN:VEVENT
DTSTART;TZID=UTC:20230521T160000
DTEND;TZID=UTC:20230521T180000
DTSTAMP:20260424T155433
CREATED:20230222T134943Z
LAST-MODIFIED:20230222T134943Z
UID:10000128-1684684800-1684692000@gunownersradio.com
SUMMARY:Gun Owners Radio Live
DESCRIPTION:
URL:https://gunownersradio.com/event/gun-owners-radio-live-16/
CATEGORIES:Gun Owners Radio,Orange County Gun Owners
END:VEVENT
BEGIN:VEVENT
DTSTART;TZID=UTC:20230514T160000
DTEND;TZID=UTC:20230514T180000
DTSTAMP:20260424T155433
CREATED:20230222T134943Z
LAST-MODIFIED:20230222T134943Z
UID:10000127-1684080000-1684087200@gunownersradio.com
SUMMARY:Gun Owners Radio Live
DESCRIPTION:
URL:https://gunownersradio.com/event/gun-owners-radio-live-15/
CATEGORIES:Gun Owners Radio,Orange County Gun Owners
END:VEVENT
BEGIN:VEVENT
DTSTART;TZID=UTC:20230507T160000
DTEND;TZID=UTC:20230507T180000
DTSTAMP:20260424T155433
CREATED:20230222T134943Z
LAST-MODIFIED:20230222T134943Z
UID:10000126-1683475200-1683482400@gunownersradio.com
SUMMARY:Gun Owners Radio Live
DESCRIPTION:
URL:https://gunownersradio.com/event/gun-owners-radio-live-14/
CATEGORIES:Gun Owners Radio,Orange County Gun Owners
END:VEVENT
BEGIN:VEVENT
DTSTART;TZID=UTC:20230430T160000
DTEND;TZID=UTC:20230430T180000
DTSTAMP:20260424T155433
CREATED:20230213T201631Z
LAST-MODIFIED:20230213T201631Z
UID:10000071-1682870400-1682877600@gunownersradio.com
SUMMARY:Gun Owners Radio Live
DESCRIPTION:
URL:https://gunownersradio.com/event/gun-owners-radio-live-13/
CATEGORIES:Gun Owners Radio
END:VEVENT
BEGIN:VEVENT
DTSTART;TZID=UTC:20230423T160000
DTEND;TZID=UTC:20230423T180000
DTSTAMP:20260424T155433
CREATED:20230213T201630Z
LAST-MODIFIED:20230213T201630Z
UID:10000069-1682265600-1682272800@gunownersradio.com
SUMMARY:Gun Owners Radio Live
DESCRIPTION:
URL:https://gunownersradio.com/event/gun-owners-radio-live-12/
CATEGORIES:Gun Owners Radio
END:VEVENT
BEGIN:VEVENT
DTSTART;TZID=UTC:20230416T160000
DTEND;TZID=UTC:20230416T180000
DTSTAMP:20260424T155433
CREATED:20230213T201630Z
LAST-MODIFIED:20230213T201630Z
UID:10000068-1681660800-1681668000@gunownersradio.com
SUMMARY:Gun Owners Radio Live
DESCRIPTION:
URL:https://gunownersradio.com/event/gun-owners-radio-live-11/
CATEGORIES:Gun Owners Radio
END:VEVENT
BEGIN:VEVENT
DTSTART;TZID=UTC:20230409T160000
DTEND;TZID=UTC:20230409T180000
DTSTAMP:20260424T155433
CREATED:20230213T201630Z
LAST-MODIFIED:20230213T201630Z
UID:10000067-1681056000-1681063200@gunownersradio.com
SUMMARY:Gun Owners Radio Live
DESCRIPTION:
URL:https://gunownersradio.com/event/gun-owners-radio-live-10/
CATEGORIES:Gun Owners Radio
END:VEVENT
BEGIN:VEVENT
DTSTART;TZID=UTC:20230402T160000
DTEND;TZID=UTC:20230402T180000
DTSTAMP:20260424T155433
CREATED:20230213T201629Z
LAST-MODIFIED:20230213T201629Z
UID:10000065-1680451200-1680458400@gunownersradio.com
SUMMARY:Gun Owners Radio Live
DESCRIPTION:
URL:https://gunownersradio.com/event/gun-owners-radio-live-9/
CATEGORIES:Gun Owners Radio
END:VEVENT
BEGIN:VEVENT
DTSTART;TZID=UTC:20230326T160000
DTEND;TZID=UTC:20230326T180000
DTSTAMP:20260424T155433
CREATED:20230213T201628Z
LAST-MODIFIED:20230213T201628Z
UID:10000062-1679846400-1679853600@gunownersradio.com
SUMMARY:Gun Owners Radio Live
DESCRIPTION:
URL:https://gunownersradio.com/event/gun-owners-radio-live-8/
CATEGORIES:Gun Owners Radio
END:VEVENT
BEGIN:VEVENT
DTSTART;TZID=UTC:20230319T160000
DTEND;TZID=UTC:20230319T180000
DTSTAMP:20260424T155433
CREATED:20230213T201628Z
LAST-MODIFIED:20230213T201628Z
UID:10000061-1679241600-1679248800@gunownersradio.com
SUMMARY:Gun Owners Radio Live
DESCRIPTION:
URL:https://gunownersradio.com/event/gun-owners-radio-live-7/
CATEGORIES:Gun Owners Radio
END:VEVENT
BEGIN:VEVENT
DTSTART;TZID=UTC:20230312T160000
DTEND;TZID=UTC:20230312T180000
DTSTAMP:20260424T155433
CREATED:20230213T201627Z
LAST-MODIFIED:20230213T201627Z
UID:10000059-1678636800-1678644000@gunownersradio.com
SUMMARY:Gun Owners Radio Live
DESCRIPTION:
URL:https://gunownersradio.com/event/gun-owners-radio-live-6/
CATEGORIES:Gun Owners Radio
END:VEVENT
BEGIN:VEVENT
DTSTART;TZID=UTC:20230305T160000
DTEND;TZID=UTC:20230305T180000
DTSTAMP:20260424T155433
CREATED:20230213T201627Z
LAST-MODIFIED:20230213T201627Z
UID:10000058-1678032000-1678039200@gunownersradio.com
SUMMARY:Gun Owners Radio Live
DESCRIPTION:
URL:https://gunownersradio.com/event/gun-owners-radio-live-5/
CATEGORIES:Gun Owners Radio
END:VEVENT
BEGIN:VEVENT
DTSTART;TZID=UTC:20230226T160000
DTEND;TZID=UTC:20230226T180000
DTSTAMP:20260424T155433
CREATED:20230213T201626Z
LAST-MODIFIED:20230213T201626Z
UID:10000055-1677427200-1677434400@gunownersradio.com
SUMMARY:Gun Owners Radio Live
DESCRIPTION:
URL:https://gunownersradio.com/event/gun-owners-radio-live-4/
CATEGORIES:Gun Owners Radio
END:VEVENT
BEGIN:VEVENT
DTSTART;TZID=UTC:20230219T160000
DTEND;TZID=UTC:20230219T180000
DTSTAMP:20260424T155433
CREATED:20230213T201623Z
LAST-MODIFIED:20230213T201623Z
UID:10000052-1676822400-1676829600@gunownersradio.com
SUMMARY:Gun Owners Radio Live
DESCRIPTION:
URL:https://gunownersradio.com/event/gun-owners-radio-live-3/
CATEGORIES:Gun Owners Radio
END:VEVENT
BEGIN:VEVENT
DTSTART;TZID=UTC:20230212T160000
DTEND;TZID=UTC:20230212T180000
DTSTAMP:20260424T155433
CREATED:20230213T201622Z
LAST-MODIFIED:20230213T201622Z
UID:10000050-1676217600-1676224800@gunownersradio.com
SUMMARY:Gun Owners Radio Live
DESCRIPTION:
URL:https://gunownersradio.com/event/gun-owners-radio-live-2/
CATEGORIES:Gun Owners Radio
END:VEVENT
BEGIN:VEVENT
DTSTART;TZID=UTC:20230205T160000
DTEND;TZID=UTC:20230205T180000
DTSTAMP:20260424T155433
CREATED:20230213T201620Z
LAST-MODIFIED:20230213T201620Z
UID:10000047-1675612800-1675620000@gunownersradio.com
SUMMARY:Gun Owners Radio Live
DESCRIPTION:
URL:https://gunownersradio.com/event/gun-owners-radio-live/
CATEGORIES:Gun Owners Radio
END:VEVENT
BEGIN:VEVENT
DTSTART;TZID=UTC:20220529T160000
DTEND;TZID=UTC:20220529T180000
DTSTAMP:20260424T155433
CREATED:20230213T200654Z
LAST-MODIFIED:20230213T200654Z
UID:10000043-1653840000-1653847200@gunownersradio.com
SUMMARY:Gun Owners Radio
DESCRIPTION:
URL:https://gunownersradio.com/event/gun-owners-radio-22/
CATEGORIES:Gun Owners Radio
END:VEVENT
BEGIN:VEVENT
DTSTART;TZID=UTC:20220522T160000
DTEND;TZID=UTC:20220522T180000
DTSTAMP:20260424T155433
CREATED:20230213T200653Z
LAST-MODIFIED:20230213T200653Z
UID:10000040-1653235200-1653242400@gunownersradio.com
SUMMARY:Gun Owners Radio
DESCRIPTION:
URL:https://gunownersradio.com/event/gun-owners-radio-21/
CATEGORIES:Gun Owners Radio
END:VEVENT
BEGIN:VEVENT
DTSTART;TZID=UTC:20220515T160000
DTEND;TZID=UTC:20220515T180000
DTSTAMP:20260424T155433
CREATED:20230213T200653Z
LAST-MODIFIED:20230213T200653Z
UID:10000039-1652630400-1652637600@gunownersradio.com
SUMMARY:Gun Owners Radio
DESCRIPTION:
URL:https://gunownersradio.com/event/gun-owners-radio-20/
CATEGORIES:Gun Owners Radio
END:VEVENT
BEGIN:VEVENT
DTSTART;TZID=UTC:20220508T160000
DTEND;TZID=UTC:20220508T180000
DTSTAMP:20260424T155433
CREATED:20230213T200653Z
LAST-MODIFIED:20230213T200653Z
UID:10000038-1652025600-1652032800@gunownersradio.com
SUMMARY:Gun Owners Radio
DESCRIPTION:
URL:https://gunownersradio.com/event/gun-owners-radio-19/
CATEGORIES:Gun Owners Radio
END:VEVENT
BEGIN:VEVENT
DTSTART;TZID=UTC:20220501T160000
DTEND;TZID=UTC:20220501T180000
DTSTAMP:20260424T155433
CREATED:20230213T200416Z
LAST-MODIFIED:20230213T200416Z
UID:10000033-1651420800-1651428000@gunownersradio.com
SUMMARY:Gun Owners Radio
DESCRIPTION:
URL:https://gunownersradio.com/event/gun-owners-radio-18/
CATEGORIES:Gun Owners Radio
END:VEVENT
END:VCALENDAR