BEGIN:VCALENDAR
VERSION:2.0
PRODID:-//Gun Owners Radio - ECPv6.15.18//NONSGML v1.0//EN
CALSCALE:GREGORIAN
METHOD:PUBLISH
X-ORIGINAL-URL:https://gunownersradio.com
X-WR-CALDESC:Events for Gun Owners Radio
REFRESH-INTERVAL;VALUE=DURATION:PT1H
X-Robots-Tag:noindex
X-PUBLISHED-TTL:PT1H
BEGIN:VTIMEZONE
TZID:UTC
BEGIN:STANDARD
TZOFFSETFROM:+0000
TZOFFSETTO:+0000
TZNAME:UTC
DTSTART:20210101T000000
END:STANDARD
END:VTIMEZONE
BEGIN:VEVENT
DTSTART;TZID=UTC:20230522T190000
DTEND;TZID=UTC:20230522T200000
DTSTAMP:20260424T092720
CREATED:20230222T134944Z
LAST-MODIFIED:20230222T144225Z
UID:10000129-1684782000-1684785600@gunownersradio.com
SUMMARY:May CCW Seminar via Zoom
DESCRIPTION:
URL:https://gunownersradio.com/event/may-ccw-seminar-via-zoom/
CATEGORIES:CCW Seminar,Orange County Gun Owners
END:VEVENT
BEGIN:VEVENT
DTSTART;TZID=UTC:20230520T173000
DTEND;TZID=UTC:20230520T220000
DTSTAMP:20260424T092720
CREATED:20230222T134944Z
LAST-MODIFIED:20230222T134944Z
UID:10000130-1684603800-1684620000@gunownersradio.com
SUMMARY:2023 OCGO Second Amendment Celebration Dinner
DESCRIPTION:
URL:https://gunownersradio.com/event/2023-ocgo-second-amendment-celebration-dinner/
LOCATION:Orange Hill Restaurant\, 6410 E Chapman Ave\, Orange\, CA\, 92869\, United States
CATEGORIES:Orange County Gun Owners
END:VEVENT
BEGIN:VEVENT
DTSTART;TZID=UTC:20230424T190000
DTEND;TZID=UTC:20230424T200000
DTSTAMP:20260424T092720
CREATED:20230213T201631Z
LAST-MODIFIED:20230213T201631Z
UID:10000070-1682362800-1682366400@gunownersradio.com
SUMMARY:April CCW Seminar via Zoom
DESCRIPTION:
URL:https://gunownersradio.com/event/april-ccw-seminar-via-zoom/
CATEGORIES:CCW Seminar
END:VEVENT
BEGIN:VEVENT
DTSTART;TZID=UTC:20230408T080000
DTEND;TZID=UTC:20230408T100000
DTSTAMP:20260424T092720
CREATED:20230213T201629Z
LAST-MODIFIED:20230213T201629Z
UID:10000066-1680940800-1680948000@gunownersradio.com
SUMMARY:April Shooting Social – FT3
DESCRIPTION:
URL:https://gunownersradio.com/event/april-shooting-social-ft3/
LOCATION:FT3 Tactical\, 8230 Electric Ave\, Stanton\, CA\, 90680\, United States
CATEGORIES:Shooting Social,Volunteer
END:VEVENT
BEGIN:VEVENT
DTSTART;TZID=UTC:20230401T100000
DTEND;TZID=UTC:20230401T170000
DTSTAMP:20260424T092720
CREATED:20230213T201629Z
LAST-MODIFIED:20230213T201629Z
UID:10000064-1680343200-1680368400@gunownersradio.com
SUMMARY:On Target Shooting Range Table Top
DESCRIPTION:
URL:https://gunownersradio.com/event/on-target-shooting-range-table-top-3/
LOCATION:On Target\, 27692 Camino Capistrano\, Laguna Niguel\, CA\, 92677\, United States
CATEGORIES:Table Tops,Volunteer
END:VEVENT
BEGIN:VEVENT
DTSTART;TZID=UTC:20230318T080000
DTEND;TZID=UTC:20230318T100000
DTSTAMP:20260424T092720
CREATED:20230213T201627Z
LAST-MODIFIED:20230213T201627Z
UID:10000060-1679126400-1679133600@gunownersradio.com
SUMMARY:March Shooting Social – FT3
DESCRIPTION:
URL:https://gunownersradio.com/event/march-shooting-social-ft3/
LOCATION:FT3 Tactical\, 8230 Electric Ave\, Stanton\, CA\, 90680\, United States
CATEGORIES:Shooting Social,Volunteer
END:VEVENT
BEGIN:VEVENT
DTSTART;TZID=UTC:20230304T100000
DTEND;TZID=UTC:20230304T170000
DTSTAMP:20260424T092720
CREATED:20230213T201626Z
LAST-MODIFIED:20230213T201626Z
UID:10000057-1677924000-1677949200@gunownersradio.com
SUMMARY:On Target Shooting Range Table Top
DESCRIPTION:
URL:https://gunownersradio.com/event/on-target-shooting-range-table-top-2/
LOCATION:On Target\, 27692 Camino Capistrano\, Laguna Niguel\, CA\, 92677\, United States
CATEGORIES:Table Tops,Volunteer
END:VEVENT
BEGIN:VEVENT
DTSTART;TZID=UTC:20230227T190000
DTEND;TZID=UTC:20230227T200000
DTSTAMP:20260424T092720
CREATED:20230213T201626Z
LAST-MODIFIED:20230213T201626Z
UID:10000056-1677524400-1677528000@gunownersradio.com
SUMMARY:February CCW Seminar via Zoom
DESCRIPTION:
URL:https://gunownersradio.com/event/february-ccw-seminar-via-zoom/
CATEGORIES:CCW Seminar
END:VEVENT
BEGIN:VEVENT
DTSTART;TZID=UTC:20230226T063000
DTEND;TZID=UTC:20230226T233000
DTSTAMP:20260424T092720
CREATED:20230213T201624Z
LAST-MODIFIED:20230213T201624Z
UID:10000054-1677393000-1677454200@gunownersradio.com
SUMMARY:02/26 Detail Garage La Habra Rides & Coffee Table Top
DESCRIPTION:
URL:https://gunownersradio.com/event/02-26-detail-garage-la-habra-rides-coffee-table-top/
LOCATION:Detail Garage La Habra 2436 W Whittier Blvd\, La Habra\, CA 90631\, Detail Garage La Habra 2436 W Whittier Blvd\, La Habra\, CA\, 90631\, United States
CATEGORIES:Table Tops,Volunteer
ATTACH;FMTTYPE=image/jpeg:https://gunownersradio.com/wp-content/uploads/2023/02/Screenshot-2023-02-02-185229-tfE0B9.tmp_.jpg
END:VEVENT
BEGIN:VEVENT
DTSTART;TZID=UTC:20230222T180000
DTEND;TZID=UTC:20230222T200000
DTSTAMP:20260424T092720
CREATED:20230213T201623Z
LAST-MODIFIED:20230213T201623Z
UID:10000053-1677088800-1677096000@gunownersradio.com
SUMMARY:OCGO Monthly Meeting – On Target Shooting Range
DESCRIPTION:
URL:https://gunownersradio.com/event/ocgo-monthly-meeting-on-target-shooting-range/
LOCATION:On Target\, 27692 Camino Capistrano\, Laguna Niguel\, CA\, 92677\, United States
CATEGORIES:Monthly Meeting
END:VEVENT
BEGIN:VEVENT
DTSTART;TZID=UTC:20230216T190000
DTEND;TZID=UTC:20230216T210000
DTSTAMP:20260424T092720
CREATED:20230213T201623Z
LAST-MODIFIED:20230213T201623Z
UID:10000051-1676574000-1676581200@gunownersradio.com
SUMMARY:Gun Owners Online Auction Countdown to Close Live via Zoom!
DESCRIPTION:
URL:https://gunownersradio.com/event/gun-owners-online-auction-countdown-to-close-live-via-zoom/
ATTACH;FMTTYPE=image/jpeg:https://gunownersradio.com/wp-content/uploads/2023/02/1-e1675650523711-o6Kxcl.tmp_.jpg
END:VEVENT
BEGIN:VEVENT
DTSTART;TZID=UTC:20230212T070000
DTEND;TZID=UTC:20230212T150000
DTSTAMP:20260424T092720
CREATED:20230213T201622Z
LAST-MODIFIED:20230213T201622Z
UID:10000049-1676185200-1676214000@gunownersradio.com
SUMMARY:02/12 Goldenwest College Swap Meet Free Speech Area Table Top
DESCRIPTION:
URL:https://gunownersradio.com/event/02-12-goldenwest-college-swap-meet-free-speech-area-table-top/
LOCATION:Goldenwest College Swap Meet\, 15744 Goldenwest Street\, Huntington Beach\, CA\, 92647\, United States
CATEGORIES:Table Tops,Volunteer
END:VEVENT
BEGIN:VEVENT
DTSTART;TZID=UTC:20230207T100000
DTEND;TZID=UTC:20230216T200000
DTSTAMP:20260424T092720
CREATED:20230213T201620Z
LAST-MODIFIED:20230213T201620Z
UID:10000048-1675764000-1676577600@gunownersradio.com
SUMMARY:Gun Owners Online Auction 2023
DESCRIPTION:
URL:https://gunownersradio.com/event/gun-owners-online-auction-2023/
ATTACH;FMTTYPE=image/jpeg:https://gunownersradio.com/wp-content/uploads/2023/02/1-e1675650523711-o6Kxcl.tmp_.jpg
END:VEVENT
BEGIN:VEVENT
DTSTART;TZID=UTC:20230205T070000
DTEND;TZID=UTC:20230205T150000
DTSTAMP:20260424T092720
CREATED:20230213T201620Z
LAST-MODIFIED:20230213T201620Z
UID:10000046-1675580400-1675609200@gunownersradio.com
SUMMARY:02/05 Goldenwest College Swap Meet Free Speech Area Table Top
DESCRIPTION:
URL:https://gunownersradio.com/event/02-05-goldenwest-college-swap-meet-free-speech-area-table-top/
LOCATION:Goldenwest College Swap Meet\, 15744 Goldenwest Street\, Huntington Beach\, CA\, 92647\, United States
CATEGORIES:Table Tops,Volunteer
END:VEVENT
BEGIN:VEVENT
DTSTART;TZID=UTC:20230204T080000
DTEND;TZID=UTC:20230204T170000
DTSTAMP:20260424T092720
CREATED:20230213T201619Z
LAST-MODIFIED:20230213T201619Z
UID:10000045-1675497600-1675530000@gunownersradio.com
SUMMARY:On Target Shooting Range Table Top
DESCRIPTION:
URL:https://gunownersradio.com/event/on-target-shooting-range-table-top/
LOCATION:On Target\, 27692 Camino Capistrano\, Laguna Niguel\, CA\, 92677\, United States
CATEGORIES:Table Tops,Volunteer
END:VEVENT
BEGIN:VEVENT
DTSTART;TZID=UTC:20220525T180000
DTEND;TZID=UTC:20220525T200000
DTSTAMP:20260424T092720
CREATED:20230213T200654Z
LAST-MODIFIED:20230213T200654Z
UID:10000042-1653501600-1653508800@gunownersradio.com
SUMMARY:Monthly Meeting
DESCRIPTION:
URL:https://gunownersradio.com/event/monthly-meeting-5/
LOCATION:Artemis Defense Institute\, 11 Spectrum Pointe Dr\, Lake Forest\, CA\, 92630\, United States
CATEGORIES:Monthly Meeting
END:VEVENT
BEGIN:VEVENT
DTSTART;TZID=UTC:20220523T190000
DTEND;TZID=UTC:20220523T200000
DTSTAMP:20260424T092720
CREATED:20230213T200653Z
LAST-MODIFIED:20230213T200653Z
UID:10000041-1653332400-1653336000@gunownersradio.com
SUMMARY:CCW Seminar
DESCRIPTION:
URL:https://gunownersradio.com/event/ccw-seminar-5/
CATEGORIES:CCW Seminar
END:VEVENT
BEGIN:VEVENT
DTSTART;TZID=UTC:20220514T080000
DTEND;TZID=UTC:20220514T100000
DTSTAMP:20260424T092720
CREATED:20230213T200654Z
LAST-MODIFIED:20230213T200654Z
UID:10000044-1652515200-1652522400@gunownersradio.com
SUMMARY:Shooting Social
DESCRIPTION:
URL:https://gunownersradio.com/event/shooting-social-3/
LOCATION:FT3 Tactical\, 8230 Electric Ave\, Stanton\, CA\, 90680\, United States
CATEGORIES:Shooting Social
END:VEVENT
BEGIN:VEVENT
DTSTART;TZID=UTC:20220502T190000
DTEND;TZID=UTC:20220502T190000
DTSTAMP:20260424T092720
CREATED:20230213T200417Z
LAST-MODIFIED:20230213T200417Z
UID:10000034-1651518000-1651518000@gunownersradio.com
SUMMARY:Board Meeting
DESCRIPTION:
URL:https://gunownersradio.com/event/board-meeting-3/
CATEGORIES:Board Meeting
END:VEVENT
BEGIN:VEVENT
DTSTART;TZID=UTC:20220427T180000
DTEND;TZID=UTC:20220427T200000
DTSTAMP:20260424T092720
CREATED:20230213T200418Z
LAST-MODIFIED:20230213T200418Z
UID:10000037-1651082400-1651089600@gunownersradio.com
SUMMARY:Monthly Meeting
DESCRIPTION:
URL:https://gunownersradio.com/event/monthly-meeting-4/
LOCATION:Old World German Restaurant\, 7561 Center Ave. Suite 49\, Huntington Beach\, CA\, 92647\, United States
CATEGORIES:Monthly Meeting
END:VEVENT
BEGIN:VEVENT
DTSTART;TZID=UTC:20220425T190000
DTEND;TZID=UTC:20220425T200000
DTSTAMP:20260424T092720
CREATED:20230213T200416Z
LAST-MODIFIED:20230213T200416Z
UID:10000031-1650913200-1650916800@gunownersradio.com
SUMMARY:CCW Seminar
DESCRIPTION:
URL:https://gunownersradio.com/event/ccw-seminar-4/
CATEGORIES:CCW Seminar
END:VEVENT
BEGIN:VEVENT
DTSTART;TZID=UTC:20220423T173000
DTEND;TZID=UTC:20220423T223000
DTSTAMP:20260424T092720
CREATED:20230213T200417Z
LAST-MODIFIED:20230213T200417Z
UID:10000035-1650735000-1650753000@gunownersradio.com
SUMMARY:Second Amendment Celebration Dinner
DESCRIPTION:
URL:https://gunownersradio.com/event/second-amendment-celebration-dinner/
LOCATION:Orange Hill Restaurant\, 6410 E Chapman Ave\, Orange\, CA\, 92869\, United States
END:VEVENT
BEGIN:VEVENT
DTSTART;TZID=UTC:20220409T080000
DTEND;TZID=UTC:20220409T100000
DTSTAMP:20260424T092720
CREATED:20230213T200418Z
LAST-MODIFIED:20230213T200418Z
UID:10000036-1649491200-1649498400@gunownersradio.com
SUMMARY:Shooting Social
DESCRIPTION:
URL:https://gunownersradio.com/event/shooting-social-2/
LOCATION:FT3 Tactical\, 8230 Electric Ave\, Stanton\, CA\, 90680\, United States
CATEGORIES:Shooting Social
END:VEVENT
BEGIN:VEVENT
DTSTART;TZID=UTC:20220328T190000
DTEND;TZID=UTC:20220328T200000
DTSTAMP:20260424T092720
CREATED:20230213T200324Z
LAST-MODIFIED:20230213T200324Z
UID:10000026-1648494000-1648497600@gunownersradio.com
SUMMARY:CCW Seminar
DESCRIPTION:
URL:https://gunownersradio.com/event/ccw-seminar-3/
CATEGORIES:CCW Seminar
END:VEVENT
BEGIN:VEVENT
DTSTART;TZID=UTC:20220323T180000
DTEND;TZID=UTC:20220323T200000
DTSTAMP:20260424T092720
CREATED:20230213T200324Z
LAST-MODIFIED:20230213T200324Z
UID:10000024-1648058400-1648065600@gunownersradio.com
SUMMARY:Monthly Meeting
DESCRIPTION:
URL:https://gunownersradio.com/event/monthly-meeting-3/
LOCATION:Old World German Restaurant\, 7561 Center Ave. Suite 49\, Huntington Beach\, CA\, 92647\, United States
CATEGORIES:Monthly Meeting
END:VEVENT
BEGIN:VEVENT
DTSTART;TZID=UTC:20220319T100000
DTEND;TZID=UTC:20220319T180000
DTSTAMP:20260424T092720
CREATED:20230213T200323Z
LAST-MODIFIED:20230213T200323Z
UID:10000022-1647684000-1647712800@gunownersradio.com
SUMMARY:Table Top – Ammo Bros Santa Ana
DESCRIPTION:
URL:https://gunownersradio.com/event/table-top-ammo-bros-santa-ana/
LOCATION:Ammo Bros Santa Ana\, 1554-B Brookhollow Drive\, Santa Ana\, CA\, 92705\, United States
END:VEVENT
BEGIN:VEVENT
DTSTART;TZID=UTC:20220307T190000
DTEND;TZID=UTC:20220307T190000
DTSTAMP:20260424T092720
CREATED:20230213T200322Z
LAST-MODIFIED:20230213T200322Z
UID:10000020-1646679600-1646679600@gunownersradio.com
SUMMARY:Board Meeting
DESCRIPTION:
URL:https://gunownersradio.com/event/board-meeting-2/
CATEGORIES:Board Meeting
END:VEVENT
BEGIN:VEVENT
DTSTART;TZID=UTC:20220228T183000
DTEND;TZID=UTC:20220228T200000
DTSTAMP:20260424T092720
CREATED:20230213T200235Z
LAST-MODIFIED:20230213T200235Z
UID:10000016-1646073000-1646078400@gunownersradio.com
SUMMARY:CCW Seminar
DESCRIPTION:
URL:https://gunownersradio.com/event/ccw-seminar-2/
CATEGORIES:CCW Seminar
END:VEVENT
BEGIN:VEVENT
DTSTART;TZID=UTC:20220223T180000
DTEND;TZID=UTC:20220223T200000
DTSTAMP:20260424T092720
CREATED:20230213T200236Z
LAST-MODIFIED:20230213T200236Z
UID:10000018-1645639200-1645646400@gunownersradio.com
SUMMARY:Monthly Meeting
DESCRIPTION:
URL:https://gunownersradio.com/event/monthly-meeting-2/
LOCATION:Zito’s Pizza\, 2036 N Tustin St.\, Orange\, CA\, 92865\, United States
CATEGORIES:Monthly Meeting
END:VEVENT
BEGIN:VEVENT
DTSTART;TZID=UTC:20220205T080000
DTEND;TZID=UTC:20220205T100000
DTSTAMP:20260424T092720
CREATED:20230213T200236Z
LAST-MODIFIED:20230213T200236Z
UID:10000017-1644048000-1644055200@gunownersradio.com
SUMMARY:Shooting Social
DESCRIPTION:
URL:https://gunownersradio.com/event/shooting-social/
LOCATION:FT3 Tactical\, 8230 Electric Ave\, Stanton\, CA\, 90680\, United States
CATEGORIES:Shooting Social
END:VEVENT
END:VCALENDAR