BEGIN:VCALENDAR
VERSION:2.0
PRODID:-//Gun Owners Radio - ECPv6.15.18//NONSGML v1.0//EN
CALSCALE:GREGORIAN
METHOD:PUBLISH
X-WR-CALNAME:Gun Owners Radio
X-ORIGINAL-URL:https://gunownersradio.com
X-WR-CALDESC:Events for Gun Owners Radio
REFRESH-INTERVAL;VALUE=DURATION:PT1H
X-Robots-Tag:noindex
X-PUBLISHED-TTL:PT1H
BEGIN:VTIMEZONE
TZID:America/Los_Angeles
BEGIN:DAYLIGHT
TZOFFSETFROM:-0800
TZOFFSETTO:-0700
TZNAME:PDT
DTSTART:20250309T100000
END:DAYLIGHT
BEGIN:STANDARD
TZOFFSETFROM:-0700
TZOFFSETTO:-0800
TZNAME:PST
DTSTART:20251102T090000
END:STANDARD
BEGIN:DAYLIGHT
TZOFFSETFROM:-0800
TZOFFSETTO:-0700
TZNAME:PDT
DTSTART:20260308T100000
END:DAYLIGHT
BEGIN:STANDARD
TZOFFSETFROM:-0700
TZOFFSETTO:-0800
TZNAME:PST
DTSTART:20261101T090000
END:STANDARD
BEGIN:DAYLIGHT
TZOFFSETFROM:-0800
TZOFFSETTO:-0700
TZNAME:PDT
DTSTART:20270314T100000
END:DAYLIGHT
BEGIN:STANDARD
TZOFFSETFROM:-0700
TZOFFSETTO:-0800
TZNAME:PST
DTSTART:20271107T090000
END:STANDARD
END:VTIMEZONE
BEGIN:VEVENT
DTSTART;TZID=America/Los_Angeles:20260424T090000
DTEND;TZID=America/Los_Angeles:20260425T010000
DTSTAMP:20260425T090513
CREATED:20260315T144602Z
LAST-MODIFIED:20260315T144605Z
UID:10000705-1777021200-1777078800@gunownersradio.com
SUMMARY:16 hr CCW SD CA
DESCRIPTION:West Coast Kinetic Solutions offers premier 16-hour tactical training for San Diego CCW seekers. Our world-class instructors bring over 20 years of Special Operations experience to provide top-notch education and skill development. Join us to receive expert guidance and hands-on practice in a supportive and empowering environment. Elevate your training with West Coast Kinetic Solutions today. Gear List  -water 1 gallon -food for lunch or snacks -sun block -gun belt -concealed holster or outside the waist band holster or both -at least 2 pistol mags -pistol mag pouches/holsters -at least 150 rounds -eye protection -hearing protection -wear clothing for outdoors with closed toe shoes and under shirt \nRegister on the WCKS Website →
URL:https://gunownersradio.com/event/16-hr-ccw-sd-ca/
LOCATION:Fallbrook Area
CATEGORIES:Training
ATTACH;FMTTYPE=image/jpeg:https://gunownersradio.com/wp-content/uploads/2026/03/371210_c75dc7f58a05456eb91d69145d99dd94mv2-2.jpeg
END:VEVENT
BEGIN:VEVENT
DTSTART;TZID=America/Los_Angeles:20260417T090000
DTEND;TZID=America/Los_Angeles:20260417T140000
DTSTAMP:20260425T090513
CREATED:20260315T144606Z
LAST-MODIFIED:20260315T144607Z
UID:10000706-1776416400-1776434400@gunownersradio.com
SUMMARY:Defensive Carbine Lvl ll
DESCRIPTION:Join us for the Combat Carbine Level II course on January 2\, led by a seasoned 20-year Marine Special Operator. This not a beginners course. This training focuses on essential skills such as speed shooting\, speed reloads\, and engaging multiple targets at short distances. Elevate your tactical proficiency with expert instruction from West Coast Kinetic Solutions\, where precision and professional development meet. \nGear List -water 1 gallon -food for lunch or snacks -sun block -gun belt/with mag holster or pouch -rifle sling -shooting gloves -at least 2 rifle mags -400 rounds  -100 Frangible rounds  -eye protection -ear protection -wear clothing for outdoors -range chair \nRegister on the WCKS Website →
URL:https://gunownersradio.com/event/defensive-carbine-lvl-ll/
LOCATION:Fallbrook Area
CATEGORIES:Training
ATTACH;FMTTYPE=image/jpeg:https://gunownersradio.com/wp-content/uploads/2026/03/371210_c75dc7f58a05456eb91d69145d99dd94mv2-2.jpeg
END:VEVENT
BEGIN:VEVENT
DTSTART;TZID=America/Los_Angeles:20260410T090000
DTEND;TZID=America/Los_Angeles:20260410T150000
DTSTAMP:20260425T090513
CREATED:20260323T202122Z
LAST-MODIFIED:20260323T202125Z
UID:10000715-1775811600-1775833200@gunownersradio.com
SUMMARY:Defensive Carbine Lvl l
DESCRIPTION:Join West Coast Kinetic Solutions for our upcoming Combat Carbine Level 1 training. Learn from our experienced U.S. Special Operations Instructors in areas such as Defensive Marksmanship\, multiple target engagement\, defensive drills\, rifle carries\, and shooting at short and mid-range distances. Get hands-on experience and enhance your skills in a dynamic and practical training environment. Don’t miss this opportunity to train with the best and take your marksmanship to the next level! \nGear List -water 1 gallon -food for lunch or snacks -sun block -gun belt/or kit with mag holsters or pouchs -rifle sling -shooting gloves -at least 2 rifle mags -400 rounds  -eye protection -ear protection -wear clothing for outdoors -range chair \nRegister on the WCKS Website →
URL:https://gunownersradio.com/event/defensive-carbine-lvl-l/
LOCATION:Fallbrook/Pala Area
CATEGORIES:Training
ATTACH;FMTTYPE=image/jpeg:https://gunownersradio.com/wp-content/uploads/2026/03/371210_c75dc7f58a05456eb91d69145d99dd94mv2-3.jpeg
END:VEVENT
BEGIN:VEVENT
DTSTART;TZID=America/Los_Angeles:20260404T083000
DTEND;TZID=America/Los_Angeles:20260404T163000
DTSTAMP:20260425T090513
CREATED:20260310T013322Z
LAST-MODIFIED:20260310T013328Z
UID:10000658-1775291400-1775320200@gunownersradio.com
SUMMARY:Defensive Vehicle Ballistics and Tactics
DESCRIPTION:Most firearms training happens standing still on a static range. Real defensive encounters don’t. Many happen in or around vehicles. \nIf you had to defend yourself from inside your car\, would you know what to do? \nHesitation when moments matter can cost lives. \nTRAIN IN & AROUND VEHICLES Built for responsible gun owners (especially CCW holders!) who already understand safe gun handling and want realistic\, applied training. \nThis is NOT a beginner course. \nYou will: – Train physically inside and around vehicles – Learn vehicle cover and ballistics – Use live fire for ballistic education – Run force-on-force scenarios with training aids – Make decisions under pressure in confined spaces – No square-range repetition. \nLED BY EXPERIENCE – 20 years in Marine Special Operations Command. – Marine Corps Master Instructor and Master Assaulter. – CQB Leader and Combat Marksmanship Instructor. – Six combat deployments. \nResponsible carriers should be truly prepared. \nLimited to 8 Students \nSmall class. Real reps. Direct coaching. \nREQUIRED GEAR – Gloves – Eye & hearing protection – Durable outdoor clothing (force-on-force capable) – Water\, lunch\, sunblock – 100 rounds – Pistol – Gun belt – Holster (concealed or high-vis) – 2 pistol mags – Mag holsters \nENROLL NOW Train for where it’s most likely to happen. \nRegister on the WCKS Website →
URL:https://gunownersradio.com/event/defensive-vehicle-ballistics-and-tactics/
LOCATION:Fallbrook Area
CATEGORIES:Training
ATTACH;FMTTYPE=image/png:https://gunownersradio.com/wp-content/uploads/2026/03/371210_5fa4923d19814479afac51c053cc165cmv2.png
END:VEVENT
BEGIN:VEVENT
DTSTART;TZID=America/Los_Angeles:20260327T090000
DTEND;TZID=America/Los_Angeles:20260327T140000
DTSTAMP:20260425T090513
CREATED:20260310T013320Z
LAST-MODIFIED:20260310T013321Z
UID:10000657-1774602000-1774620000@gunownersradio.com
SUMMARY:Defensive Pistol Lvl ll March 27
DESCRIPTION:Not a beginners course. Are you looking to speed up your combat marksmanship skills and self-defense abilities? Look no further than West Coast Kinetic Solutions. Our instructors bring 20 years of Special Operations experience to the table\, ensuring top-notch training. Dive into the fundamentals of combat marksmanship\, master pistol mechanics\, and hone your skills with immersive combat drills. Join us at West Coast Kinetic Solutions and elevate your training experience to the next level. \nGear List -Water 1 Gallon -Food for lunch or snacks -sun block -gun belt -holster -at least two pistol mags -pistol mag punches/holsters -at least 500 rounds of ammo -eye protection -hearing protection -wear clothing for out doors closed toe shoes \nRegister on the WCKS Website →
URL:https://gunownersradio.com/event/defensive-pistol-lvl-ll-march-27/
LOCATION:Fallbrook Area
CATEGORIES:Training
ATTACH;FMTTYPE=image/jpeg:https://gunownersradio.com/wp-content/uploads/2026/03/371210_c75dc7f58a05456eb91d69145d99dd94mv2.jpeg
END:VEVENT
BEGIN:VEVENT
DTSTART;TZID=America/Los_Angeles:20260314T090000
DTEND;TZID=America/Los_Angeles:20260314T140000
DTSTAMP:20260425T090513
CREATED:20260310T013319Z
LAST-MODIFIED:20260310T013319Z
UID:10000656-1773478800-1773496800@gunownersradio.com
SUMMARY:Defensive Pistol Lvl l March 14
DESCRIPTION:Are you a beginner looking to enhance your combat marksmanship skills and self-defense abilities? Look no further than West Coast Kinetic Solutions. Our instructors bring 20 years of Special Operations experience to the table\, ensuring top-notch training. Dive into the fundamentals of combat marksmanship\, master pistol mechanics\, and hone your skills with immersive combat drills. Join us at West Coast Kinetic Solutions and elevate your training experience to the next level. \nGear List -Water 1 Gallon -Food for lunch or snacks -sun block -gun belt -holster -at least two pistol mags -pistol mag punches/holsters -at least 300 rounds of ammo -eye protection -hearing protection -wear clothing for out doors closed toe shoes \nRegister on the WCKS Website →
URL:https://gunownersradio.com/event/defensive-pistol-lvl-l-march-14/
CATEGORIES:Training
ATTACH;FMTTYPE=image/jpeg:https://gunownersradio.com/wp-content/uploads/2026/03/371210_c75dc7f58a05456eb91d69145d99dd94mv2.jpeg
END:VEVENT
BEGIN:VEVENT
DTSTART;TZID=America/Los_Angeles:20260313T090000
DTEND;TZID=America/Los_Angeles:20260313T170000
DTSTAMP:20260425T090513
CREATED:20260310T013314Z
LAST-MODIFIED:20260310T013317Z
UID:10000655-1773392400-1773421200@gunownersradio.com
SUMMARY:CCW 16Hr March 13-14
DESCRIPTION:West Coast Kinetic Solutions offers premier 16-hour tactical training for San Diego CCW seekers. Our world-class instructors bring over 20 years of Special Operations experience to provide top-notch education and skill development. Join us to receive expert guidance and hands-on practice in a supportive and empowering environment. Elevate your training with West Coast Kinetic Solutions today. Gear List  -water 1 gallon -food for lunch or snacks -sun block -gun belt -concealed holster or outside the waist band holster or both -at least 2 pistol mags -pistol mag pouches/holsters -at least 150 rounds -eye protection -hearing protection -wear clothing for outdoors with closed toe shoes and under shirt \nRegister on the WCKS Website →
URL:https://gunownersradio.com/event/ccw-16hr-march-13-14/
CATEGORIES:Training
ATTACH;FMTTYPE=image/jpeg:https://gunownersradio.com/wp-content/uploads/2026/03/371210_c75dc7f58a05456eb91d69145d99dd94mv2.jpeg
END:VEVENT
END:VCALENDAR