BEGIN:VCALENDAR
VERSION:2.0
PRODID:-//Gun Owners Radio - ECPv6.15.18//NONSGML v1.0//EN
CALSCALE:GREGORIAN
METHOD:PUBLISH
X-ORIGINAL-URL:https://gunownersradio.com
X-WR-CALDESC:Events for Gun Owners Radio
REFRESH-INTERVAL;VALUE=DURATION:PT1H
X-Robots-Tag:noindex
X-PUBLISHED-TTL:PT1H
BEGIN:VTIMEZONE
TZID:UTC
BEGIN:STANDARD
TZOFFSETFROM:+0000
TZOFFSETTO:+0000
TZNAME:UTC
DTSTART:20220101T000000
END:STANDARD
END:VTIMEZONE
BEGIN:VEVENT
DTSTART;TZID=UTC:20230218T100000
DTEND;TZID=UTC:20230218T160000
DTSTAMP:20260424T162607
CREATED:20230213T201835Z
LAST-MODIFIED:20230213T201835Z
UID:10000077-1676714400-1676736000@gunownersradio.com
SUMMARY:Tabletop Ammo Bros Ontario
DESCRIPTION:
URL:https://gunownersradio.com/event/tabletop-ammo-bros-ontario/
LOCATION:Ammo Bros Ontario\, 780 S Rochester Ste A\, Ontario\, CA\, 91761\, United States
CATEGORIES:Booths,San Bernardino,Table Tops
ATTACH;FMTTYPE=image/png:https://gunownersradio.com/wp-content/uploads/2023/02/IEGO-logo-small-lp2mir.tmp_-e1768515386517.png
END:VEVENT
END:VCALENDAR