BEGIN:VCALENDAR
VERSION:2.0
PRODID:-//Gun Owners Radio - ECPv6.15.18//NONSGML v1.0//EN
CALSCALE:GREGORIAN
METHOD:PUBLISH
X-WR-CALNAME:Gun Owners Radio
X-ORIGINAL-URL:https://gunownersradio.com
X-WR-CALDESC:Events for Gun Owners Radio
REFRESH-INTERVAL;VALUE=DURATION:PT1H
X-Robots-Tag:noindex
X-PUBLISHED-TTL:PT1H
BEGIN:VTIMEZONE
TZID:America/Los_Angeles
BEGIN:DAYLIGHT
TZOFFSETFROM:-0800
TZOFFSETTO:-0700
TZNAME:PDT
DTSTART:20250309T100000
END:DAYLIGHT
BEGIN:STANDARD
TZOFFSETFROM:-0700
TZOFFSETTO:-0800
TZNAME:PST
DTSTART:20251102T090000
END:STANDARD
BEGIN:DAYLIGHT
TZOFFSETFROM:-0800
TZOFFSETTO:-0700
TZNAME:PDT
DTSTART:20260308T100000
END:DAYLIGHT
BEGIN:STANDARD
TZOFFSETFROM:-0700
TZOFFSETTO:-0800
TZNAME:PST
DTSTART:20261101T090000
END:STANDARD
BEGIN:DAYLIGHT
TZOFFSETFROM:-0800
TZOFFSETTO:-0700
TZNAME:PDT
DTSTART:20270314T100000
END:DAYLIGHT
BEGIN:STANDARD
TZOFFSETFROM:-0700
TZOFFSETTO:-0800
TZNAME:PST
DTSTART:20271107T090000
END:STANDARD
END:VTIMEZONE
BEGIN:VEVENT
DTSTART;TZID=America/Los_Angeles:20260530T093000
DTEND;TZID=America/Los_Angeles:20260530T153000
DTSTAMP:20260425T074044
CREATED:20260329T185817Z
LAST-MODIFIED:20260407T194408Z
UID:10000720-1780133400-1780155000@gunownersradio.com
SUMMARY:Stay Informed When Others Aren't: Tactical Communications & Signal Intelligence
DESCRIPTION:Stay informed when others aren’t. This hands-on training focuses on monitoring and interpreting real-world radio signals — learning to pick up transmissions happening all around you and developing situational awareness when traditional communications fail. \nWhat You’ll Learn: \n\nRadio signal monitoring using modern\, accessible tools\nTransmission identification and interpretation\nReal-time awareness during communications disruptions or network failures\nMeshtastic encrypted messaging via peer-to-peer mesh networks\n\nInstructor: John Baldwin — former Anti-Terrorism Force Protection Officer\, U.S. Coast Guard Licensed Captain\, with 20+ years of military and government experience in naval security and communications. \nPrerequisites: None. No HAM license required. \nRecommended Gear (optional): \n\nBaofeng UV-5R radio (pre-programmed units available in limited quantity)\nLilygo T-Echo Meshtastic device\n\nAttendees should bring their own lunch. Space is limited. \nRegister Now →
URL:https://gunownersradio.com/event/stay-informed-when-others-arent-tactical-communications-signal-intelligence/
LOCATION:C.A.R.G.O. – Cases and Rugged Gear Outfitters\, 423 Broadway\, El Cajon\, CA\, 92021\, US
CATEGORIES:Featured
ATTACH;FMTTYPE=image/png:https://gunownersradio.com/wp-content/uploads/2026/03/taccomsigint.png
END:VEVENT
END:VCALENDAR