BEGIN:VCALENDAR
VERSION:2.0
PRODID:-//Gun Owners Radio - ECPv6.15.18//NONSGML v1.0//EN
CALSCALE:GREGORIAN
METHOD:PUBLISH
X-WR-CALNAME:Gun Owners Radio
X-ORIGINAL-URL:https://gunownersradio.com
X-WR-CALDESC:Events for Gun Owners Radio
REFRESH-INTERVAL;VALUE=DURATION:PT1H
X-Robots-Tag:noindex
X-PUBLISHED-TTL:PT1H
BEGIN:VTIMEZONE
TZID:America/Los_Angeles
BEGIN:DAYLIGHT
TZOFFSETFROM:-0800
TZOFFSETTO:-0700
TZNAME:PDT
DTSTART:20220313T100000
END:DAYLIGHT
BEGIN:STANDARD
TZOFFSETFROM:-0700
TZOFFSETTO:-0800
TZNAME:PST
DTSTART:20221106T090000
END:STANDARD
BEGIN:DAYLIGHT
TZOFFSETFROM:-0800
TZOFFSETTO:-0700
TZNAME:PDT
DTSTART:20230312T100000
END:DAYLIGHT
BEGIN:STANDARD
TZOFFSETFROM:-0700
TZOFFSETTO:-0800
TZNAME:PST
DTSTART:20231105T090000
END:STANDARD
BEGIN:DAYLIGHT
TZOFFSETFROM:-0800
TZOFFSETTO:-0700
TZNAME:PDT
DTSTART:20240310T100000
END:DAYLIGHT
BEGIN:STANDARD
TZOFFSETFROM:-0700
TZOFFSETTO:-0800
TZNAME:PST
DTSTART:20241103T090000
END:STANDARD
BEGIN:DAYLIGHT
TZOFFSETFROM:-0800
TZOFFSETTO:-0700
TZNAME:PDT
DTSTART:20250309T100000
END:DAYLIGHT
BEGIN:STANDARD
TZOFFSETFROM:-0700
TZOFFSETTO:-0800
TZNAME:PST
DTSTART:20251102T090000
END:STANDARD
BEGIN:DAYLIGHT
TZOFFSETFROM:-0800
TZOFFSETTO:-0700
TZNAME:PDT
DTSTART:20260308T100000
END:DAYLIGHT
BEGIN:STANDARD
TZOFFSETFROM:-0700
TZOFFSETTO:-0800
TZNAME:PST
DTSTART:20261101T090000
END:STANDARD
BEGIN:DAYLIGHT
TZOFFSETFROM:-0800
TZOFFSETTO:-0700
TZNAME:PDT
DTSTART:20270314T100000
END:DAYLIGHT
BEGIN:STANDARD
TZOFFSETFROM:-0700
TZOFFSETTO:-0800
TZNAME:PST
DTSTART:20271107T090000
END:STANDARD
END:VTIMEZONE
BEGIN:VEVENT
DTSTART;TZID=America/Los_Angeles:20260418T100000
DTEND;TZID=America/Los_Angeles:20260418T160000
DTSTAMP:20260424T085443
CREATED:20260125T113051Z
LAST-MODIFIED:20260125T113051Z
UID:10000421-1776506400-1776528000@gunownersradio.com
SUMMARY:Discount Gun Mart Table Top
DESCRIPTION:The Tabletop program seems like an excellent way to engage with the community and raise awareness about important issues related to gun rights and safety\, as well as the work being done by SDCGO (San Diego County Gun Owners). By distributing printed materials\, signing up people for newsletters\, and recruiting new members\, you’ll be helping to spread valuable information and grow the organization’s influence.
URL:https://gunownersradio.com/event/discount-gun-mart-table-top-6/
LOCATION:Discount Gun Mart\, 1510 Morena Blvd\, San Diego\, CA\, 92115\, United States
CATEGORIES:San Diego County Gun Owners,SDCGO Events
ATTACH;FMTTYPE=image/jpeg:https://gunownersradio.com/wp-content/uploads/2025/03/922-scaled-QVJD2R.tmp_.jpg
ORGANIZER;CN="San Diego County Gun Owners":MAILTO:desiree@notmesd.org
END:VEVENT
BEGIN:VEVENT
DTSTART;TZID=America/Los_Angeles:20260321T100000
DTEND;TZID=America/Los_Angeles:20260321T170000
DTSTAMP:20260424T085443
CREATED:20260304T192003Z
LAST-MODIFIED:20260304T192003Z
UID:10000433-1774087200-1774112400@gunownersradio.com
SUMMARY:Discount GunMart Side Walk Sale
DESCRIPTION:The Tabletop program is our way of engaging with the Public around San Diego County on gun-related topics and letting them know there is hope! We speak about who SDCGO is and what we do\, CCW permits\, events\, lawsuits\, and of course the elections. You’ll be handing out printed materials\, collecting sign-ups for the newsletter\, and recruiting new members.
URL:https://gunownersradio.com/event/discount-gunmart-side-walk-sale/
LOCATION:Discount Gun Mart\, 1510 Morena Blvd\, San Diego\, CA\, 92115\, United States
CATEGORIES:San Diego County Gun Owners,SDCGO Events
ATTACH;FMTTYPE=image/jpeg:https://gunownersradio.com/wp-content/uploads/2025/04/920a-scaled-OH1zrW.tmp_.jpg
END:VEVENT
BEGIN:VEVENT
DTSTART;TZID=America/Los_Angeles:20250802T100000
DTEND;TZID=America/Los_Angeles:20250802T160000
DTSTAMP:20260424T085443
CREATED:20250504T000611Z
LAST-MODIFIED:20250504T000611Z
UID:10000363-1754128800-1754150400@gunownersradio.com
SUMMARY:Discount GunMart Table Top
DESCRIPTION:The Tabletop program seems like an excellent way to engage with the community and raise awareness about important issues related to gun rights and safety\, as well as the work being done by SDCGO (San Diego County Gun Owners). By distributing printed materials\, signing up people for newsletters\, and recruiting new members\, you’ll be helping to spread valuable information and grow the organization’s influence.
URL:https://gunownersradio.com/event/discount-gunmart-table-top-3/
LOCATION:Discount Gun Mart\, 1510 Morena Blvd\, San Diego\, CA\, 92115\, United States
CATEGORIES:San Diego County Gun Owners,SDCGO Events
ATTACH;FMTTYPE=image/jpeg:https://gunownersradio.com/wp-content/uploads/2025/04/920a-scaled-OH1zrW.tmp_.jpg
ORGANIZER;CN="San Diego County Gun Owners":MAILTO:desiree@notmesd.org
END:VEVENT
BEGIN:VEVENT
DTSTART;TZID=America/Los_Angeles:20250517T100000
DTEND;TZID=America/Los_Angeles:20250517T160000
DTSTAMP:20260424T085443
CREATED:20250327T042245Z
LAST-MODIFIED:20250327T042245Z
UID:10000344-1747476000-1747497600@gunownersradio.com
SUMMARY:Discount GunMart Table Top
DESCRIPTION:The Tabletop program seems like an excellent way to engage with the community and raise awareness about important issues related to gun rights and safety\, as well as the work being done by SDCGO (San Diego County Gun Owners). By distributing printed materials\, signing up people for newsletters\, and recruiting new members\, you’ll be helping to spread valuable information and grow the organization’s influence.
URL:https://gunownersradio.com/event/discount-gunmart-table-top-2/
LOCATION:Discount Gun Mart\, 1510 Morena Blvd\, San Diego\, CA\, 92115\, United States
CATEGORIES:San Diego County Gun Owners,SDCGO Events
ATTACH;FMTTYPE=image/jpeg:https://gunownersradio.com/wp-content/uploads/2025/03/922-scaled-QVJD2R.tmp_.jpg
ORGANIZER;CN="San Diego County Gun Owners":MAILTO:desiree@notmesd.org
END:VEVENT
BEGIN:VEVENT
DTSTART;TZID=America/Los_Angeles:20250416T173000
DTEND;TZID=America/Los_Angeles:20250416T193000
DTSTAMP:20260424T085443
CREATED:20250327T040722Z
LAST-MODIFIED:20250327T040722Z
UID:10000340-1744824600-1744831800@gunownersradio.com
SUMMARY:Ladies ONLY -Protect Yourself with Confidence!
DESCRIPTION:Learn practical skills and real-world decision-making in our Image-Based Decisional Drills Course. This course will help you quickly assess situations and make decisive choices under pressure. You’ll work through various scenarios with options such as: \n✅ Escaping safely\n✅ Issuing verbal commands to deter an attacker\n✅ Calling 911 for assistance\n✅ Deploying self-defense tools like flashlights\, pepper spray\, or\, if necessary\, lethal force \nNo matter your background or experience level\, our expert instructors will guide you in building the confidence to react effectively—because in critical moments\, every second counts. \nWe’ll also cover the crucial steps to take after defending yourself. Should you call 911 immediately? Should you stay or leave the scene? What legal actions should you take? \nJoin us as special guest Gary Gibson\, Second Amendment Attorney\, shares essential insights on the legal do’s and don’ts following a self-defense incident. With extensive experience defending individuals who have had to use their firearms in self-defense\, Gary will provide expert guidance to help you navigate the legal aftermath with confidence. \nTake control of your safety—equip yourself with the knowledge and skills to make smart\, confident decisions.
URL:https://gunownersradio.com/event/ladies-only-protect-yourself-with-confidence/
LOCATION:Discount Gun Mart\, 1510 Morena Blvd\, San Diego\, CA\, 92115\, United States
CATEGORIES:San Diego County Gun Owners,SDCGO Events
ATTACH;FMTTYPE=image/jpeg:https://gunownersradio.com/wp-content/uploads/2025/03/NotMeSD-Ladies-XpDfYU.tmp_.jpg
ORGANIZER;CN="NotMeSD":MAILTO:desiree@notmesd.org
END:VEVENT
BEGIN:VEVENT
DTSTART;TZID=America/Los_Angeles:20240518T100000
DTEND;TZID=America/Los_Angeles:20240518T160000
DTSTAMP:20260424T085443
CREATED:20240218T013449Z
LAST-MODIFIED:20240218T013449Z
UID:10000313-1716026400-1716048000@gunownersradio.com
SUMMARY:Discount Gun Mart Table Top
DESCRIPTION:The Tabletop program is our way of engaging with the Public around San Diego County on gun-related topics and letting them know there is hope! We speak about who SDCGO is and what we do\, CCW permits\, events\, lawsuits\, and of course the elections. You’ll be handing out printed materials\, collecting sign-ups for the newsletter\, and recruiting new members.
URL:https://gunownersradio.com/event/discount-gun-mart-table-top-5/
LOCATION:Discount Gun Mart\, 1510 Morena Blvd\, San Diego\, CA\, 92115\, United States
CATEGORIES:San Diego County Gun Owners,SDCGO Events
ATTACH;FMTTYPE=image/jpeg:https://gunownersradio.com/wp-content/uploads/2023/12/TT1-scaled-B1PJbF.tmp_.jpg
ORGANIZER;CN="San Diego County Gun Owners":MAILTO:desiree@notmesd.org
END:VEVENT
BEGIN:VEVENT
DTSTART;TZID=America/Los_Angeles:20240320T180000
DTEND;TZID=America/Los_Angeles:20240320T193000
DTSTAMP:20260424T085443
CREATED:20240305T023316Z
LAST-MODIFIED:20240305T023316Z
UID:10000318-1710957600-1710963000@gunownersradio.com
SUMMARY:March Monthly Meeting – Central
DESCRIPTION:Come see how you can be the change you want to see in San Diego and California. Meet other Second Amendment advocates and learn how you can be effective and help get the right people elected. \nYou do not have to be a member to attend. There is no cost for this event. \nPizza is served around 6. The meeting starts at 6:30. \n2A Small Business Show and Tell  \nAre you pro-Second Amendment and a small business owner? Join us at our monthly meeting and you will be given an opportunity to promote your business. Bring your flyers and business cards to hand out and join us for our SDCGO small business networking opportunity. \nDid you miss your chance to buy a raffle ticket for NotMeCA at the Gun Show to enter your chance to win 1 of 10 ARs? Raffle tickets will be sold at each meeting and the winners will be drawn at Thursday night’s monthly meeting at La Bella Pizza.
URL:https://gunownersradio.com/event/march-monthly-meeting-central/
LOCATION:Discount Gun Mart\, 1510 Morena Blvd\, San Diego\, CA\, 92115\, United States
CATEGORIES:Monthly Meetings,San Diego County Gun Owners,SDCGO Events
ATTACH;FMTTYPE=image/png:https://gunownersradio.com/wp-content/uploads/2024/03/Copy-of-Central-Meeting-RTLg76.tmp_.png
ORGANIZER;CN="San Diego County Gun Owners":MAILTO:desiree@notmesd.org
END:VEVENT
BEGIN:VEVENT
DTSTART;TZID=America/Los_Angeles:20240316T100000
DTEND;TZID=America/Los_Angeles:20240316T170000
DTSTAMP:20260424T085443
CREATED:20240308T233022Z
LAST-MODIFIED:20240308T233022Z
UID:10000320-1710583200-1710608400@gunownersradio.com
SUMMARY:Discount GunMart Side Walk Sale Table Top
DESCRIPTION:The Tabletop program is our way of engaging with the Public around San Diego County on gun-related topics and letting them know there is hope! We speak about who SDCGO is and what we do\, CCW permits\, events\, lawsuits\, and of course the elections. You’ll be handing out printed materials\, collecting sign-ups for the newsletter\, and recruiting new members.
URL:https://gunownersradio.com/event/discount-gunmart-side-walk-sale-table-top/
LOCATION:Discount Gun Mart\, 1510 Morena Blvd\, San Diego\, CA\, 92115\, United States
CATEGORIES:San Diego County Gun Owners,SDCGO Events
ATTACH;FMTTYPE=image/jpeg:https://gunownersradio.com/wp-content/uploads/2023/12/TT2-scaled-ejzaWT.tmp_.jpg
ORGANIZER;CN="San Diego County Gun Owners":MAILTO:desiree@notmesd.org
END:VEVENT
BEGIN:VEVENT
DTSTART;TZID=America/Los_Angeles:20240316T080000
DTEND;TZID=America/Los_Angeles:20240316T100000
DTSTAMP:20260424T085443
CREATED:20231220T003206Z
LAST-MODIFIED:20231220T003206Z
UID:10000288-1710576000-1710583200@gunownersradio.com
SUMMARY:BiPoc Shooting Social
DESCRIPTION:Be a mentor at our SDCGO shooting social for our BiPoc group! \nBring a handgun (9mm or .22LR preferred) for the guest to use\, and walk them through shooting ~50 rounds of ammo.
URL:https://gunownersradio.com/event/bipoc-shooting-social-4/
LOCATION:Discount Gun Mart\, 1510 Morena Blvd\, San Diego\, CA\, 92115\, United States
CATEGORIES:San Diego County Gun Owners
ATTACH;FMTTYPE=image/jpeg:https://gunownersradio.com/wp-content/uploads/2023/12/gun-jMbRz7.tmp_.jpg
ORGANIZER;CN="San Diego County Gun Owners":MAILTO:desiree@notmesd.org
END:VEVENT
BEGIN:VEVENT
DTSTART;TZID=America/Los_Angeles:20240309T100000
DTEND;TZID=America/Los_Angeles:20240309T160000
DTSTAMP:20260424T085443
CREATED:20231222T213504Z
LAST-MODIFIED:20231222T213504Z
UID:10000294-1709978400-1710000000@gunownersradio.com
SUMMARY:Discount GunMart Table Top
DESCRIPTION:The Tabletop program is our way of engaging with the Public around San Diego County on gun-related topics and letting them know there is hope! We speak about who SDCGO is and what we do\, CCW permits\, events\, lawsuits\, and of course the elections. You’ll be handing out printed materials\, collecting sign-ups for the newsletter\, and recruiting new members.
URL:https://gunownersradio.com/event/discount-gunmart-table-top/
LOCATION:Discount Gun Mart\, 1510 Morena Blvd\, San Diego\, CA\, 92115\, United States
CATEGORIES:San Diego County Gun Owners,SDCGO Events
ATTACH;FMTTYPE=image/jpeg:https://gunownersradio.com/wp-content/uploads/2023/12/Photo-JRrQVV.tmp_.jpg
ORGANIZER;CN="San Diego County Gun Owners":MAILTO:desiree@notmesd.org
END:VEVENT
BEGIN:VEVENT
DTSTART;TZID=America/Los_Angeles:20240117T180000
DTEND;TZID=America/Los_Angeles:20240117T193000
DTSTAMP:20260424T085443
CREATED:20240102T193449Z
LAST-MODIFIED:20240102T193449Z
UID:10000297-1705514400-1705519800@gunownersradio.com
SUMMARY:Monthly Meeting – Central
DESCRIPTION:Come see how you can be the change you want to see in San Diego and California. Meet other Second Amendment advocates and learn how you can be effective and help get the right people elected.\nYou do not have to be a member to attend. There is no cost for this event.\nPizza is served around 6. The meeting starts at 6:30.\nSpecial Guest: Brian Pepin
URL:https://gunownersradio.com/event/monthly-meeting-central-5/
LOCATION:Discount Gun Mart\, 1510 Morena Blvd\, San Diego\, CA\, 92115\, United States
CATEGORIES:Monthly Meetings,San Diego County Gun Owners,SDCGO Events
ATTACH;FMTTYPE=image/jpeg:https://gunownersradio.com/wp-content/uploads/2024/01/Jan_Central_1_v01-2-Se8biq.tmp_.jpg
ORGANIZER;CN="San Diego County Gun Owners":MAILTO:desiree@notmesd.org
END:VEVENT
BEGIN:VEVENT
DTSTART;TZID=America/Los_Angeles:20231118T100000
DTEND;TZID=America/Los_Angeles:20231118T160000
DTSTAMP:20260424T085443
CREATED:20230820T005111Z
LAST-MODIFIED:20230820T005111Z
UID:10000219-1700301600-1700323200@gunownersradio.com
SUMMARY:Discount Gun Mart Table Top
DESCRIPTION:
URL:https://gunownersradio.com/event/discount-gun-mart-table-top-4/
LOCATION:Discount Gun Mart\, 1510 Morena Blvd\, San Diego\, CA\, 92115\, United States
CATEGORIES:San Diego County Gun Owners
ATTACH;FMTTYPE=image/jpeg:https://gunownersradio.com/wp-content/uploads/2023/02/TT3-rFzBHb.tmp_.jpg
ORGANIZER;CN="San Diego County Gun Owners":MAILTO:desiree@notmesd.org
END:VEVENT
BEGIN:VEVENT
DTSTART;TZID=America/Los_Angeles:20231101T173000
DTEND;TZID=America/Los_Angeles:20231101T190000
DTSTAMP:20260424T085443
CREATED:20231017T223942Z
LAST-MODIFIED:20231017T223942Z
UID:10000246-1698859800-1698865200@gunownersradio.com
SUMMARY:Legal Self-Defense Class
DESCRIPTION:
URL:https://gunownersradio.com/event/legal-self-defense-class/
LOCATION:Discount Gun Mart\, 1510 Morena Blvd\, San Diego\, CA\, 92115\, United States
CATEGORIES:San Diego County Gun Owners,SDCGO Events
ATTACH;FMTTYPE=image/png:https://gunownersradio.com/wp-content/uploads/2023/10/Self-Defense-G0lLp8.tmp_.png
ORGANIZER;CN="San Diego County Gun Owners":MAILTO:desiree@notmesd.org
END:VEVENT
BEGIN:VEVENT
DTSTART;TZID=America/Los_Angeles:20231021T080000
DTEND;TZID=America/Los_Angeles:20231021T170000
DTSTAMP:20260424T085443
CREATED:20231012T001545Z
LAST-MODIFIED:20231012T001545Z
UID:10000245-1697875200-1697907600@gunownersradio.com
SUMMARY:10/21 BiPoc Shooting Social
DESCRIPTION:
URL:https://gunownersradio.com/event/10-21-bipoc-shooting-social/
LOCATION:Discount Gun Mart\, 1510 Morena Blvd\, San Diego\, CA\, 92115\, United States
CATEGORIES:San Diego County Gun Owners
ORGANIZER;CN="San Diego County Gun Owners":MAILTO:desiree@notmesd.org
END:VEVENT
BEGIN:VEVENT
DTSTART;TZID=America/Los_Angeles:20231018T180000
DTEND;TZID=America/Los_Angeles:20231018T193000
DTSTAMP:20260424T085443
CREATED:20231001T192641Z
LAST-MODIFIED:20231001T192641Z
UID:10000241-1697652000-1697657400@gunownersradio.com
SUMMARY:October Monthly Meeting – Central
DESCRIPTION:
URL:https://gunownersradio.com/event/october-monthly-meeting-central/
LOCATION:Discount Gun Mart\, 1510 Morena Blvd\, San Diego\, CA\, 92115\, United States
CATEGORIES:Monthly Meetings,San Diego County Gun Owners,SDCGO Events
ATTACH;FMTTYPE=image/jpeg:https://gunownersradio.com/wp-content/uploads/2023/10/OCt-Central-nvZMAa.tmp_.jpg
ORGANIZER;CN="San Diego County Gun Owners":MAILTO:desiree@notmesd.org
END:VEVENT
BEGIN:VEVENT
DTSTART;TZID=America/Los_Angeles:20230819T080000
DTEND;TZID=America/Los_Angeles:20230819T100000
DTSTAMP:20260424T085443
CREATED:20230720T195823Z
LAST-MODIFIED:20230720T195823Z
UID:10000212-1692432000-1692439200@gunownersradio.com
SUMMARY:BiPoc Shooting Social
DESCRIPTION:
URL:https://gunownersradio.com/event/bipoc-shooting-social-3/
LOCATION:Discount Gun Mart\, 1510 Morena Blvd\, San Diego\, CA\, 92115\, United States
CATEGORIES:San Diego County Gun Owners,Shooting Socials
ATTACH;FMTTYPE=image/jpeg:https://gunownersradio.com/wp-content/uploads/2023/06/Shooting-Social-5-Z5XM15.tmp_.jpg
ORGANIZER;CN="San Diego County Gun Owners":MAILTO:desiree@notmesd.org
END:VEVENT
BEGIN:VEVENT
DTSTART;TZID=America/Los_Angeles:20230708T100000
DTEND;TZID=America/Los_Angeles:20230708T160000
DTSTAMP:20260424T085443
CREATED:20230520T185041Z
LAST-MODIFIED:20230520T185041Z
UID:10000164-1688810400-1688832000@gunownersradio.com
SUMMARY:Discount Gun Mart Table Top
DESCRIPTION:
URL:https://gunownersradio.com/event/discount-gun-mart-table-top-3/
LOCATION:Discount Gun Mart\, 1510 Morena Blvd\, San Diego\, CA\, 92115\, United States
CATEGORIES:San Diego County Gun Owners
ATTACH;FMTTYPE=image/jpeg:https://gunownersradio.com/wp-content/uploads/2023/02/TT2-scaled-qPoPzs.tmp_.jpg
ORGANIZER;CN="San Diego County Gun Owners":MAILTO:desiree@notmesd.org
END:VEVENT
BEGIN:VEVENT
DTSTART;TZID=America/Los_Angeles:20230617T080000
DTEND;TZID=America/Los_Angeles:20230617T100000
DTSTAMP:20260424T085443
CREATED:20230611T024743Z
LAST-MODIFIED:20230611T024743Z
UID:10000193-1686988800-1686996000@gunownersradio.com
SUMMARY:BiPoc Shooting Social
DESCRIPTION:
URL:https://gunownersradio.com/event/bipoc-shooting-social-2/
LOCATION:Discount Gun Mart\, 1510 Morena Blvd\, San Diego\, CA\, 92115\, United States
CATEGORIES:San Diego County Gun Owners
ATTACH;FMTTYPE=image/bmp:https://gunownersradio.com/wp-content/uploads/2023/06/gunclub_3_t800-4F5XiR.tmp_.bmp
ORGANIZER;CN="San Diego County Gun Owners":MAILTO:desiree@notmesd.org
END:VEVENT
BEGIN:VEVENT
DTSTART;TZID=America/Los_Angeles:20230517T180000
DTEND;TZID=America/Los_Angeles:20230517T193000
DTSTAMP:20260424T085443
CREATED:20230520T174716Z
LAST-MODIFIED:20230520T174716Z
UID:10000147-1684346400-1684351800@gunownersradio.com
SUMMARY:Monthly Meeting – Central
DESCRIPTION:
URL:https://gunownersradio.com/event/monthly-meeting-central-2/
LOCATION:Discount Gun Mart\, 1510 Morena Blvd\, San Diego\, CA\, 92115\, United States
CATEGORIES:San Diego County Gun Owners
ATTACH;FMTTYPE=image/jpeg:https://gunownersradio.com/wp-content/uploads/2023/05/May_Central_1_v01-uF3tWP.tmp_.jpg
ORGANIZER;CN="San Diego County Gun Owners":MAILTO:desiree@notmesd.org
END:VEVENT
BEGIN:VEVENT
DTSTART;TZID=America/Los_Angeles:20230513T100000
DTEND;TZID=America/Los_Angeles:20230513T160000
DTSTAMP:20260424T085443
CREATED:20230222T134800Z
LAST-MODIFIED:20230222T134800Z
UID:10000122-1683972000-1683993600@gunownersradio.com
SUMMARY:Discount Gun Mart Table Top
DESCRIPTION:
URL:https://gunownersradio.com/event/discount-gun-mart-table-top-2/
LOCATION:Discount Gun Mart\, 1510 Morena Blvd\, San Diego\, CA\, 92115\, United States
CATEGORIES:San Diego County Gun Owners
ATTACH;FMTTYPE=image/jpeg:https://gunownersradio.com/wp-content/uploads/2023/02/TT1-scaled-3IPAqd.tmp_.jpg
ORGANIZER;CN="San Diego County Gun Owners":MAILTO:desiree@notmesd.org
END:VEVENT
BEGIN:VEVENT
DTSTART;TZID=America/Los_Angeles:20230311T100000
DTEND;TZID=America/Los_Angeles:20230311T160000
DTSTAMP:20260424T085443
CREATED:20230213T202034Z
LAST-MODIFIED:20230213T202034Z
UID:10000104-1678528800-1678550400@gunownersradio.com
SUMMARY:Discount Gun Mart Table Top
DESCRIPTION:
URL:https://gunownersradio.com/event/discount-gun-mart-table-top/
LOCATION:Discount Gun Mart\, 1510 Morena Blvd\, San Diego\, CA\, 92115\, United States
ATTACH;FMTTYPE=image/jpeg:https://gunownersradio.com/wp-content/uploads/2023/02/TT3-rFzBHb.tmp_.jpg
ORGANIZER;CN="San Diego County Gun Owners":MAILTO:desiree@notmesd.org
END:VEVENT
BEGIN:VEVENT
DTSTART;TZID=America/Los_Angeles:20230218T074500
DTEND;TZID=America/Los_Angeles:20230218T100000
DTSTAMP:20260424T085443
CREATED:20230213T202006Z
LAST-MODIFIED:20230213T202006Z
UID:10000093-1676706300-1676714400@gunownersradio.com
SUMMARY:BIPOC Shooting Social
DESCRIPTION:
URL:https://gunownersradio.com/event/bipoc-shooting-social/
LOCATION:Discount Gun Mart\, 1510 Morena Blvd\, San Diego\, CA\, 92115\, United States
ORGANIZER;CN="San Diego County Gun Owners":MAILTO:desiree@notmesd.org
END:VEVENT
END:VCALENDAR