BEGIN:VCALENDAR
VERSION:2.0
PRODID:-//Gun Owners Radio - ECPv6.15.18//NONSGML v1.0//EN
CALSCALE:GREGORIAN
METHOD:PUBLISH
X-WR-CALNAME:Gun Owners Radio
X-ORIGINAL-URL:https://gunownersradio.com
X-WR-CALDESC:Events for Gun Owners Radio
REFRESH-INTERVAL;VALUE=DURATION:PT1H
X-Robots-Tag:noindex
X-PUBLISHED-TTL:PT1H
BEGIN:VTIMEZONE
TZID:America/Los_Angeles
BEGIN:DAYLIGHT
TZOFFSETFROM:-0800
TZOFFSETTO:-0700
TZNAME:PDT
DTSTART:20250309T100000
END:DAYLIGHT
BEGIN:STANDARD
TZOFFSETFROM:-0700
TZOFFSETTO:-0800
TZNAME:PST
DTSTART:20251102T090000
END:STANDARD
BEGIN:DAYLIGHT
TZOFFSETFROM:-0800
TZOFFSETTO:-0700
TZNAME:PDT
DTSTART:20260308T100000
END:DAYLIGHT
BEGIN:STANDARD
TZOFFSETFROM:-0700
TZOFFSETTO:-0800
TZNAME:PST
DTSTART:20261101T090000
END:STANDARD
BEGIN:DAYLIGHT
TZOFFSETFROM:-0800
TZOFFSETTO:-0700
TZNAME:PDT
DTSTART:20270314T100000
END:DAYLIGHT
BEGIN:STANDARD
TZOFFSETFROM:-0700
TZOFFSETTO:-0800
TZNAME:PST
DTSTART:20271107T090000
END:STANDARD
END:VTIMEZONE
BEGIN:VEVENT
DTSTART;TZID=America/Los_Angeles:20260628T130000
DTEND;TZID=America/Los_Angeles:20260628T150000
DTSTAMP:20260425T074328
CREATED:20260415T153116Z
LAST-MODIFIED:20260415T153121Z
UID:10000752-1782651600-1782658800@gunownersradio.com
SUMMARY:Stop The Bleed & Advanced Tourniquet Use
DESCRIPTION:Receive a STOP THE BLEED certification and advanced training on the various types of tourniquets. Learn which tourniquets are best for you and which ones to avoid. Learn the importance of sopping blood loss and how to apply pressure\, pack a wound and apply all major types of tourniquets. \nRegister on USCCA →
URL:https://gunownersradio.com/event/stop-the-bleed-advanced-tourniquet-use-2/
LOCATION:Personal Protection Academy — 40685 California Oaks Rd.\, Suite E\, Murrieta\, CA\, 92562
CATEGORIES:Training
ATTACH;FMTTYPE=image/jpeg:https://gunownersradio.com/wp-content/uploads/2026/04/CvAbPTmsGvs4E0JTEyfmhyicHJiX2S0S_20240227095030498646.jpeg
END:VEVENT
BEGIN:VEVENT
DTSTART;TZID=America/Los_Angeles:20260706T080000
DTEND;TZID=America/Los_Angeles:20260707T170000
DTSTAMP:20260425T074328
CREATED:20260310T005927Z
LAST-MODIFIED:20260310T005933Z
UID:10000511-1783324800-1783443600@gunownersradio.com
SUMMARY:Become An NRA Pistol Instructor - Certified Instructor Course
DESCRIPTION:This class includes all three classes you need to become an NRA Certified Pistol Instructor. In two intense days\, you will take NRA Basic Pistol\, Basic Instructor Training (BIT) and NRA Pistol Instructor. All three courses are required by the NRA to become an NRA Certified Pistol Instructor. \nEmail us if you already have one of the parts completed and we can generate a separate payment method and price for you. \nYou must have a level 4 in the shooting qualification to participate in the Instructor course. If you have previously taken the Basic Pistol course\, you must produce your completion certificate showing your level 4 achievement. If you take the Basic Pistol in conjunction with the Instructor course\, you must achieve level 4 in the shooting qualification to participate in day two. \nRegister on USCCA →
URL:https://gunownersradio.com/event/become-an-nra-pistol-instructor-certified-instructor-course/
LOCATION:Personal Protection Academy — 40685 California Oaks Rd.\, Suite E\, Murrieta\, CA\, 92562
CATEGORIES:Training
ATTACH;FMTTYPE=image/png:https://gunownersradio.com/wp-content/uploads/2026/03/LG6hVvuOWnxitlBHJlinFvQiMN71eOAh_20231127131913605916.png
END:VEVENT
BEGIN:VEVENT
DTSTART;TZID=America/Los_Angeles:20260717T180000
DTEND;TZID=America/Los_Angeles:20260717T200000
DTSTAMP:20260425T074328
CREATED:20260422T153258Z
LAST-MODIFIED:20260422T153313Z
UID:10000767-1784311200-1784318400@gunownersradio.com
SUMMARY:Handgun Seminar: Dry Fire Practice
DESCRIPTION:Learn to improve your shooting dramatically by safely dryfiring in your home\, hotel or office. Learn to use techniques\, drills and technology. Save money on ammunition. Practice in the comfort of your home. Become a better shooter. \nRegister on USCCA →
URL:https://gunownersradio.com/event/handgun-seminar-dry-fire-practice-2/
LOCATION:Personal Protection Academy — 40685 California Oaks Rd.\, Suite E\, Murrieta\, CA\, 92562
CATEGORIES:Training
ATTACH;FMTTYPE=image/jpeg:https://gunownersradio.com/wp-content/uploads/2026/04/VfKqZiXsNFu4A2p0s6PAE1VAIOFQ3TBn_20230425120628765279.jpeg
END:VEVENT
BEGIN:VEVENT
DTSTART;TZID=America/Los_Angeles:20260806T080000
DTEND;TZID=America/Los_Angeles:20260807T170000
DTSTAMP:20260425T074328
CREATED:20260407T214059Z
LAST-MODIFIED:20260407T214102Z
UID:10000741-1786003200-1786122000@gunownersradio.com
SUMMARY:NRA Personal Protection In The Home Instructor
DESCRIPTION:This 17-hour course teaches the knowledge\, skills and attitude essential to organizing\, promoting and teaching the NRA Basic Personal Protection In The Home course. \nRegister on USCCA →
URL:https://gunownersradio.com/event/nra-personal-protection-in-the-home-instructor-2/
LOCATION:Personal Protection Academy — 40685 California Oaks Rd.\, Suite E\, Murrieta\, CA\, 92562
CATEGORIES:Training
ATTACH;FMTTYPE=image/jpeg:https://gunownersradio.com/wp-content/uploads/2026/04/nWpR9031C4VhEFepcjHnxsEtYUoyO3On_20240402015535120335.jpeg
END:VEVENT
BEGIN:VEVENT
DTSTART;TZID=America/Los_Angeles:20260808T080000
DTEND;TZID=America/Los_Angeles:20260808T180000
DTSTAMP:20260425T074328
CREATED:20260310T235326Z
LAST-MODIFIED:20260310T235337Z
UID:10000683-1786176000-1786212000@gunownersradio.com
SUMMARY:CA Fish & Wildlife Hunter Education Course For Hunting License
DESCRIPTION:This is a California Department of Fish & Wildlife certified Hunter Education course. Successful completion of this course will provide a California hunting license to the participant. \nRegister on USCCA →
URL:https://gunownersradio.com/event/ca-fish-wildlife-hunter-education-course-for-hunting-license/
LOCATION:Personal Protection Academy — 40685 California Oaks Rd.\, Suite E\, Murrieta\, CA\, 92562
CATEGORIES:Training
ATTACH;FMTTYPE=image/jpeg:https://gunownersradio.com/wp-content/uploads/2026/03/DKARGRR1gOH7dxwDErdxchkuA7Cjy0uk_20230401223931413773-3.jpeg
END:VEVENT
BEGIN:VEVENT
DTSTART;TZID=America/Los_Angeles:20261005T080000
DTEND;TZID=America/Los_Angeles:20261006T170000
DTSTAMP:20260425T074328
CREATED:20260310T010025Z
LAST-MODIFIED:20260310T010029Z
UID:10000523-1791187200-1791306000@gunownersradio.com
SUMMARY:NRA Rifle Instructor
DESCRIPTION:This 2-day course teaches the knowledge\, skills and attitude essential to organizing\, promoting and teaching the NRA Rifle course. \nRegister on USCCA →
URL:https://gunownersradio.com/event/nra-rifle-instructor/
LOCATION:Personal Protection Academy — 40685 California Oaks Rd.\, Suite E\, Murrieta\, CA\, 92562
CATEGORIES:Training
ATTACH;FMTTYPE=image/png:https://gunownersradio.com/wp-content/uploads/2026/03/3MFvN6L5yxyIbZx4KTEfcSfU8sylCEF5_20241224202240180769.png
END:VEVENT
END:VCALENDAR